BEGIN:VCALENDAR
VERSION:2.0
PRODID:-//destination.one//NONSGML destination.meta API//DE
X-WR-CALDESC:A calendar powered by destination.meta
X-WR-CALNAME:teutonavigator Kalender via destination.meta
BEGIN:VEVENT
CATEGORIES:Sport/Freizeit
DESCRIPTION:Seniorengymnastik für Gäste und Einwohner/innen jeweils montags
  und mittwochs ab 9:45 Uhr im Haus des Gastes Bad Holzhausen.\n\nmehr Info
 rmationen unter http://pages.destination.one/de/teutonavigator/streaming/d
 etail/Event/e_100553126/seniorengymnastik
DTEND;TZID=Europe/Berlin:20230130T103000
DTSTAMP:20260421T124123Z
DTSTART;TZID=Europe/Berlin:20230130T094500
GEO:52.286531;8.532777
LOCATION:Haus des Gastes Bad Holzhausen\, Hudenbeck 2\, Preußisch Oldendorf
ORGANIZER;CN=Touristik Preußisch Oldendorf:mailto:touristik@preussischolden
 dorf.de
RRULE:FREQ=WEEKLY;UNTIL=20230409T083000;BYDAY=MO,WE
SEQUENCE:0
SUMMARY:Seniorengymnastik
UID:e_100553126_iv0
URL:http://pages.destination.one/de/teutonavigator/streaming/detail/Event/e
 _100553126/seniorengymnastik
END:VEVENT
BEGIN:VEVENT
CATEGORIES:Sport/Freizeit
DESCRIPTION:Seniorengymnastik für Gäste und Einwohner/innen jeweils montags
  und mittwochs ab 9:45 Uhr im Haus des Gastes Bad Holzhausen.\n\nmehr Info
 rmationen unter http://pages.destination.one/de/teutonavigator/streaming/d
 etail/Event/e_100553126/seniorengymnastik
DTEND;TZID=Europe/Berlin:20230411T103000
DTSTAMP:20260421T124123Z
DTSTART;TZID=Europe/Berlin:20230411T094500
GEO:52.286531;8.532777
LOCATION:Haus des Gastes Bad Holzhausen\, Hudenbeck 2\, Preußisch Oldendorf
ORGANIZER;CN=Touristik Preußisch Oldendorf:mailto:touristik@preussischolden
 dorf.de
RRULE:FREQ=WEEKLY;UNTIL=20230430T083000;BYDAY=MO,WE
SEQUENCE:0
SUMMARY:Seniorengymnastik
UID:e_100553126_iv1
URL:http://pages.destination.one/de/teutonavigator/streaming/detail/Event/e
 _100553126/seniorengymnastik
END:VEVENT
BEGIN:VEVENT
CATEGORIES:Sport/Freizeit
DESCRIPTION:Seniorengymnastik für Gäste und Einwohner/innen jeweils montags
  und mittwochs ab 9:45 Uhr im Haus des Gastes Bad Holzhausen.\n\nmehr Info
 rmationen unter http://pages.destination.one/de/teutonavigator/streaming/d
 etail/Event/e_100553126/seniorengymnastik
DTEND;TZID=Europe/Berlin:20230502T103000
DTSTAMP:20260421T124123Z
DTSTART;TZID=Europe/Berlin:20230502T094500
GEO:52.286531;8.532777
LOCATION:Haus des Gastes Bad Holzhausen\, Hudenbeck 2\, Preußisch Oldendorf
ORGANIZER;CN=Touristik Preußisch Oldendorf:mailto:touristik@preussischolden
 dorf.de
RRULE:FREQ=WEEKLY;UNTIL=20230528T083000;BYDAY=MO,WE
SEQUENCE:0
SUMMARY:Seniorengymnastik
UID:e_100553126_iv2
URL:http://pages.destination.one/de/teutonavigator/streaming/detail/Event/e
 _100553126/seniorengymnastik
END:VEVENT
BEGIN:VEVENT
CATEGORIES:Sport/Freizeit
DESCRIPTION:Seniorengymnastik für Gäste und Einwohner/innen jeweils montags
  und mittwochs ab 9:45 Uhr im Haus des Gastes Bad Holzhausen.\n\nmehr Info
 rmationen unter http://pages.destination.one/de/teutonavigator/streaming/d
 etail/Event/e_100553126/seniorengymnastik
DTEND;TZID=Europe/Berlin:20230530T103000
DTSTAMP:20260421T124123Z
DTSTART;TZID=Europe/Berlin:20230530T094500
GEO:52.286531;8.532777
LOCATION:Haus des Gastes Bad Holzhausen\, Hudenbeck 2\, Preußisch Oldendorf
ORGANIZER;CN=Touristik Preußisch Oldendorf:mailto:touristik@preussischolden
 dorf.de
RRULE:FREQ=WEEKLY;UNTIL=20231031T093000;BYDAY=MO,WE
SEQUENCE:0
SUMMARY:Seniorengymnastik
UID:e_100553126_iv3
URL:http://pages.destination.one/de/teutonavigator/streaming/detail/Event/e
 _100553126/seniorengymnastik
END:VEVENT
BEGIN:VEVENT
CATEGORIES:Sport/Freizeit
DESCRIPTION:Seniorengymnastik für Gäste und Einwohner/innen jeweils montags
  und mittwochs ab 9:45 Uhr im Haus des Gastes Bad Holzhausen.\n\nmehr Info
 rmationen unter http://pages.destination.one/de/teutonavigator/streaming/d
 etail/Event/e_100553126/seniorengymnastik
DTEND;TZID=Europe/Berlin:20231106T103000
DTSTAMP:20260421T124123Z
DTSTART;TZID=Europe/Berlin:20231106T094500
GEO:52.286531;8.532777
LOCATION:Haus des Gastes Bad Holzhausen\, Hudenbeck 2\, Preußisch Oldendorf
ORGANIZER;CN=Touristik Preußisch Oldendorf:mailto:touristik@preussischolden
 dorf.de
RRULE:FREQ=WEEKLY;UNTIL=20231224T093000;BYDAY=MO,WE
SEQUENCE:0
SUMMARY:Seniorengymnastik
UID:e_100553126_iv4
URL:http://pages.destination.one/de/teutonavigator/streaming/detail/Event/e
 _100553126/seniorengymnastik
END:VEVENT
BEGIN:VEVENT
CATEGORIES:Sport/Freizeit
DESCRIPTION:Seniorengymnastik für Gäste und Einwohner/innen jeweils montags
  und mittwochs ab 9:45 Uhr im Haus des Gastes Bad Holzhausen.\n\nmehr Info
 rmationen unter http://pages.destination.one/de/teutonavigator/streaming/d
 etail/Event/e_100553126/seniorengymnastik
DTEND;TZID=Europe/Berlin:20231226T103000
DTSTAMP:20260421T124123Z
DTSTART;TZID=Europe/Berlin:20231226T094500
GEO:52.286531;8.532777
LOCATION:Haus des Gastes Bad Holzhausen\, Hudenbeck 2\, Preußisch Oldendorf
ORGANIZER;CN=Touristik Preußisch Oldendorf:mailto:touristik@preussischolden
 dorf.de
RRULE:FREQ=WEEKLY;UNTIL=20231231T084500;BYDAY=MO,WE
SEQUENCE:0
SUMMARY:Seniorengymnastik
UID:e_100553126_iv5
URL:http://pages.destination.one/de/teutonavigator/streaming/detail/Event/e
 _100553126/seniorengymnastik
END:VEVENT
BEGIN:VEVENT
CATEGORIES:Sport/Freizeit
DESCRIPTION:Seniorengymnastik für Gäste und Einwohner/innen jeweils montags
  und mittwochs ab 9:45 Uhr im Haus des Gastes Bad Holzhausen.\n\nmehr Info
 rmationen unter http://pages.destination.one/de/teutonavigator/streaming/d
 etail/Event/e_100553126/seniorengymnastik
DTEND;TZID=Europe/Berlin:20240103T103000
DTSTAMP:20260421T124123Z
DTSTART;TZID=Europe/Berlin:20240103T094500
GEO:52.286531;8.532777
LOCATION:Haus des Gastes Bad Holzhausen\, Hudenbeck 2\, Preußisch Oldendorf
ORGANIZER;CN=Touristik Preußisch Oldendorf:mailto:touristik@preussischolden
 dorf.de
RRULE:FREQ=WEEKLY;UNTIL=20240331T083000;BYDAY=MO,WE
SEQUENCE:0
SUMMARY:Seniorengymnastik
UID:e_100553126_iv6
URL:http://pages.destination.one/de/teutonavigator/streaming/detail/Event/e
 _100553126/seniorengymnastik
END:VEVENT
BEGIN:VEVENT
CATEGORIES:Sport/Freizeit
DESCRIPTION:Seniorengymnastik für Gäste und Einwohner/innen jeweils montags
  und mittwochs ab 9:45 Uhr im Haus des Gastes Bad Holzhausen.\n\nmehr Info
 rmationen unter http://pages.destination.one/de/teutonavigator/streaming/d
 etail/Event/e_100553126/seniorengymnastik
DTEND;TZID=Europe/Berlin:20240402T103000
DTSTAMP:20260421T124123Z
DTSTART;TZID=Europe/Berlin:20240402T094500
GEO:52.286531;8.532777
LOCATION:Haus des Gastes Bad Holzhausen\, Hudenbeck 2\, Preußisch Oldendorf
ORGANIZER;CN=Touristik Preußisch Oldendorf:mailto:touristik@preussischolden
 dorf.de
RRULE:FREQ=WEEKLY;UNTIL=20240430T083000;BYDAY=MO,WE
SEQUENCE:0
SUMMARY:Seniorengymnastik
UID:e_100553126_iv7
URL:http://pages.destination.one/de/teutonavigator/streaming/detail/Event/e
 _100553126/seniorengymnastik
END:VEVENT
BEGIN:VEVENT
CATEGORIES:Sport/Freizeit
DESCRIPTION:Seniorengymnastik für Gäste und Einwohner/innen jeweils montags
  und mittwochs ab 9:45 Uhr im Haus des Gastes Bad Holzhausen.\n\nmehr Info
 rmationen unter http://pages.destination.one/de/teutonavigator/streaming/d
 etail/Event/e_100553126/seniorengymnastik
DTEND;TZID=Europe/Berlin:20240506T103000
DTSTAMP:20260421T124123Z
DTSTART;TZID=Europe/Berlin:20240506T094500
GEO:52.286531;8.532777
LOCATION:Haus des Gastes Bad Holzhausen\, Hudenbeck 2\, Preußisch Oldendorf
ORGANIZER;CN=Touristik Preußisch Oldendorf:mailto:touristik@preussischolden
 dorf.de
RRULE:FREQ=WEEKLY;UNTIL=20240519T083000;BYDAY=MO,WE
SEQUENCE:0
SUMMARY:Seniorengymnastik
UID:e_100553126_iv8
URL:http://pages.destination.one/de/teutonavigator/streaming/detail/Event/e
 _100553126/seniorengymnastik
END:VEVENT
BEGIN:VEVENT
CATEGORIES:Sport/Freizeit
DESCRIPTION:Seniorengymnastik für Gäste und Einwohner/innen jeweils montags
  und mittwochs ab 9:45 Uhr im Haus des Gastes Bad Holzhausen.\n\nmehr Info
 rmationen unter http://pages.destination.one/de/teutonavigator/streaming/d
 etail/Event/e_100553126/seniorengymnastik
DTEND;TZID=Europe/Berlin:20240521T103000
DTSTAMP:20260421T124123Z
DTSTART;TZID=Europe/Berlin:20240521T094500
GEO:52.286531;8.532777
LOCATION:Haus des Gastes Bad Holzhausen\, Hudenbeck 2\, Preußisch Oldendorf
ORGANIZER;CN=Touristik Preußisch Oldendorf:mailto:touristik@preussischolden
 dorf.de
RRULE:FREQ=WEEKLY;UNTIL=20240922T083000;BYDAY=MO,WE
SEQUENCE:0
SUMMARY:Seniorengymnastik
UID:e_100553126_iv9
URL:http://pages.destination.one/de/teutonavigator/streaming/detail/Event/e
 _100553126/seniorengymnastik
END:VEVENT
BEGIN:VEVENT
CATEGORIES:Sport/Freizeit
DESCRIPTION:Seniorengymnastik für Gäste und Einwohner/innen jeweils montags
  und mittwochs ab 9:45 Uhr im Haus des Gastes Bad Holzhausen.\n\nmehr Info
 rmationen unter http://pages.destination.one/de/teutonavigator/streaming/d
 etail/Event/e_100553126/seniorengymnastik
DTEND;TZID=Europe/Berlin:20240924T103000
DTSTAMP:20260421T124123Z
DTSTART;TZID=Europe/Berlin:20240924T094500
GEO:52.286531;8.532777
LOCATION:Haus des Gastes Bad Holzhausen\, Hudenbeck 2\, Preußisch Oldendorf
ORGANIZER;CN=Touristik Preußisch Oldendorf:mailto:touristik@preussischolden
 dorf.de
RRULE:FREQ=WEEKLY;UNTIL=20240924T083000;BYDAY=MO,WE
SEQUENCE:0
SUMMARY:Seniorengymnastik
UID:e_100553126_iv10
URL:http://pages.destination.one/de/teutonavigator/streaming/detail/Event/e
 _100553126/seniorengymnastik
END:VEVENT
BEGIN:VEVENT
CATEGORIES:Sport/Freizeit
DESCRIPTION:Seniorengymnastik für Gäste und Einwohner/innen jeweils montags
  und mittwochs ab 9:45 Uhr im Haus des Gastes Bad Holzhausen.\n\nmehr Info
 rmationen unter http://pages.destination.one/de/teutonavigator/streaming/d
 etail/Event/e_100553126/seniorengymnastik
DTEND;TZID=Europe/Berlin:20240930T103000
DTSTAMP:20260421T124123Z
DTSTART;TZID=Europe/Berlin:20240930T094500
GEO:52.286531;8.532777
LOCATION:Haus des Gastes Bad Holzhausen\, Hudenbeck 2\, Preußisch Oldendorf
ORGANIZER;CN=Touristik Preußisch Oldendorf:mailto:touristik@preussischolden
 dorf.de
RRULE:FREQ=WEEKLY;UNTIL=20241112T093000;BYDAY=MO,WE
SEQUENCE:0
SUMMARY:Seniorengymnastik
UID:e_100553126_iv11
URL:http://pages.destination.one/de/teutonavigator/streaming/detail/Event/e
 _100553126/seniorengymnastik
END:VEVENT
BEGIN:VEVENT
CATEGORIES:Sport/Freizeit
DESCRIPTION:Seniorengymnastik für Gäste und Einwohner/innen jeweils montags
  und mittwochs ab 9:45 Uhr im Haus des Gastes Bad Holzhausen.\n\nmehr Info
 rmationen unter http://pages.destination.one/de/teutonavigator/streaming/d
 etail/Event/e_100553126/seniorengymnastik
DTEND;TZID=Europe/Berlin:20241118T103000
DTSTAMP:20260421T124123Z
DTSTART;TZID=Europe/Berlin:20241118T094500
GEO:52.286531;8.532777
LOCATION:Haus des Gastes Bad Holzhausen\, Hudenbeck 2\, Preußisch Oldendorf
ORGANIZER;CN=Touristik Preußisch Oldendorf:mailto:touristik@preussischolden
 dorf.de
RRULE:FREQ=WEEKLY;UNTIL=20241201T093000;BYDAY=MO,WE
SEQUENCE:0
SUMMARY:Seniorengymnastik
UID:e_100553126_iv12
URL:http://pages.destination.one/de/teutonavigator/streaming/detail/Event/e
 _100553126/seniorengymnastik
END:VEVENT
BEGIN:VEVENT
CATEGORIES:Sport/Freizeit
DESCRIPTION:Seniorengymnastik für Gäste und Einwohner/innen jeweils montags
  und mittwochs ab 9:45 Uhr im Haus des Gastes Bad Holzhausen.\n\nmehr Info
 rmationen unter http://pages.destination.one/de/teutonavigator/streaming/d
 etail/Event/e_100553126/seniorengymnastik
DTEND;TZID=Europe/Berlin:20241203T103000
DTSTAMP:20260421T124123Z
DTSTART;TZID=Europe/Berlin:20241203T094500
GEO:52.286531;8.532777
LOCATION:Haus des Gastes Bad Holzhausen\, Hudenbeck 2\, Preußisch Oldendorf
ORGANIZER;CN=Touristik Preußisch Oldendorf:mailto:touristik@preussischolden
 dorf.de
RRULE:FREQ=WEEKLY;UNTIL=20241222T093000;BYDAY=MO,WE
SEQUENCE:0
SUMMARY:Seniorengymnastik
UID:e_100553126_iv13
URL:http://pages.destination.one/de/teutonavigator/streaming/detail/Event/e
 _100553126/seniorengymnastik
END:VEVENT
BEGIN:VEVENT
CATEGORIES:Sport/Freizeit
DESCRIPTION:Seniorengymnastik für Gäste und Einwohner/innen jeweils montags
  und mittwochs ab 9:45 Uhr im Haus des Gastes Bad Holzhausen.\n\nmehr Info
 rmationen unter http://pages.destination.one/de/teutonavigator/streaming/d
 etail/Event/e_100553126/seniorengymnastik
DTEND;TZID=Europe/Berlin:20241224T103000
DTSTAMP:20260421T124123Z
DTSTART;TZID=Europe/Berlin:20241224T094500
GEO:52.286531;8.532777
LOCATION:Haus des Gastes Bad Holzhausen\, Hudenbeck 2\, Preußisch Oldendorf
ORGANIZER;CN=Touristik Preußisch Oldendorf:mailto:touristik@preussischolden
 dorf.de
RRULE:FREQ=WEEKLY;UNTIL=20241224T093000;BYDAY=MO,WE
SEQUENCE:0
SUMMARY:Seniorengymnastik
UID:e_100553126_iv14
URL:http://pages.destination.one/de/teutonavigator/streaming/detail/Event/e
 _100553126/seniorengymnastik
END:VEVENT
BEGIN:VEVENT
CATEGORIES:Sport/Freizeit
DESCRIPTION:Seniorengymnastik für Gäste und Einwohner/innen jeweils montags
  und mittwochs ab 9:45 Uhr im Haus des Gastes Bad Holzhausen.\n\nmehr Info
 rmationen unter http://pages.destination.one/de/teutonavigator/streaming/d
 etail/Event/e_100553126/seniorengymnastik
DTEND;TZID=Europe/Berlin:20241231T103000
DTSTAMP:20260421T124123Z
DTSTART;TZID=Europe/Berlin:20241231T094500
GEO:52.286531;8.532777
LOCATION:Haus des Gastes Bad Holzhausen\, Hudenbeck 2\, Preußisch Oldendorf
ORGANIZER;CN=Touristik Preußisch Oldendorf:mailto:touristik@preussischolden
 dorf.de
RRULE:FREQ=WEEKLY;UNTIL=20241231T093000;BYDAY=MO,WE
SEQUENCE:0
SUMMARY:Seniorengymnastik
UID:e_100553126_iv15
URL:http://pages.destination.one/de/teutonavigator/streaming/detail/Event/e
 _100553126/seniorengymnastik
END:VEVENT
BEGIN:VEVENT
CATEGORIES:Sport/Freizeit
DESCRIPTION:Seniorengymnastik für Gäste und Einwohner/innen jeweils montags
  und mittwochs ab 9:45 Uhr im Haus des Gastes Bad Holzhausen.\n\nmehr Info
 rmationen unter http://pages.destination.one/de/teutonavigator/streaming/d
 etail/Event/e_100553126/seniorengymnastik
DTEND;TZID=Europe/Berlin:20250106T103000
DTSTAMP:20260421T124123Z
DTSTART;TZID=Europe/Berlin:20250106T094500
GEO:52.286531;8.532777
LOCATION:Haus des Gastes Bad Holzhausen\, Hudenbeck 2\, Preußisch Oldendorf
ORGANIZER;CN=Touristik Preußisch Oldendorf:mailto:touristik@preussischolden
 dorf.de
RRULE:FREQ=WEEKLY;UNTIL=20250420T083000;BYDAY=MO,WE
SEQUENCE:0
SUMMARY:Seniorengymnastik
UID:e_100553126_iv16
URL:http://pages.destination.one/de/teutonavigator/streaming/detail/Event/e
 _100553126/seniorengymnastik
END:VEVENT
BEGIN:VEVENT
CATEGORIES:Sport/Freizeit
DESCRIPTION:Seniorengymnastik für Gäste und Einwohner/innen jeweils montags
  und mittwochs ab 9:45 Uhr im Haus des Gastes Bad Holzhausen.\n\nmehr Info
 rmationen unter http://pages.destination.one/de/teutonavigator/streaming/d
 etail/Event/e_100553126/seniorengymnastik
DTEND;TZID=Europe/Berlin:20250422T103000
DTSTAMP:20260421T124123Z
DTSTART;TZID=Europe/Berlin:20250422T094500
GEO:52.286531;8.532777
LOCATION:Haus des Gastes Bad Holzhausen\, Hudenbeck 2\, Preußisch Oldendorf
ORGANIZER;CN=Touristik Preußisch Oldendorf:mailto:touristik@preussischolden
 dorf.de
RRULE:FREQ=WEEKLY;UNTIL=20250608T083000;BYDAY=MO,WE
SEQUENCE:0
SUMMARY:Seniorengymnastik
UID:e_100553126_iv17
URL:http://pages.destination.one/de/teutonavigator/streaming/detail/Event/e
 _100553126/seniorengymnastik
END:VEVENT
BEGIN:VEVENT
CATEGORIES:Sport/Freizeit
DESCRIPTION:Seniorengymnastik für Gäste und Einwohner/innen jeweils montags
  und mittwochs ab 9:45 Uhr im Haus des Gastes Bad Holzhausen.\n\nmehr Info
 rmationen unter http://pages.destination.one/de/teutonavigator/streaming/d
 etail/Event/e_100553126/seniorengymnastik
DTEND;TZID=Europe/Berlin:20250610T103000
DTSTAMP:20260421T124123Z
DTSTART;TZID=Europe/Berlin:20250610T094500
GEO:52.286531;8.532777
LOCATION:Haus des Gastes Bad Holzhausen\, Hudenbeck 2\, Preußisch Oldendorf
ORGANIZER;CN=Touristik Preußisch Oldendorf:mailto:touristik@preussischolden
 dorf.de
RRULE:FREQ=WEEKLY;UNTIL=20251007T083000;BYDAY=MO,WE
SEQUENCE:0
SUMMARY:Seniorengymnastik
UID:e_100553126_iv18
URL:http://pages.destination.one/de/teutonavigator/streaming/detail/Event/e
 _100553126/seniorengymnastik
END:VEVENT
BEGIN:VEVENT
CATEGORIES:Sport/Freizeit
DESCRIPTION:Seniorengymnastik für Gäste und Einwohner/innen jeweils montags
  und mittwochs ab 9:45 Uhr im Haus des Gastes Bad Holzhausen.\n\nmehr Info
 rmationen unter http://pages.destination.one/de/teutonavigator/streaming/d
 etail/Event/e_100553126/seniorengymnastik
DTEND;TZID=Europe/Berlin:20251008T103000
DTSTAMP:20260421T124123Z
DTSTART;TZID=Europe/Berlin:20251008T094500
GEO:52.286531;8.532777
LOCATION:Haus des Gastes Bad Holzhausen\, Hudenbeck 2\, Preußisch Oldendorf
ORGANIZER;CN=Touristik Preußisch Oldendorf:mailto:touristik@preussischolden
 dorf.de
SEQUENCE:0
SUMMARY:Seniorengymnastik
UID:e_100553126_iv19
URL:http://pages.destination.one/de/teutonavigator/streaming/detail/Event/e
 _100553126/seniorengymnastik
END:VEVENT
BEGIN:VEVENT
CATEGORIES:Sport/Freizeit
DESCRIPTION:Seniorengymnastik für Gäste und Einwohner/innen jeweils montags
  und mittwochs ab 9:45 Uhr im Haus des Gastes Bad Holzhausen.\n\nmehr Info
 rmationen unter http://pages.destination.one/de/teutonavigator/streaming/d
 etail/Event/e_100553126/seniorengymnastik
DTEND;TZID=Europe/Berlin:20251013T103000
DTSTAMP:20260421T124123Z
DTSTART;TZID=Europe/Berlin:20251013T094500
GEO:52.286531;8.532777
LOCATION:Haus des Gastes Bad Holzhausen\, Hudenbeck 2\, Preußisch Oldendorf
ORGANIZER;CN=Touristik Preußisch Oldendorf:mailto:touristik@preussischolden
 dorf.de
RRULE:FREQ=WEEKLY;UNTIL=20251130T093000;BYDAY=MO,WE
SEQUENCE:0
SUMMARY:Seniorengymnastik
UID:e_100553126_iv20
URL:http://pages.destination.one/de/teutonavigator/streaming/detail/Event/e
 _100553126/seniorengymnastik
END:VEVENT
BEGIN:VEVENT
CATEGORIES:Sport/Freizeit
DESCRIPTION:Seniorengymnastik für Gäste und Einwohner/innen jeweils montags
  und mittwochs ab 9:45 Uhr im Haus des Gastes Bad Holzhausen.\n\nmehr Info
 rmationen unter http://pages.destination.one/de/teutonavigator/streaming/d
 etail/Event/e_100553126/seniorengymnastik
DTEND;TZID=Europe/Berlin:20251202T103000
DTSTAMP:20260421T124123Z
DTSTART;TZID=Europe/Berlin:20251202T094500
GEO:52.286531;8.532777
LOCATION:Haus des Gastes Bad Holzhausen\, Hudenbeck 2\, Preußisch Oldendorf
ORGANIZER;CN=Touristik Preußisch Oldendorf:mailto:touristik@preussischolden
 dorf.de
RRULE:FREQ=WEEKLY;UNTIL=20251223T093000;BYDAY=MO,WE
SEQUENCE:0
SUMMARY:Seniorengymnastik
UID:e_100553126_iv21
URL:http://pages.destination.one/de/teutonavigator/streaming/detail/Event/e
 _100553126/seniorengymnastik
END:VEVENT
BEGIN:VEVENT
CATEGORIES:Sport/Freizeit
DESCRIPTION:Seniorengymnastik für Gäste und Einwohner/innen jeweils montags
  und mittwochs ab 9:45 Uhr im Haus des Gastes Bad Holzhausen.\n\nmehr Info
 rmationen unter http://pages.destination.one/de/teutonavigator/streaming/d
 etail/Event/e_100553126/seniorengymnastik
DTEND;TZID=Europe/Berlin:20251224T103000
DTSTAMP:20260421T124123Z
DTSTART;TZID=Europe/Berlin:20251224T094500
GEO:52.286531;8.532777
LOCATION:Haus des Gastes Bad Holzhausen\, Hudenbeck 2\, Preußisch Oldendorf
ORGANIZER;CN=Touristik Preußisch Oldendorf:mailto:touristik@preussischolden
 dorf.de
SEQUENCE:0
SUMMARY:Seniorengymnastik
UID:e_100553126_iv22
URL:http://pages.destination.one/de/teutonavigator/streaming/detail/Event/e
 _100553126/seniorengymnastik
END:VEVENT
BEGIN:VEVENT
CATEGORIES:Sport/Freizeit
DESCRIPTION:Seniorengymnastik für Gäste und Einwohner/innen jeweils montags
  und mittwochs ab 9:45 Uhr im Haus des Gastes Bad Holzhausen.\n\nmehr Info
 rmationen unter http://pages.destination.one/de/teutonavigator/streaming/d
 etail/Event/e_100553126/seniorengymnastik
DTEND;TZID=Europe/Berlin:20251229T103000
DTSTAMP:20260421T124123Z
DTSTART;TZID=Europe/Berlin:20251229T094500
GEO:52.286531;8.532777
LOCATION:Haus des Gastes Bad Holzhausen\, Hudenbeck 2\, Preußisch Oldendorf
ORGANIZER;CN=Touristik Preußisch Oldendorf:mailto:touristik@preussischolden
 dorf.de
RRULE:FREQ=WEEKLY;UNTIL=20251230T093000;BYDAY=MO,WE
SEQUENCE:0
SUMMARY:Seniorengymnastik
UID:e_100553126_iv23
URL:http://pages.destination.one/de/teutonavigator/streaming/detail/Event/e
 _100553126/seniorengymnastik
END:VEVENT
BEGIN:VEVENT
CATEGORIES:Sport/Freizeit
DESCRIPTION:Seniorengymnastik für Gäste und Einwohner/innen jeweils montags
  und mittwochs ab 9:45 Uhr im Haus des Gastes Bad Holzhausen.\n\nmehr Info
 rmationen unter http://pages.destination.one/de/teutonavigator/streaming/d
 etail/Event/e_100553126/seniorengymnastik
DTEND;TZID=Europe/Berlin:20251231T103000
DTSTAMP:20260421T124123Z
DTSTART;TZID=Europe/Berlin:20251231T094500
GEO:52.286531;8.532777
LOCATION:Haus des Gastes Bad Holzhausen\, Hudenbeck 2\, Preußisch Oldendorf
ORGANIZER;CN=Touristik Preußisch Oldendorf:mailto:touristik@preussischolden
 dorf.de
SEQUENCE:0
SUMMARY:Seniorengymnastik
UID:e_100553126_iv24
URL:http://pages.destination.one/de/teutonavigator/streaming/detail/Event/e
 _100553126/seniorengymnastik
END:VEVENT
BEGIN:VEVENT
CATEGORIES:Sport/Freizeit
DESCRIPTION:Seniorengymnastik für Gäste und Einwohner/innen jeweils montags
  und mittwochs ab 9:45 Uhr im Haus des Gastes Bad Holzhausen.\n\nmehr Info
 rmationen unter http://pages.destination.one/de/teutonavigator/streaming/d
 etail/Event/e_100553126/seniorengymnastik
DTEND;TZID=Europe/Berlin:20260105T103000
DTSTAMP:20260421T124123Z
DTSTART;TZID=Europe/Berlin:20260105T094500
GEO:52.286531;8.532777
LOCATION:Haus des Gastes Bad Holzhausen\, Hudenbeck 2\, Preußisch Oldendorf
ORGANIZER;CN=Touristik Preußisch Oldendorf:mailto:touristik@preussischolden
 dorf.de
RRULE:FREQ=WEEKLY;UNTIL=20260405T083000;BYDAY=MO,WE
SEQUENCE:0
SUMMARY:Seniorengymnastik
UID:e_100553126_iv25
URL:http://pages.destination.one/de/teutonavigator/streaming/detail/Event/e
 _100553126/seniorengymnastik
END:VEVENT
BEGIN:VEVENT
CATEGORIES:Sport/Freizeit
DESCRIPTION:Seniorengymnastik für Gäste und Einwohner/innen jeweils montags
  und mittwochs ab 9:45 Uhr im Haus des Gastes Bad Holzhausen.\n\nmehr Info
 rmationen unter http://pages.destination.one/de/teutonavigator/streaming/d
 etail/Event/e_100553126/seniorengymnastik
DTEND;TZID=Europe/Berlin:20260407T103000
DTSTAMP:20260421T124123Z
DTSTART;TZID=Europe/Berlin:20260407T094500
GEO:52.286531;8.532777
LOCATION:Haus des Gastes Bad Holzhausen\, Hudenbeck 2\, Preußisch Oldendorf
ORGANIZER;CN=Touristik Preußisch Oldendorf:mailto:touristik@preussischolden
 dorf.de
RRULE:FREQ=WEEKLY;UNTIL=20260524T083000;BYDAY=MO,WE
SEQUENCE:0
SUMMARY:Seniorengymnastik
UID:e_100553126_iv26
URL:http://pages.destination.one/de/teutonavigator/streaming/detail/Event/e
 _100553126/seniorengymnastik
END:VEVENT
BEGIN:VEVENT
CATEGORIES:Sport/Freizeit
DESCRIPTION:Seniorengymnastik für Gäste und Einwohner/innen jeweils montags
  und mittwochs ab 9:45 Uhr im Haus des Gastes Bad Holzhausen.\n\nmehr Info
 rmationen unter http://pages.destination.one/de/teutonavigator/streaming/d
 etail/Event/e_100553126/seniorengymnastik
DTEND;TZID=Europe/Berlin:20260526T103000
DTSTAMP:20260421T124123Z
DTSTART;TZID=Europe/Berlin:20260526T094500
GEO:52.286531;8.532777
LOCATION:Haus des Gastes Bad Holzhausen\, Hudenbeck 2\, Preußisch Oldendorf
ORGANIZER;CN=Touristik Preußisch Oldendorf:mailto:touristik@preussischolden
 dorf.de
RRULE:FREQ=WEEKLY;UNTIL=20261231T084500;BYDAY=MO,WE
SEQUENCE:0
SUMMARY:Seniorengymnastik
UID:e_100553126_iv27
URL:http://pages.destination.one/de/teutonavigator/streaming/detail/Event/e
 _100553126/seniorengymnastik
END:VEVENT
BEGIN:VTIMEZONE
TZID:Europe/Berlin
X-LIC-LOCATION:Europe/Berlin
BEGIN:DAYLIGHT
DTSTART:19700329T020000
RRULE:FREQ=YEARLY;BYDAY=-1SU;BYMONTH=3
TZNAME:CEST
TZOFFSETFROM:+0100
TZOFFSETTO:+0200
END:DAYLIGHT
BEGIN:STANDARD
DTSTART:19701025T030000
RRULE:FREQ=YEARLY;BYDAY=-1SU;BYMONTH=10
TZNAME:CET
TZOFFSETFROM:+0200
TZOFFSETTO:+0100
END:STANDARD
END:VTIMEZONE
END:VCALENDAR
