BEGIN:VCALENDAR
VERSION:2.0
PRODID:-//destination.one//NONSGML destination.meta API//DE
X-WR-CALDESC:A calendar powered by destination.meta
X-WR-CALNAME:teutonavigator Kalender via destination.meta
BEGIN:VEVENT
CATEGORIES:Geselligkeit/Spiele/Treffen
DESCRIPTION:\n\nmehr Informationen unter http://pages.destination.one/de/te
 utonavigator/streaming/detail/Event/e_100552506/bingo
DTEND;TZID=Europe/Berlin:20230202T110000
DTSTAMP:20260421T140152Z
DTSTART;TZID=Europe/Berlin:20230202T094500
GEO:52.286531;8.532777
LOCATION:Haus des Gastes Bad Holzhausen\, Hudenbeck 2\, Preußisch Oldendorf
ORGANIZER;CN=Touristik Preußisch Oldendorf:mailto:touristikbuero@preussisch
 oldendorf.de
RRULE:FREQ=WEEKLY;UNTIL=20230517T090000;BYDAY=TH
SEQUENCE:0
SUMMARY:Bingo
UID:e_100552506_iv0
URL:http://pages.destination.one/de/teutonavigator/streaming/detail/Event/e
 _100552506/bingo
END:VEVENT
BEGIN:VEVENT
CATEGORIES:Geselligkeit/Spiele/Treffen
DESCRIPTION:\n\nmehr Informationen unter http://pages.destination.one/de/te
 utonavigator/streaming/detail/Event/e_100552506/bingo
DTEND;TZID=Europe/Berlin:20230516T110000
DTSTAMP:20260421T140152Z
DTSTART;TZID=Europe/Berlin:20230516T094500
GEO:52.286531;8.532777
LOCATION:Haus des Gastes Bad Holzhausen\, Hudenbeck 2\, Preußisch Oldendorf
ORGANIZER;CN=Touristik Preußisch Oldendorf:mailto:touristikbuero@preussisch
 oldendorf.de
SEQUENCE:0
SUMMARY:Bingo
UID:e_100552506_iv1
URL:http://pages.destination.one/de/teutonavigator/streaming/detail/Event/e
 _100552506/bingo
END:VEVENT
BEGIN:VEVENT
CATEGORIES:Geselligkeit/Spiele/Treffen
DESCRIPTION:\n\nmehr Informationen unter http://pages.destination.one/de/te
 utonavigator/streaming/detail/Event/e_100552506/bingo
DTEND;TZID=Europe/Berlin:20230525T110000
DTSTAMP:20260421T140152Z
DTSTART;TZID=Europe/Berlin:20230525T094500
GEO:52.286531;8.532777
LOCATION:Haus des Gastes Bad Holzhausen\, Hudenbeck 2\, Preußisch Oldendorf
ORGANIZER;CN=Touristik Preußisch Oldendorf:mailto:touristikbuero@preussisch
 oldendorf.de
RRULE:FREQ=WEEKLY;UNTIL=20230531T090000;BYDAY=TH
SEQUENCE:0
SUMMARY:Bingo
UID:e_100552506_iv2
URL:http://pages.destination.one/de/teutonavigator/streaming/detail/Event/e
 _100552506/bingo
END:VEVENT
BEGIN:VEVENT
CATEGORIES:Geselligkeit/Spiele/Treffen
DESCRIPTION:\n\nmehr Informationen unter http://pages.destination.one/de/te
 utonavigator/streaming/detail/Event/e_100552506/bingo
DTEND;TZID=Europe/Berlin:20230530T110000
DTSTAMP:20260421T140152Z
DTSTART;TZID=Europe/Berlin:20230530T094500
GEO:52.286531;8.532777
LOCATION:Haus des Gastes Bad Holzhausen\, Hudenbeck 2\, Preußisch Oldendorf
ORGANIZER;CN=Touristik Preußisch Oldendorf:mailto:touristikbuero@preussisch
 oldendorf.de
SEQUENCE:0
SUMMARY:Bingo
UID:e_100552506_iv3
URL:http://pages.destination.one/de/teutonavigator/streaming/detail/Event/e
 _100552506/bingo
END:VEVENT
BEGIN:VEVENT
CATEGORIES:Geselligkeit/Spiele/Treffen
DESCRIPTION:\n\nmehr Informationen unter http://pages.destination.one/de/te
 utonavigator/streaming/detail/Event/e_100552506/bingo
DTEND;TZID=Europe/Berlin:20230606T110000
DTSTAMP:20260421T140152Z
DTSTART;TZID=Europe/Berlin:20230606T094500
GEO:52.286531;8.532777
LOCATION:Haus des Gastes Bad Holzhausen\, Hudenbeck 2\, Preußisch Oldendorf
ORGANIZER;CN=Touristik Preußisch Oldendorf:mailto:touristikbuero@preussisch
 oldendorf.de
SEQUENCE:0
SUMMARY:Bingo
UID:e_100552506_iv4
URL:http://pages.destination.one/de/teutonavigator/streaming/detail/Event/e
 _100552506/bingo
END:VEVENT
BEGIN:VEVENT
CATEGORIES:Geselligkeit/Spiele/Treffen
DESCRIPTION:\n\nmehr Informationen unter http://pages.destination.one/de/te
 utonavigator/streaming/detail/Event/e_100552506/bingo
DTEND;TZID=Europe/Berlin:20230615T110000
DTSTAMP:20260421T140152Z
DTSTART;TZID=Europe/Berlin:20230615T094500
GEO:52.286531;8.532777
LOCATION:Haus des Gastes Bad Holzhausen\, Hudenbeck 2\, Preußisch Oldendorf
ORGANIZER;CN=Touristik Preußisch Oldendorf:mailto:touristikbuero@preussisch
 oldendorf.de
RRULE:FREQ=WEEKLY;UNTIL=20231231T084500;BYDAY=TH
SEQUENCE:0
SUMMARY:Bingo
UID:e_100552506_iv5
URL:http://pages.destination.one/de/teutonavigator/streaming/detail/Event/e
 _100552506/bingo
END:VEVENT
BEGIN:VEVENT
CATEGORIES:Geselligkeit/Spiele/Treffen
DESCRIPTION:\n\nmehr Informationen unter http://pages.destination.one/de/te
 utonavigator/streaming/detail/Event/e_100552506/bingo
DTEND;TZID=Europe/Berlin:20240104T110000
DTSTAMP:20260421T140152Z
DTSTART;TZID=Europe/Berlin:20240104T094500
GEO:52.286531;8.532777
LOCATION:Haus des Gastes Bad Holzhausen\, Hudenbeck 2\, Preußisch Oldendorf
ORGANIZER;CN=Touristik Preußisch Oldendorf:mailto:touristikbuero@preussisch
 oldendorf.de
RRULE:FREQ=WEEKLY;UNTIL=20240508T090000;BYDAY=TH
SEQUENCE:0
SUMMARY:Bingo
UID:e_100552506_iv6
URL:http://pages.destination.one/de/teutonavigator/streaming/detail/Event/e
 _100552506/bingo
END:VEVENT
BEGIN:VEVENT
CATEGORIES:Geselligkeit/Spiele/Treffen
DESCRIPTION:\n\nmehr Informationen unter http://pages.destination.one/de/te
 utonavigator/streaming/detail/Event/e_100552506/bingo
DTEND;TZID=Europe/Berlin:20240507T110000
DTSTAMP:20260421T140152Z
DTSTART;TZID=Europe/Berlin:20240507T094500
GEO:52.286531;8.532777
LOCATION:Haus des Gastes Bad Holzhausen\, Hudenbeck 2\, Preußisch Oldendorf
ORGANIZER;CN=Touristik Preußisch Oldendorf:mailto:touristikbuero@preussisch
 oldendorf.de
SEQUENCE:0
SUMMARY:Bingo
UID:e_100552506_iv7
URL:http://pages.destination.one/de/teutonavigator/streaming/detail/Event/e
 _100552506/bingo
END:VEVENT
BEGIN:VEVENT
CATEGORIES:Geselligkeit/Spiele/Treffen
DESCRIPTION:\n\nmehr Informationen unter http://pages.destination.one/de/te
 utonavigator/streaming/detail/Event/e_100552506/bingo
DTEND;TZID=Europe/Berlin:20240516T110000
DTSTAMP:20260421T140152Z
DTSTART;TZID=Europe/Berlin:20240516T094500
GEO:52.286531;8.532777
LOCATION:Haus des Gastes Bad Holzhausen\, Hudenbeck 2\, Preußisch Oldendorf
ORGANIZER;CN=Touristik Preußisch Oldendorf:mailto:touristikbuero@preussisch
 oldendorf.de
RRULE:FREQ=WEEKLY;UNTIL=20240529T090000;BYDAY=TH
SEQUENCE:0
SUMMARY:Bingo
UID:e_100552506_iv8
URL:http://pages.destination.one/de/teutonavigator/streaming/detail/Event/e
 _100552506/bingo
END:VEVENT
BEGIN:VEVENT
CATEGORIES:Geselligkeit/Spiele/Treffen
DESCRIPTION:\n\nmehr Informationen unter http://pages.destination.one/de/te
 utonavigator/streaming/detail/Event/e_100552506/bingo
DTEND;TZID=Europe/Berlin:20240528T110000
DTSTAMP:20260421T140152Z
DTSTART;TZID=Europe/Berlin:20240528T094500
GEO:52.286531;8.532777
LOCATION:Haus des Gastes Bad Holzhausen\, Hudenbeck 2\, Preußisch Oldendorf
ORGANIZER;CN=Touristik Preußisch Oldendorf:mailto:touristikbuero@preussisch
 oldendorf.de
SEQUENCE:0
SUMMARY:Bingo
UID:e_100552506_iv9
URL:http://pages.destination.one/de/teutonavigator/streaming/detail/Event/e
 _100552506/bingo
END:VEVENT
BEGIN:VEVENT
CATEGORIES:Geselligkeit/Spiele/Treffen
DESCRIPTION:\n\nmehr Informationen unter http://pages.destination.one/de/te
 utonavigator/streaming/detail/Event/e_100552506/bingo
DTEND;TZID=Europe/Berlin:20240606T110000
DTSTAMP:20260421T140152Z
DTSTART;TZID=Europe/Berlin:20240606T094500
GEO:52.286531;8.532777
LOCATION:Haus des Gastes Bad Holzhausen\, Hudenbeck 2\, Preußisch Oldendorf
ORGANIZER;CN=Touristik Preußisch Oldendorf:mailto:touristikbuero@preussisch
 oldendorf.de
RRULE:FREQ=WEEKLY;UNTIL=20241002T090000;BYDAY=TH
SEQUENCE:0
SUMMARY:Bingo
UID:e_100552506_iv10
URL:http://pages.destination.one/de/teutonavigator/streaming/detail/Event/e
 _100552506/bingo
END:VEVENT
BEGIN:VEVENT
CATEGORIES:Geselligkeit/Spiele/Treffen
DESCRIPTION:\n\nmehr Informationen unter http://pages.destination.one/de/te
 utonavigator/streaming/detail/Event/e_100552506/bingo
DTEND;TZID=Europe/Berlin:20241001T110000
DTSTAMP:20260421T140152Z
DTSTART;TZID=Europe/Berlin:20241001T094500
GEO:52.286531;8.532777
LOCATION:Haus des Gastes Bad Holzhausen\, Hudenbeck 2\, Preußisch Oldendorf
ORGANIZER;CN=Touristik Preußisch Oldendorf:mailto:touristikbuero@preussisch
 oldendorf.de
SEQUENCE:0
SUMMARY:Bingo
UID:e_100552506_iv11
URL:http://pages.destination.one/de/teutonavigator/streaming/detail/Event/e
 _100552506/bingo
END:VEVENT
BEGIN:VEVENT
CATEGORIES:Geselligkeit/Spiele/Treffen
DESCRIPTION:\n\nmehr Informationen unter http://pages.destination.one/de/te
 utonavigator/streaming/detail/Event/e_100552506/bingo
DTEND;TZID=Europe/Berlin:20241010T110000
DTSTAMP:20260421T140152Z
DTSTART;TZID=Europe/Berlin:20241010T094500
GEO:52.286531;8.532777
LOCATION:Haus des Gastes Bad Holzhausen\, Hudenbeck 2\, Preußisch Oldendorf
ORGANIZER;CN=Touristik Preußisch Oldendorf:mailto:touristikbuero@preussisch
 oldendorf.de
RRULE:FREQ=WEEKLY;UNTIL=20241225T100000;BYDAY=TH
SEQUENCE:0
SUMMARY:Bingo
UID:e_100552506_iv12
URL:http://pages.destination.one/de/teutonavigator/streaming/detail/Event/e
 _100552506/bingo
END:VEVENT
BEGIN:VEVENT
CATEGORIES:Geselligkeit/Spiele/Treffen
DESCRIPTION:\n\nmehr Informationen unter http://pages.destination.one/de/te
 utonavigator/streaming/detail/Event/e_100552506/bingo
DTEND;TZID=Europe/Berlin:20250102T110000
DTSTAMP:20260421T140152Z
DTSTART;TZID=Europe/Berlin:20250102T094500
GEO:52.286531;8.532777
LOCATION:Haus des Gastes Bad Holzhausen\, Hudenbeck 2\, Preußisch Oldendorf
ORGANIZER;CN=Touristik Preußisch Oldendorf:mailto:touristikbuero@preussisch
 oldendorf.de
RRULE:FREQ=WEEKLY;UNTIL=20250430T090000;BYDAY=TH
SEQUENCE:0
SUMMARY:Bingo
UID:e_100552506_iv13
URL:http://pages.destination.one/de/teutonavigator/streaming/detail/Event/e
 _100552506/bingo
END:VEVENT
BEGIN:VEVENT
CATEGORIES:Geselligkeit/Spiele/Treffen
DESCRIPTION:\n\nmehr Informationen unter http://pages.destination.one/de/te
 utonavigator/streaming/detail/Event/e_100552506/bingo
DTEND;TZID=Europe/Berlin:20250429T110000
DTSTAMP:20260421T140152Z
DTSTART;TZID=Europe/Berlin:20250429T094500
GEO:52.286531;8.532777
LOCATION:Haus des Gastes Bad Holzhausen\, Hudenbeck 2\, Preußisch Oldendorf
ORGANIZER;CN=Touristik Preußisch Oldendorf:mailto:touristikbuero@preussisch
 oldendorf.de
SEQUENCE:0
SUMMARY:Bingo
UID:e_100552506_iv14
URL:http://pages.destination.one/de/teutonavigator/streaming/detail/Event/e
 _100552506/bingo
END:VEVENT
BEGIN:VEVENT
CATEGORIES:Geselligkeit/Spiele/Treffen
DESCRIPTION:\n\nmehr Informationen unter http://pages.destination.one/de/te
 utonavigator/streaming/detail/Event/e_100552506/bingo
DTEND;TZID=Europe/Berlin:20250508T110000
DTSTAMP:20260421T140152Z
DTSTART;TZID=Europe/Berlin:20250508T094500
GEO:52.286531;8.532777
LOCATION:Haus des Gastes Bad Holzhausen\, Hudenbeck 2\, Preußisch Oldendorf
ORGANIZER;CN=Touristik Preußisch Oldendorf:mailto:touristikbuero@preussisch
 oldendorf.de
RRULE:FREQ=WEEKLY;UNTIL=20250521T090000;BYDAY=TH
SEQUENCE:0
SUMMARY:Bingo
UID:e_100552506_iv15
URL:http://pages.destination.one/de/teutonavigator/streaming/detail/Event/e
 _100552506/bingo
END:VEVENT
BEGIN:VEVENT
CATEGORIES:Geselligkeit/Spiele/Treffen
DESCRIPTION:\n\nmehr Informationen unter http://pages.destination.one/de/te
 utonavigator/streaming/detail/Event/e_100552506/bingo
DTEND;TZID=Europe/Berlin:20250527T110000
DTSTAMP:20260421T140152Z
DTSTART;TZID=Europe/Berlin:20250527T094500
GEO:52.286531;8.532777
LOCATION:Haus des Gastes Bad Holzhausen\, Hudenbeck 2\, Preußisch Oldendorf
ORGANIZER;CN=Touristik Preußisch Oldendorf:mailto:touristikbuero@preussisch
 oldendorf.de
SEQUENCE:0
SUMMARY:Bingo
UID:e_100552506_iv16
URL:http://pages.destination.one/de/teutonavigator/streaming/detail/Event/e
 _100552506/bingo
END:VEVENT
BEGIN:VEVENT
CATEGORIES:Geselligkeit/Spiele/Treffen
DESCRIPTION:\n\nmehr Informationen unter http://pages.destination.one/de/te
 utonavigator/streaming/detail/Event/e_100552506/bingo
DTEND;TZID=Europe/Berlin:20250605T110000
DTSTAMP:20260421T140152Z
DTSTART;TZID=Europe/Berlin:20250605T094500
GEO:52.286531;8.532777
LOCATION:Haus des Gastes Bad Holzhausen\, Hudenbeck 2\, Preußisch Oldendorf
ORGANIZER;CN=Touristik Preußisch Oldendorf:mailto:touristikbuero@preussisch
 oldendorf.de
RRULE:FREQ=WEEKLY;UNTIL=20250618T090000;BYDAY=TH
SEQUENCE:0
SUMMARY:Bingo
UID:e_100552506_iv17
URL:http://pages.destination.one/de/teutonavigator/streaming/detail/Event/e
 _100552506/bingo
END:VEVENT
BEGIN:VEVENT
CATEGORIES:Geselligkeit/Spiele/Treffen
DESCRIPTION:\n\nmehr Informationen unter http://pages.destination.one/de/te
 utonavigator/streaming/detail/Event/e_100552506/bingo
DTEND;TZID=Europe/Berlin:20250617T110000
DTSTAMP:20260421T140152Z
DTSTART;TZID=Europe/Berlin:20250617T094500
GEO:52.286531;8.532777
LOCATION:Haus des Gastes Bad Holzhausen\, Hudenbeck 2\, Preußisch Oldendorf
ORGANIZER;CN=Touristik Preußisch Oldendorf:mailto:touristikbuero@preussisch
 oldendorf.de
SEQUENCE:0
SUMMARY:Bingo
UID:e_100552506_iv18
URL:http://pages.destination.one/de/teutonavigator/streaming/detail/Event/e
 _100552506/bingo
END:VEVENT
BEGIN:VEVENT
CATEGORIES:Geselligkeit/Spiele/Treffen
DESCRIPTION:\n\nmehr Informationen unter http://pages.destination.one/de/te
 utonavigator/streaming/detail/Event/e_100552506/bingo
DTEND;TZID=Europe/Berlin:20250624T110000
DTSTAMP:20260421T140152Z
DTSTART;TZID=Europe/Berlin:20250624T094500
GEO:52.286531;8.532777
LOCATION:Haus des Gastes Bad Holzhausen\, Hudenbeck 2\, Preußisch Oldendorf
ORGANIZER;CN=Touristik Preußisch Oldendorf:mailto:touristikbuero@preussisch
 oldendorf.de
SEQUENCE:0
SUMMARY:Bingo
UID:e_100552506_iv19
URL:http://pages.destination.one/de/teutonavigator/streaming/detail/Event/e
 _100552506/bingo
END:VEVENT
BEGIN:VEVENT
CATEGORIES:Geselligkeit/Spiele/Treffen
DESCRIPTION:\n\nmehr Informationen unter http://pages.destination.one/de/te
 utonavigator/streaming/detail/Event/e_100552506/bingo
DTEND;TZID=Europe/Berlin:20250703T110000
DTSTAMP:20260421T140152Z
DTSTART;TZID=Europe/Berlin:20250703T094500
GEO:52.286531;8.532777
LOCATION:Haus des Gastes Bad Holzhausen\, Hudenbeck 2\, Preußisch Oldendorf
ORGANIZER;CN=Touristik Preußisch Oldendorf:mailto:touristikbuero@preussisch
 oldendorf.de
RRULE:FREQ=WEEKLY;UNTIL=20251224T100000;BYDAY=TH
SEQUENCE:0
SUMMARY:Bingo
UID:e_100552506_iv20
URL:http://pages.destination.one/de/teutonavigator/streaming/detail/Event/e
 _100552506/bingo
END:VEVENT
BEGIN:VEVENT
CATEGORIES:Geselligkeit/Spiele/Treffen
DESCRIPTION:\n\nmehr Informationen unter http://pages.destination.one/de/te
 utonavigator/streaming/detail/Event/e_100552506/bingo
DTEND;TZID=Europe/Berlin:20251223T110000
DTSTAMP:20260421T140152Z
DTSTART;TZID=Europe/Berlin:20251223T094500
GEO:52.286531;8.532777
LOCATION:Haus des Gastes Bad Holzhausen\, Hudenbeck 2\, Preußisch Oldendorf
ORGANIZER;CN=Touristik Preußisch Oldendorf:mailto:touristikbuero@preussisch
 oldendorf.de
SEQUENCE:0
SUMMARY:Bingo
UID:e_100552506_iv21
URL:http://pages.destination.one/de/teutonavigator/streaming/detail/Event/e
 _100552506/bingo
END:VEVENT
BEGIN:VEVENT
CATEGORIES:Geselligkeit/Spiele/Treffen
DESCRIPTION:\n\nmehr Informationen unter http://pages.destination.one/de/te
 utonavigator/streaming/detail/Event/e_100552506/bingo
DTEND;TZID=Europe/Berlin:20251230T110000
DTSTAMP:20260421T140152Z
DTSTART;TZID=Europe/Berlin:20251230T094500
GEO:52.286531;8.532777
LOCATION:Haus des Gastes Bad Holzhausen\, Hudenbeck 2\, Preußisch Oldendorf
ORGANIZER;CN=Touristik Preußisch Oldendorf:mailto:touristikbuero@preussisch
 oldendorf.de
SEQUENCE:0
SUMMARY:Bingo
UID:e_100552506_iv22
URL:http://pages.destination.one/de/teutonavigator/streaming/detail/Event/e
 _100552506/bingo
END:VEVENT
BEGIN:VEVENT
CATEGORIES:Geselligkeit/Spiele/Treffen
DESCRIPTION:\n\nmehr Informationen unter http://pages.destination.one/de/te
 utonavigator/streaming/detail/Event/e_100552506/bingo
DTEND;TZID=Europe/Berlin:20260108T110000
DTSTAMP:20260421T140152Z
DTSTART;TZID=Europe/Berlin:20260108T094500
GEO:52.286531;8.532777
LOCATION:Haus des Gastes Bad Holzhausen\, Hudenbeck 2\, Preußisch Oldendorf
ORGANIZER;CN=Touristik Preußisch Oldendorf:mailto:touristikbuero@preussisch
 oldendorf.de
RRULE:FREQ=WEEKLY;UNTIL=20260513T090000;BYDAY=TH
SEQUENCE:0
SUMMARY:Bingo
UID:e_100552506_iv23
URL:http://pages.destination.one/de/teutonavigator/streaming/detail/Event/e
 _100552506/bingo
END:VEVENT
BEGIN:VEVENT
CATEGORIES:Geselligkeit/Spiele/Treffen
DESCRIPTION:\n\nmehr Informationen unter http://pages.destination.one/de/te
 utonavigator/streaming/detail/Event/e_100552506/bingo
DTEND;TZID=Europe/Berlin:20260512T110000
DTSTAMP:20260421T140152Z
DTSTART;TZID=Europe/Berlin:20260512T094500
GEO:52.286531;8.532777
LOCATION:Haus des Gastes Bad Holzhausen\, Hudenbeck 2\, Preußisch Oldendorf
ORGANIZER;CN=Touristik Preußisch Oldendorf:mailto:touristikbuero@preussisch
 oldendorf.de
SEQUENCE:0
SUMMARY:Bingo
UID:e_100552506_iv24
URL:http://pages.destination.one/de/teutonavigator/streaming/detail/Event/e
 _100552506/bingo
END:VEVENT
BEGIN:VEVENT
CATEGORIES:Geselligkeit/Spiele/Treffen
DESCRIPTION:\n\nmehr Informationen unter http://pages.destination.one/de/te
 utonavigator/streaming/detail/Event/e_100552506/bingo
DTEND;TZID=Europe/Berlin:20260521T110000
DTSTAMP:20260421T140152Z
DTSTART;TZID=Europe/Berlin:20260521T094500
GEO:52.286531;8.532777
LOCATION:Haus des Gastes Bad Holzhausen\, Hudenbeck 2\, Preußisch Oldendorf
ORGANIZER;CN=Touristik Preußisch Oldendorf:mailto:touristikbuero@preussisch
 oldendorf.de
RRULE:FREQ=WEEKLY;UNTIL=20260603T090000;BYDAY=TH
SEQUENCE:0
SUMMARY:Bingo
UID:e_100552506_iv25
URL:http://pages.destination.one/de/teutonavigator/streaming/detail/Event/e
 _100552506/bingo
END:VEVENT
BEGIN:VEVENT
CATEGORIES:Geselligkeit/Spiele/Treffen
DESCRIPTION:\n\nmehr Informationen unter http://pages.destination.one/de/te
 utonavigator/streaming/detail/Event/e_100552506/bingo
DTEND;TZID=Europe/Berlin:20260602T110000
DTSTAMP:20260421T140152Z
DTSTART;TZID=Europe/Berlin:20260602T094500
GEO:52.286531;8.532777
LOCATION:Haus des Gastes Bad Holzhausen\, Hudenbeck 2\, Preußisch Oldendorf
ORGANIZER;CN=Touristik Preußisch Oldendorf:mailto:touristikbuero@preussisch
 oldendorf.de
SEQUENCE:0
SUMMARY:Bingo
UID:e_100552506_iv26
URL:http://pages.destination.one/de/teutonavigator/streaming/detail/Event/e
 _100552506/bingo
END:VEVENT
BEGIN:VEVENT
CATEGORIES:Geselligkeit/Spiele/Treffen
DESCRIPTION:\n\nmehr Informationen unter http://pages.destination.one/de/te
 utonavigator/streaming/detail/Event/e_100552506/bingo
DTEND;TZID=Europe/Berlin:20260611T110000
DTSTAMP:20260421T140152Z
DTSTART;TZID=Europe/Berlin:20260611T094500
GEO:52.286531;8.532777
LOCATION:Haus des Gastes Bad Holzhausen\, Hudenbeck 2\, Preußisch Oldendorf
ORGANIZER;CN=Touristik Preußisch Oldendorf:mailto:touristikbuero@preussisch
 oldendorf.de
RRULE:FREQ=WEEKLY;UNTIL=20261223T100000;BYDAY=TH
SEQUENCE:0
SUMMARY:Bingo
UID:e_100552506_iv27
URL:http://pages.destination.one/de/teutonavigator/streaming/detail/Event/e
 _100552506/bingo
END:VEVENT
BEGIN:VEVENT
CATEGORIES:Geselligkeit/Spiele/Treffen
DESCRIPTION:\n\nmehr Informationen unter http://pages.destination.one/de/te
 utonavigator/streaming/detail/Event/e_100552506/bingo
DTEND;TZID=Europe/Berlin:20261222T110000
DTSTAMP:20260421T140152Z
DTSTART;TZID=Europe/Berlin:20261222T094500
GEO:52.286531;8.532777
LOCATION:Haus des Gastes Bad Holzhausen\, Hudenbeck 2\, Preußisch Oldendorf
ORGANIZER;CN=Touristik Preußisch Oldendorf:mailto:touristikbuero@preussisch
 oldendorf.de
SEQUENCE:0
SUMMARY:Bingo
UID:e_100552506_iv28
URL:http://pages.destination.one/de/teutonavigator/streaming/detail/Event/e
 _100552506/bingo
END:VEVENT
BEGIN:VEVENT
CATEGORIES:Geselligkeit/Spiele/Treffen
DESCRIPTION:\n\nmehr Informationen unter http://pages.destination.one/de/te
 utonavigator/streaming/detail/Event/e_100552506/bingo
DTEND;TZID=Europe/Berlin:20261231T110000
DTSTAMP:20260421T140152Z
DTSTART;TZID=Europe/Berlin:20261231T094500
GEO:52.286531;8.532777
LOCATION:Haus des Gastes Bad Holzhausen\, Hudenbeck 2\, Preußisch Oldendorf
ORGANIZER;CN=Touristik Preußisch Oldendorf:mailto:touristikbuero@preussisch
 oldendorf.de
RRULE:FREQ=WEEKLY;UNTIL=20261231T084500;BYDAY=TH
SEQUENCE:0
SUMMARY:Bingo
UID:e_100552506_iv29
URL:http://pages.destination.one/de/teutonavigator/streaming/detail/Event/e
 _100552506/bingo
END:VEVENT
BEGIN:VTIMEZONE
TZID:Europe/Berlin
X-LIC-LOCATION:Europe/Berlin
BEGIN:DAYLIGHT
DTSTART:19700329T020000
RRULE:FREQ=YEARLY;BYDAY=-1SU;BYMONTH=3
TZNAME:CEST
TZOFFSETFROM:+0100
TZOFFSETTO:+0200
END:DAYLIGHT
BEGIN:STANDARD
DTSTART:19701025T030000
RRULE:FREQ=YEARLY;BYDAY=-1SU;BYMONTH=10
TZNAME:CET
TZOFFSETFROM:+0200
TZOFFSETTO:+0100
END:STANDARD
END:VTIMEZONE
END:VCALENDAR
