BEGIN:VCALENDAR
VERSION:2.0
PRODID:-//destination.one//NONSGML destination.meta API//DE
X-WR-CALDESC:A calendar powered by destination.meta
X-WR-CALNAME:teutonavigator Kalender via destination.meta
BEGIN:VEVENT
CATEGORIES:Weihnachtsmarkt
DESCRIPTION:Weihnachtliche Atmosphäre am Heimathafen\n\nmehr Informationen 
 unter http://pages.destination.one/de/teutonavigator/streaming/detail/Even
 t/e_100548978/adventszauber-am-flughafen
DTEND;TZID=Europe/Berlin:20231217T180000
DTSTAMP:20260422T144626Z
DTSTART;TZID=Europe/Berlin:20231217T130000
GEO:51.610662;8.619890
LOCATION:Paderborn/Lippstadt Airport\, Flughafenstraße  33\, Büren
ORGANIZER;CN=Paderborn/Lippstadt Airport:mailto:info@airport-pad.com
SEQUENCE:0
SUMMARY:Adventszauber am Flughafen
UID:e_100548978_iv0
URL:http://pages.destination.one/de/teutonavigator/streaming/detail/Event/e
 _100548978/adventszauber-am-flughafen
END:VEVENT
BEGIN:VEVENT
CATEGORIES:Weihnachtsmarkt
DESCRIPTION:Weihnachtliche Atmosphäre am Heimathafen\n\nmehr Informationen 
 unter http://pages.destination.one/de/teutonavigator/streaming/detail/Even
 t/e_100548978/adventszauber-am-flughafen
DTEND;TZID=Europe/Berlin:20241208T180000
DTSTAMP:20260422T144626Z
DTSTART;TZID=Europe/Berlin:20241208T110000
GEO:51.610662;8.619890
LOCATION:Paderborn/Lippstadt Airport\, Flughafenstraße  33\, Büren
ORGANIZER;CN=Paderborn/Lippstadt Airport:mailto:info@airport-pad.com
SEQUENCE:0
SUMMARY:Adventszauber am Flughafen
UID:e_100548978_iv1
URL:http://pages.destination.one/de/teutonavigator/streaming/detail/Event/e
 _100548978/adventszauber-am-flughafen
END:VEVENT
BEGIN:VEVENT
CATEGORIES:Weihnachtsmarkt
DESCRIPTION:Weihnachtliche Atmosphäre am Heimathafen\n\nmehr Informationen 
 unter http://pages.destination.one/de/teutonavigator/streaming/detail/Even
 t/e_100548978/adventszauber-am-flughafen
DTEND;TZID=Europe/Berlin:20251130T180000
DTSTAMP:20260422T144626Z
DTSTART;TZID=Europe/Berlin:20251130T110000
GEO:51.610662;8.619890
LOCATION:Paderborn/Lippstadt Airport\, Flughafenstraße  33\, Büren
ORGANIZER;CN=Paderborn/Lippstadt Airport:mailto:info@airport-pad.com
SEQUENCE:0
SUMMARY:Adventszauber am Flughafen
UID:e_100548978_iv2
URL:http://pages.destination.one/de/teutonavigator/streaming/detail/Event/e
 _100548978/adventszauber-am-flughafen
END:VEVENT
BEGIN:VEVENT
CATEGORIES:Weihnachtsmarkt
DESCRIPTION:Weihnachtliche Atmosphäre am Heimathafen\n\nmehr Informationen 
 unter http://pages.destination.one/de/teutonavigator/streaming/detail/Even
 t/e_100548978/adventszauber-am-flughafen
DTEND;TZID=Europe/Berlin:20261206T170000
DTSTAMP:20260422T144626Z
DTSTART;TZID=Europe/Berlin:20261206T110000
GEO:51.610662;8.619890
LOCATION:Paderborn/Lippstadt Airport\, Flughafenstraße  33\, Büren
ORGANIZER;CN=Paderborn/Lippstadt Airport:mailto:info@airport-pad.com
SEQUENCE:0
SUMMARY:Adventszauber am Flughafen
UID:e_100548978_iv3
URL:http://pages.destination.one/de/teutonavigator/streaming/detail/Event/e
 _100548978/adventszauber-am-flughafen
END:VEVENT
BEGIN:VTIMEZONE
TZID:Europe/Berlin
X-LIC-LOCATION:Europe/Berlin
BEGIN:DAYLIGHT
DTSTART:19700329T020000
RRULE:FREQ=YEARLY;BYDAY=-1SU;BYMONTH=3
TZNAME:CEST
TZOFFSETFROM:+0100
TZOFFSETTO:+0200
END:DAYLIGHT
BEGIN:STANDARD
DTSTART:19701025T030000
RRULE:FREQ=YEARLY;BYDAY=-1SU;BYMONTH=10
TZNAME:CET
TZOFFSETFROM:+0200
TZOFFSETTO:+0100
END:STANDARD
END:VTIMEZONE
END:VCALENDAR
