BEGIN:VCALENDAR
VERSION:2.0
PRODID:-//destination.one//NONSGML destination.meta API//DE
X-WR-CALDESC:A calendar powered by destination.meta
X-WR-CALNAME:teutonavigator Kalender via destination.meta
BEGIN:VEVENT
CATEGORIES:Ausstellung
CATEGORIES:Weihnachtsmarkt
DESCRIPTION:\n\nmehr Informationen unter http://pages.destination.one/de/te
 utonavigator/streaming/detail/Event/e_100548839/weihnachtlicher-zauber-an-
 der-burg
DTEND;TZID=Europe/Berlin:20231202T190000
DTSTAMP:20260422T133717Z
DTSTART;TZID=Europe/Berlin:20231202T150000
GEO:51.781087;8.822504
LOCATION:Burgruine Bad Lippspringe\, Arminiuspark / Burgstraße 2-5\, Bad Li
 ppspringe
RRULE:FREQ=DAILY;UNTIL=20231203T180000
SEQUENCE:0
SUMMARY:Weihnachtlicher Zauber an der Burg
UID:e_100548839_iv0
URL:http://pages.destination.one/de/teutonavigator/streaming/detail/Event/e
 _100548839/weihnachtlicher-zauber-an-der-burg
END:VEVENT
BEGIN:VEVENT
CATEGORIES:Ausstellung
CATEGORIES:Weihnachtsmarkt
DESCRIPTION:\n\nmehr Informationen unter http://pages.destination.one/de/te
 utonavigator/streaming/detail/Event/e_100548839/weihnachtlicher-zauber-an-
 der-burg
DTEND;TZID=Europe/Berlin:20251129T210000
DTSTAMP:20260422T133717Z
DTSTART;TZID=Europe/Berlin:20251129T150000
GEO:51.781087;8.822504
LOCATION:Burgruine Bad Lippspringe\, Arminiuspark / Burgstraße 2-5\, Bad Li
 ppspringe
SEQUENCE:0
SUMMARY:Weihnachtlicher Zauber an der Burg
UID:e_100548839_iv1
URL:http://pages.destination.one/de/teutonavigator/streaming/detail/Event/e
 _100548839/weihnachtlicher-zauber-an-der-burg
END:VEVENT
BEGIN:VEVENT
CATEGORIES:Ausstellung
CATEGORIES:Weihnachtsmarkt
DESCRIPTION:\n\nmehr Informationen unter http://pages.destination.one/de/te
 utonavigator/streaming/detail/Event/e_100548839/weihnachtlicher-zauber-an-
 der-burg
DTEND;TZID=Europe/Berlin:20251130T190000
DTSTAMP:20260422T133717Z
DTSTART;TZID=Europe/Berlin:20251130T130000
GEO:51.781087;8.822504
LOCATION:Burgruine Bad Lippspringe\, Arminiuspark / Burgstraße 2-5\, Bad Li
 ppspringe
SEQUENCE:0
SUMMARY:Weihnachtlicher Zauber an der Burg
UID:e_100548839_iv2
URL:http://pages.destination.one/de/teutonavigator/streaming/detail/Event/e
 _100548839/weihnachtlicher-zauber-an-der-burg
END:VEVENT
BEGIN:VEVENT
CATEGORIES:Ausstellung
CATEGORIES:Weihnachtsmarkt
DESCRIPTION:\n\nmehr Informationen unter http://pages.destination.one/de/te
 utonavigator/streaming/detail/Event/e_100548839/weihnachtlicher-zauber-an-
 der-burg
DTEND;TZID=Europe/Berlin:20261128T235900
DTSTAMP:20260422T133717Z
DTSTART;TZID=Europe/Berlin:20261128T150000
GEO:51.781087;8.822504
LOCATION:Burgruine Bad Lippspringe\, Arminiuspark / Burgstraße 2-5\, Bad Li
 ppspringe
SEQUENCE:0
SUMMARY:Weihnachtlicher Zauber an der Burg
UID:e_100548839_iv3
URL:http://pages.destination.one/de/teutonavigator/streaming/detail/Event/e
 _100548839/weihnachtlicher-zauber-an-der-burg
END:VEVENT
BEGIN:VEVENT
CATEGORIES:Ausstellung
CATEGORIES:Weihnachtsmarkt
DESCRIPTION:\n\nmehr Informationen unter http://pages.destination.one/de/te
 utonavigator/streaming/detail/Event/e_100548839/weihnachtlicher-zauber-an-
 der-burg
DTEND;TZID=Europe/Berlin:20261129T235900
DTSTAMP:20260422T133717Z
DTSTART;TZID=Europe/Berlin:20261129T130000
GEO:51.781087;8.822504
LOCATION:Burgruine Bad Lippspringe\, Arminiuspark / Burgstraße 2-5\, Bad Li
 ppspringe
SEQUENCE:0
SUMMARY:Weihnachtlicher Zauber an der Burg
UID:e_100548839_iv4
URL:http://pages.destination.one/de/teutonavigator/streaming/detail/Event/e
 _100548839/weihnachtlicher-zauber-an-der-burg
END:VEVENT
BEGIN:VTIMEZONE
TZID:Europe/Berlin
X-LIC-LOCATION:Europe/Berlin
BEGIN:DAYLIGHT
DTSTART:19700329T020000
RRULE:FREQ=YEARLY;BYDAY=-1SU;BYMONTH=3
TZNAME:CEST
TZOFFSETFROM:+0100
TZOFFSETTO:+0200
END:DAYLIGHT
BEGIN:STANDARD
DTSTART:19701025T030000
RRULE:FREQ=YEARLY;BYDAY=-1SU;BYMONTH=10
TZNAME:CET
TZOFFSETFROM:+0200
TZOFFSETTO:+0100
END:STANDARD
END:VTIMEZONE
END:VCALENDAR
