BEGIN:VCALENDAR
VERSION:2.0
PRODID:-//destination.one//NONSGML destination.meta API//DE
X-WR-CALDESC:A calendar powered by destination.meta
X-WR-CALNAME:teutonavigator Kalender via destination.meta
BEGIN:VEVENT
CATEGORIES:Ausstellung
DESCRIPTION:Aus mehr als 40.000 Kürbisse entstehen in wenigen Tagen beeindr
 uckende Kürbisskulpturen. Ein vielfältiges Rahmenprogramm sowie das belieb
 te Kürbis Quiz für Kinder runden das Angebot der erfolgreichen Veranstaltu
 ng ab.\n\nmehr Informationen unter http://pages.destination.one/de/teutona
 vigator/streaming/detail/Event/e_100548766/k-rbisfestival
DTEND;TZID=Europe/Berlin:20230908T180000
DTSTAMP:20260424T141620Z
DTSTART;TZID=Europe/Berlin:20230908T090000
GEO:51.786086;8.813487
LOCATION:Gartenschau Bad Lippspringe\, Lindenstraße 1a\, Bad Lippspringe
PRIORITY:4
RRULE:FREQ=DAILY;UNTIL=20231029T170000
SEQUENCE:0
SUMMARY:Kürbisfestival
UID:e_100548766_iv0
URL:http://pages.destination.one/de/teutonavigator/streaming/detail/Event/e
 _100548766/k-rbisfestival
END:VEVENT
BEGIN:VEVENT
CATEGORIES:Ausstellung
DESCRIPTION:Aus mehr als 40.000 Kürbisse entstehen in wenigen Tagen beeindr
 uckende Kürbisskulpturen. Ein vielfältiges Rahmenprogramm sowie das belieb
 te Kürbis Quiz für Kinder runden das Angebot der erfolgreichen Veranstaltu
 ng ab.\n\nmehr Informationen unter http://pages.destination.one/de/teutona
 vigator/streaming/detail/Event/e_100548766/k-rbisfestival
DTEND;TZID=Europe/Berlin;VALUE=DATE:20230918
DTSTAMP:20260424T141620Z
DTSTART;TZID=Europe/Berlin;VALUE=DATE:20230911
GEO:51.786086;8.813487
LOCATION:Gartenschau Bad Lippspringe\, Lindenstraße 1a\, Bad Lippspringe
PRIORITY:4
SEQUENCE:0
SUMMARY:Kürbisfestival
UID:e_100548766_iv1
URL:http://pages.destination.one/de/teutonavigator/streaming/detail/Event/e
 _100548766/k-rbisfestival
END:VEVENT
BEGIN:VEVENT
CATEGORIES:Ausstellung
DESCRIPTION:Aus mehr als 40.000 Kürbisse entstehen in wenigen Tagen beeindr
 uckende Kürbisskulpturen. Ein vielfältiges Rahmenprogramm sowie das belieb
 te Kürbis Quiz für Kinder runden das Angebot der erfolgreichen Veranstaltu
 ng ab.\n\nmehr Informationen unter http://pages.destination.one/de/teutona
 vigator/streaming/detail/Event/e_100548766/k-rbisfestival
DTEND;TZID=Europe/Berlin;VALUE=DATE:20230925
DTSTAMP:20260424T141620Z
DTSTART;TZID=Europe/Berlin;VALUE=DATE:20230918
GEO:51.786086;8.813487
LOCATION:Gartenschau Bad Lippspringe\, Lindenstraße 1a\, Bad Lippspringe
PRIORITY:4
SEQUENCE:0
SUMMARY:Kürbisfestival
UID:e_100548766_iv2
URL:http://pages.destination.one/de/teutonavigator/streaming/detail/Event/e
 _100548766/k-rbisfestival
END:VEVENT
BEGIN:VEVENT
CATEGORIES:Ausstellung
DESCRIPTION:Aus mehr als 40.000 Kürbisse entstehen in wenigen Tagen beeindr
 uckende Kürbisskulpturen. Ein vielfältiges Rahmenprogramm sowie das belieb
 te Kürbis Quiz für Kinder runden das Angebot der erfolgreichen Veranstaltu
 ng ab.\n\nmehr Informationen unter http://pages.destination.one/de/teutona
 vigator/streaming/detail/Event/e_100548766/k-rbisfestival
DTEND;TZID=Europe/Berlin;VALUE=DATE:20231002
DTSTAMP:20260424T141620Z
DTSTART;TZID=Europe/Berlin;VALUE=DATE:20230925
GEO:51.786086;8.813487
LOCATION:Gartenschau Bad Lippspringe\, Lindenstraße 1a\, Bad Lippspringe
PRIORITY:4
SEQUENCE:0
SUMMARY:Kürbisfestival
UID:e_100548766_iv3
URL:http://pages.destination.one/de/teutonavigator/streaming/detail/Event/e
 _100548766/k-rbisfestival
END:VEVENT
BEGIN:VEVENT
CATEGORIES:Ausstellung
DESCRIPTION:Aus mehr als 40.000 Kürbisse entstehen in wenigen Tagen beeindr
 uckende Kürbisskulpturen. Ein vielfältiges Rahmenprogramm sowie das belieb
 te Kürbis Quiz für Kinder runden das Angebot der erfolgreichen Veranstaltu
 ng ab.\n\nmehr Informationen unter http://pages.destination.one/de/teutona
 vigator/streaming/detail/Event/e_100548766/k-rbisfestival
DTEND;TZID=Europe/Berlin;VALUE=DATE:20231009
DTSTAMP:20260424T141620Z
DTSTART;TZID=Europe/Berlin;VALUE=DATE:20231002
GEO:51.786086;8.813487
LOCATION:Gartenschau Bad Lippspringe\, Lindenstraße 1a\, Bad Lippspringe
PRIORITY:4
SEQUENCE:0
SUMMARY:Kürbisfestival
UID:e_100548766_iv4
URL:http://pages.destination.one/de/teutonavigator/streaming/detail/Event/e
 _100548766/k-rbisfestival
END:VEVENT
BEGIN:VEVENT
CATEGORIES:Ausstellung
DESCRIPTION:Aus mehr als 40.000 Kürbisse entstehen in wenigen Tagen beeindr
 uckende Kürbisskulpturen. Ein vielfältiges Rahmenprogramm sowie das belieb
 te Kürbis Quiz für Kinder runden das Angebot der erfolgreichen Veranstaltu
 ng ab.\n\nmehr Informationen unter http://pages.destination.one/de/teutona
 vigator/streaming/detail/Event/e_100548766/k-rbisfestival
DTEND;TZID=Europe/Berlin;VALUE=DATE:20231016
DTSTAMP:20260424T141620Z
DTSTART;TZID=Europe/Berlin;VALUE=DATE:20231009
GEO:51.786086;8.813487
LOCATION:Gartenschau Bad Lippspringe\, Lindenstraße 1a\, Bad Lippspringe
PRIORITY:4
SEQUENCE:0
SUMMARY:Kürbisfestival
UID:e_100548766_iv5
URL:http://pages.destination.one/de/teutonavigator/streaming/detail/Event/e
 _100548766/k-rbisfestival
END:VEVENT
BEGIN:VEVENT
CATEGORIES:Ausstellung
DESCRIPTION:Aus mehr als 40.000 Kürbisse entstehen in wenigen Tagen beeindr
 uckende Kürbisskulpturen. Ein vielfältiges Rahmenprogramm sowie das belieb
 te Kürbis Quiz für Kinder runden das Angebot der erfolgreichen Veranstaltu
 ng ab.\n\nmehr Informationen unter http://pages.destination.one/de/teutona
 vigator/streaming/detail/Event/e_100548766/k-rbisfestival
DTEND;TZID=Europe/Berlin;VALUE=DATE:20231023
DTSTAMP:20260424T141620Z
DTSTART;TZID=Europe/Berlin;VALUE=DATE:20231016
GEO:51.786086;8.813487
LOCATION:Gartenschau Bad Lippspringe\, Lindenstraße 1a\, Bad Lippspringe
PRIORITY:4
SEQUENCE:0
SUMMARY:Kürbisfestival
UID:e_100548766_iv6
URL:http://pages.destination.one/de/teutonavigator/streaming/detail/Event/e
 _100548766/k-rbisfestival
END:VEVENT
BEGIN:VEVENT
CATEGORIES:Ausstellung
DESCRIPTION:Aus mehr als 40.000 Kürbisse entstehen in wenigen Tagen beeindr
 uckende Kürbisskulpturen. Ein vielfältiges Rahmenprogramm sowie das belieb
 te Kürbis Quiz für Kinder runden das Angebot der erfolgreichen Veranstaltu
 ng ab.\n\nmehr Informationen unter http://pages.destination.one/de/teutona
 vigator/streaming/detail/Event/e_100548766/k-rbisfestival
DTEND;TZID=Europe/Berlin;VALUE=DATE:20231030
DTSTAMP:20260424T141620Z
DTSTART;TZID=Europe/Berlin;VALUE=DATE:20231023
GEO:51.786086;8.813487
LOCATION:Gartenschau Bad Lippspringe\, Lindenstraße 1a\, Bad Lippspringe
PRIORITY:4
SEQUENCE:0
SUMMARY:Kürbisfestival
UID:e_100548766_iv7
URL:http://pages.destination.one/de/teutonavigator/streaming/detail/Event/e
 _100548766/k-rbisfestival
END:VEVENT
BEGIN:VEVENT
CATEGORIES:Ausstellung
DESCRIPTION:Aus mehr als 40.000 Kürbisse entstehen in wenigen Tagen beeindr
 uckende Kürbisskulpturen. Ein vielfältiges Rahmenprogramm sowie das belieb
 te Kürbis Quiz für Kinder runden das Angebot der erfolgreichen Veranstaltu
 ng ab.\n\nmehr Informationen unter http://pages.destination.one/de/teutona
 vigator/streaming/detail/Event/e_100548766/k-rbisfestival
DTEND;TZID=Europe/Berlin:20250912T190000
DTSTAMP:20260424T141620Z
DTSTART;TZID=Europe/Berlin:20250912T090000
GEO:51.786086;8.813487
LOCATION:Gartenschau Bad Lippspringe\, Lindenstraße 1a\, Bad Lippspringe
PRIORITY:4
RRULE:FREQ=DAILY;UNTIL=20251026T180000
SEQUENCE:0
SUMMARY:Kürbisfestival
UID:e_100548766_iv8
URL:http://pages.destination.one/de/teutonavigator/streaming/detail/Event/e
 _100548766/k-rbisfestival
END:VEVENT
BEGIN:VEVENT
CATEGORIES:Ausstellung
DESCRIPTION:Aus mehr als 40.000 Kürbisse entstehen in wenigen Tagen beeindr
 uckende Kürbisskulpturen. Ein vielfältiges Rahmenprogramm sowie das belieb
 te Kürbis Quiz für Kinder runden das Angebot der erfolgreichen Veranstaltu
 ng ab.\n\nmehr Informationen unter http://pages.destination.one/de/teutona
 vigator/streaming/detail/Event/e_100548766/k-rbisfestival
DTEND;TZID=Europe/Berlin:20260911T180000
DTSTAMP:20260424T141620Z
DTSTART;TZID=Europe/Berlin:20260911T090000
GEO:51.786086;8.813487
LOCATION:Gartenschau Bad Lippspringe\, Lindenstraße 1a\, Bad Lippspringe
PRIORITY:4
RRULE:FREQ=DAILY;UNTIL=20261025T170000
SEQUENCE:0
SUMMARY:Kürbisfestival
UID:e_100548766_iv9
URL:http://pages.destination.one/de/teutonavigator/streaming/detail/Event/e
 _100548766/k-rbisfestival
END:VEVENT
BEGIN:VTIMEZONE
TZID:Europe/Berlin
X-LIC-LOCATION:Europe/Berlin
BEGIN:DAYLIGHT
DTSTART:19700329T020000
RRULE:FREQ=YEARLY;BYDAY=-1SU;BYMONTH=3
TZNAME:CEST
TZOFFSETFROM:+0100
TZOFFSETTO:+0200
END:DAYLIGHT
BEGIN:STANDARD
DTSTART:19701025T030000
RRULE:FREQ=YEARLY;BYDAY=-1SU;BYMONTH=10
TZNAME:CET
TZOFFSETFROM:+0200
TZOFFSETTO:+0100
END:STANDARD
END:VTIMEZONE
END:VCALENDAR
