BEGIN:VCALENDAR
VERSION:2.0
PRODID:-//destination.one//NONSGML destination.meta API//DE
X-WR-CALDESC:A calendar powered by destination.meta
X-WR-CALNAME:teutonavigator Kalender via destination.meta
BEGIN:VEVENT
CATEGORIES:Kurs/Seminar/Hobby
CATEGORIES:Sonstiges
DESCRIPTION:Jeden 1. Mittwoch im Monat\, von 18 bis 20 Uhr.\n\nmehr Informa
 tionen unter http://pages.destination.one/de/teutonavigator/streaming/deta
 il/Event/e_100534742/chill-out-drawing-zeichnen-im-museum
DTEND;TZID=Europe/Berlin:20230104T200000
DTSTAMP:20260422T144816Z
DTSTART;TZID=Europe/Berlin:20230104T180000
GEO:51.718403;8.755342
LOCATION:Diözesanmuseum Paderborn\, Markt 17\, Paderborn
ORGANIZER;CN=Diözesanmuseum Paderborn:mailto:museum@erzbistum-paderborn.de
RRULE:FREQ=MONTHLY;BYDAY=1WE
SEQUENCE:0
SUMMARY:Chill Out-Drawing · Zeichnen im Museum
UID:e_100534742_iv0
URL:http://pages.destination.one/de/teutonavigator/streaming/detail/Event/e
 _100534742/chill-out-drawing-zeichnen-im-museum
END:VEVENT
BEGIN:VTIMEZONE
TZID:Europe/Berlin
X-LIC-LOCATION:Europe/Berlin
BEGIN:DAYLIGHT
DTSTART:19700329T020000
RRULE:FREQ=YEARLY;BYDAY=-1SU;BYMONTH=3
TZNAME:CEST
TZOFFSETFROM:+0100
TZOFFSETTO:+0200
END:DAYLIGHT
BEGIN:STANDARD
DTSTART:19701025T030000
RRULE:FREQ=YEARLY;BYDAY=-1SU;BYMONTH=10
TZNAME:CET
TZOFFSETFROM:+0200
TZOFFSETTO:+0100
END:STANDARD
END:VTIMEZONE
END:VCALENDAR
