BEGIN:VCALENDAR
VERSION:2.0
PRODID:-//destination.one//NONSGML destination.meta API//DE
X-WR-CALDESC:A calendar powered by destination.meta
X-WR-CALNAME:teutonavigator Kalender via destination.meta
BEGIN:VEVENT
CATEGORIES:Weihnachtsmarkt
DESCRIPTION:Der Weiberger Weihnachtsmarkt öffnet am Samstag\, den 30. Novem
 ber ab 14.00 Uhr in der Dorfmitte seine Türen. Das Organisationsteam hat e
 in buntes Programm für Groß und Klein zusammengestellt und freut sich auf 
 zahlreiche Besucherinnen und Besucher.\n\nmehr Informationen unter http://
 pages.destination.one/de/teutonavigator/streaming/detail/Event/e_100529157
 /weiberger-weihnachtsmarkt
DTEND;TZID=Europe/Berlin:20221203T235900
DTSTAMP:20260422T100005Z
DTSTART;TZID=Europe/Berlin:20221203T180000
GEO:51.512036;8.589528
LOCATION:Dorfgemeinschaftshaus Weiberg\, Weiberger Straße 22\, Büren
SEQUENCE:0
SUMMARY:Weiberger Weihnachtsmarkt
UID:e_100529157_iv0
URL:http://pages.destination.one/de/teutonavigator/streaming/detail/Event/e
 _100529157/weiberger-weihnachtsmarkt
END:VEVENT
BEGIN:VEVENT
CATEGORIES:Weihnachtsmarkt
DESCRIPTION:Der Weiberger Weihnachtsmarkt öffnet am Samstag\, den 30. Novem
 ber ab 14.00 Uhr in der Dorfmitte seine Türen. Das Organisationsteam hat e
 in buntes Programm für Groß und Klein zusammengestellt und freut sich auf 
 zahlreiche Besucherinnen und Besucher.\n\nmehr Informationen unter http://
 pages.destination.one/de/teutonavigator/streaming/detail/Event/e_100529157
 /weiberger-weihnachtsmarkt
DTEND;TZID=Europe/Berlin:20221204T235900
DTSTAMP:20260422T100005Z
DTSTART;TZID=Europe/Berlin:20221204T110000
GEO:51.512036;8.589528
LOCATION:Dorfgemeinschaftshaus Weiberg\, Weiberger Straße 22\, Büren
SEQUENCE:0
SUMMARY:Weiberger Weihnachtsmarkt
UID:e_100529157_iv1
URL:http://pages.destination.one/de/teutonavigator/streaming/detail/Event/e
 _100529157/weiberger-weihnachtsmarkt
END:VEVENT
BEGIN:VEVENT
CATEGORIES:Weihnachtsmarkt
DESCRIPTION:Der Weiberger Weihnachtsmarkt öffnet am Samstag\, den 30. Novem
 ber ab 14.00 Uhr in der Dorfmitte seine Türen. Das Organisationsteam hat e
 in buntes Programm für Groß und Klein zusammengestellt und freut sich auf 
 zahlreiche Besucherinnen und Besucher.\n\nmehr Informationen unter http://
 pages.destination.one/de/teutonavigator/streaming/detail/Event/e_100529157
 /weiberger-weihnachtsmarkt
DTEND;TZID=Europe/Berlin:20241130T235900
DTSTAMP:20260422T100005Z
DTSTART;TZID=Europe/Berlin:20241130T140000
GEO:51.512036;8.589528
LOCATION:Dorfgemeinschaftshaus Weiberg\, Weiberger Straße 22\, Büren
SEQUENCE:0
SUMMARY:Weiberger Weihnachtsmarkt
UID:e_100529157_iv2
URL:http://pages.destination.one/de/teutonavigator/streaming/detail/Event/e
 _100529157/weiberger-weihnachtsmarkt
END:VEVENT
BEGIN:VEVENT
CATEGORIES:Weihnachtsmarkt
DESCRIPTION:Der Weiberger Weihnachtsmarkt öffnet am Samstag\, den 30. Novem
 ber ab 14.00 Uhr in der Dorfmitte seine Türen. Das Organisationsteam hat e
 in buntes Programm für Groß und Klein zusammengestellt und freut sich auf 
 zahlreiche Besucherinnen und Besucher.\n\nmehr Informationen unter http://
 pages.destination.one/de/teutonavigator/streaming/detail/Event/e_100529157
 /weiberger-weihnachtsmarkt
DTEND;TZID=Europe/Berlin;VALUE=DATE:20261129
DTSTAMP:20260422T100005Z
DTSTART;TZID=Europe/Berlin;VALUE=DATE:20261128
GEO:51.512036;8.589528
LOCATION:Dorfgemeinschaftshaus Weiberg\, Weiberger Straße 22\, Büren
SEQUENCE:0
SUMMARY:Weiberger Weihnachtsmarkt
UID:e_100529157_iv3
URL:http://pages.destination.one/de/teutonavigator/streaming/detail/Event/e
 _100529157/weiberger-weihnachtsmarkt
END:VEVENT
BEGIN:VTIMEZONE
TZID:Europe/Berlin
X-LIC-LOCATION:Europe/Berlin
BEGIN:DAYLIGHT
DTSTART:19700329T020000
RRULE:FREQ=YEARLY;BYDAY=-1SU;BYMONTH=3
TZNAME:CEST
TZOFFSETFROM:+0100
TZOFFSETTO:+0200
END:DAYLIGHT
BEGIN:STANDARD
DTSTART:19701025T030000
RRULE:FREQ=YEARLY;BYDAY=-1SU;BYMONTH=10
TZNAME:CET
TZOFFSETFROM:+0200
TZOFFSETTO:+0100
END:STANDARD
END:VTIMEZONE
END:VCALENDAR
