BEGIN:VCALENDAR
VERSION:2.0
PRODID:-//destination.one//NONSGML destination.meta API//DE
X-WR-CALDESC:A calendar powered by destination.meta
X-WR-CALNAME:teutonavigator Kalender via destination.meta
BEGIN:VEVENT
CATEGORIES:Sport/Freizeit
DESCRIPTION:\n\nmehr Informationen unter http://pages.destination.one/de/te
 utonavigator/streaming/detail/Event/e_100528458/kids-graf-mini-graf-beim-g
 rafschaftslauf
DTEND;TZID=Europe/Berlin:20230827T121500
DTSTAMP:20260424T115055Z
DTSTART;TZID=Europe/Berlin:20230827T113000
GEO:51.898529;8.602488
LOCATION:Jagdschloss Holte mit Selfie-Point SHS\, Am Schloss 1\, Schloß Hol
 te-Stukenbrock
ORGANIZER;CN=Laufspass Sende (Veranstalter):mailto:info@swsende.de
PRIORITY:4
RRULE:FREQ=YEARLY;UNTIL=20250823T101500;BYDAY=4SU;BYMONTH=8
SEQUENCE:0
SUMMARY:KIDS-Graf / MINI-Graf beim Grafschaftslauf
UID:e_100528458_iv0
URL:http://pages.destination.one/de/teutonavigator/streaming/detail/Event/e
 _100528458/kids-graf-mini-graf-beim-grafschaftslauf
END:VEVENT
BEGIN:VEVENT
CATEGORIES:Sport/Freizeit
DESCRIPTION:\n\nmehr Informationen unter http://pages.destination.one/de/te
 utonavigator/streaming/detail/Event/e_100528458/kids-graf-mini-graf-beim-g
 rafschaftslauf
DTEND;TZID=Europe/Berlin:20250831T121500
DTSTAMP:20260424T115055Z
DTSTART;TZID=Europe/Berlin:20250831T113000
GEO:51.898529;8.602488
LOCATION:Jagdschloss Holte mit Selfie-Point SHS\, Am Schloss 1\, Schloß Hol
 te-Stukenbrock
ORGANIZER;CN=Laufspass Sende (Veranstalter):mailto:info@swsende.de
PRIORITY:4
SEQUENCE:0
SUMMARY:KIDS-Graf / MINI-Graf beim Grafschaftslauf
UID:e_100528458_iv1
URL:http://pages.destination.one/de/teutonavigator/streaming/detail/Event/e
 _100528458/kids-graf-mini-graf-beim-grafschaftslauf
END:VEVENT
BEGIN:VEVENT
CATEGORIES:Sport/Freizeit
DESCRIPTION:\n\nmehr Informationen unter http://pages.destination.one/de/te
 utonavigator/streaming/detail/Event/e_100528458/kids-graf-mini-graf-beim-g
 rafschaftslauf
DTEND;TZID=Europe/Berlin:20260830T121500
DTSTAMP:20260424T115055Z
DTSTART;TZID=Europe/Berlin:20260830T113000
GEO:51.898529;8.602488
LOCATION:Jagdschloss Holte mit Selfie-Point SHS\, Am Schloss 1\, Schloß Hol
 te-Stukenbrock
ORGANIZER;CN=Laufspass Sende (Veranstalter):mailto:info@swsende.de
PRIORITY:4
SEQUENCE:0
SUMMARY:KIDS-Graf / MINI-Graf beim Grafschaftslauf
UID:e_100528458_iv2
URL:http://pages.destination.one/de/teutonavigator/streaming/detail/Event/e
 _100528458/kids-graf-mini-graf-beim-grafschaftslauf
END:VEVENT
BEGIN:VEVENT
CATEGORIES:Sport/Freizeit
DESCRIPTION:\n\nmehr Informationen unter http://pages.destination.one/de/te
 utonavigator/streaming/detail/Event/e_100528458/kids-graf-mini-graf-beim-g
 rafschaftslauf
DTEND;TZID=Europe/Berlin:20270829T121500
DTSTAMP:20260424T115055Z
DTSTART;TZID=Europe/Berlin:20270829T113000
GEO:51.898529;8.602488
LOCATION:Jagdschloss Holte mit Selfie-Point SHS\, Am Schloss 1\, Schloß Hol
 te-Stukenbrock
ORGANIZER;CN=Laufspass Sende (Veranstalter):mailto:info@swsende.de
PRIORITY:4
SEQUENCE:0
SUMMARY:KIDS-Graf / MINI-Graf beim Grafschaftslauf
UID:e_100528458_iv3
URL:http://pages.destination.one/de/teutonavigator/streaming/detail/Event/e
 _100528458/kids-graf-mini-graf-beim-grafschaftslauf
END:VEVENT
BEGIN:VEVENT
CATEGORIES:Sport/Freizeit
DESCRIPTION:\n\nmehr Informationen unter http://pages.destination.one/de/te
 utonavigator/streaming/detail/Event/e_100528458/kids-graf-mini-graf-beim-g
 rafschaftslauf
DTEND;TZID=Europe/Berlin:20280827T121500
DTSTAMP:20260424T115055Z
DTSTART;TZID=Europe/Berlin:20280827T113000
GEO:51.898529;8.602488
LOCATION:Jagdschloss Holte mit Selfie-Point SHS\, Am Schloss 1\, Schloß Hol
 te-Stukenbrock
ORGANIZER;CN=Laufspass Sende (Veranstalter):mailto:info@swsende.de
PRIORITY:4
RRULE:FREQ=YEARLY;UNTIL=20300825T101500;BYDAY=4SU;BYMONTH=8
SEQUENCE:0
SUMMARY:KIDS-Graf / MINI-Graf beim Grafschaftslauf
UID:e_100528458_iv4
URL:http://pages.destination.one/de/teutonavigator/streaming/detail/Event/e
 _100528458/kids-graf-mini-graf-beim-grafschaftslauf
END:VEVENT
BEGIN:VEVENT
CATEGORIES:Sport/Freizeit
DESCRIPTION:\n\nmehr Informationen unter http://pages.destination.one/de/te
 utonavigator/streaming/detail/Event/e_100528458/kids-graf-mini-graf-beim-g
 rafschaftslauf
DTEND;TZID=Europe/Berlin:20310901T121500
DTSTAMP:20260424T115055Z
DTSTART;TZID=Europe/Berlin:20310831T113000
GEO:51.898529;8.602488
LOCATION:Jagdschloss Holte mit Selfie-Point SHS\, Am Schloss 1\, Schloß Hol
 te-Stukenbrock
ORGANIZER;CN=Laufspass Sende (Veranstalter):mailto:info@swsende.de
PRIORITY:4
SEQUENCE:0
SUMMARY:KIDS-Graf / MINI-Graf beim Grafschaftslauf
UID:e_100528458_iv5
URL:http://pages.destination.one/de/teutonavigator/streaming/detail/Event/e
 _100528458/kids-graf-mini-graf-beim-grafschaftslauf
END:VEVENT
BEGIN:VEVENT
CATEGORIES:Sport/Freizeit
DESCRIPTION:\n\nmehr Informationen unter http://pages.destination.one/de/te
 utonavigator/streaming/detail/Event/e_100528458/kids-graf-mini-graf-beim-g
 rafschaftslauf
DTEND;TZID=Europe/Berlin:20320829T121500
DTSTAMP:20260424T115055Z
DTSTART;TZID=Europe/Berlin:20320829T113000
GEO:51.898529;8.602488
LOCATION:Jagdschloss Holte mit Selfie-Point SHS\, Am Schloss 1\, Schloß Hol
 te-Stukenbrock
ORGANIZER;CN=Laufspass Sende (Veranstalter):mailto:info@swsende.de
PRIORITY:4
SEQUENCE:0
SUMMARY:KIDS-Graf / MINI-Graf beim Grafschaftslauf
UID:e_100528458_iv6
URL:http://pages.destination.one/de/teutonavigator/streaming/detail/Event/e
 _100528458/kids-graf-mini-graf-beim-grafschaftslauf
END:VEVENT
BEGIN:VEVENT
CATEGORIES:Sport/Freizeit
DESCRIPTION:\n\nmehr Informationen unter http://pages.destination.one/de/te
 utonavigator/streaming/detail/Event/e_100528458/kids-graf-mini-graf-beim-g
 rafschaftslauf
DTEND;TZID=Europe/Berlin:20330828T121500
DTSTAMP:20260424T115055Z
DTSTART;TZID=Europe/Berlin:20330828T113000
GEO:51.898529;8.602488
LOCATION:Jagdschloss Holte mit Selfie-Point SHS\, Am Schloss 1\, Schloß Hol
 te-Stukenbrock
ORGANIZER;CN=Laufspass Sende (Veranstalter):mailto:info@swsende.de
PRIORITY:4
SEQUENCE:0
SUMMARY:KIDS-Graf / MINI-Graf beim Grafschaftslauf
UID:e_100528458_iv7
URL:http://pages.destination.one/de/teutonavigator/streaming/detail/Event/e
 _100528458/kids-graf-mini-graf-beim-grafschaftslauf
END:VEVENT
BEGIN:VEVENT
CATEGORIES:Sport/Freizeit
DESCRIPTION:\n\nmehr Informationen unter http://pages.destination.one/de/te
 utonavigator/streaming/detail/Event/e_100528458/kids-graf-mini-graf-beim-g
 rafschaftslauf
DTEND;TZID=Europe/Berlin:20370831T111500
DTSTAMP:20260424T115055Z
DTSTART;TZID=Europe/Berlin:20370830T113000
GEO:51.898529;8.602488
LOCATION:Jagdschloss Holte mit Selfie-Point SHS\, Am Schloss 1\, Schloß Hol
 te-Stukenbrock
ORGANIZER;CN=Laufspass Sende (Veranstalter):mailto:info@swsende.de
PRIORITY:4
SEQUENCE:0
SUMMARY:KIDS-Graf / MINI-Graf beim Grafschaftslauf
UID:e_100528458_iv8
URL:http://pages.destination.one/de/teutonavigator/streaming/detail/Event/e
 _100528458/kids-graf-mini-graf-beim-grafschaftslauf
END:VEVENT
BEGIN:VEVENT
CATEGORIES:Sport/Freizeit
DESCRIPTION:\n\nmehr Informationen unter http://pages.destination.one/de/te
 utonavigator/streaming/detail/Event/e_100528458/kids-graf-mini-graf-beim-g
 rafschaftslauf
DTEND;TZID=Europe/Berlin:20380830T101500
DTSTAMP:20260424T115055Z
DTSTART;TZID=Europe/Berlin:20380829T113000
GEO:51.898529;8.602488
LOCATION:Jagdschloss Holte mit Selfie-Point SHS\, Am Schloss 1\, Schloß Hol
 te-Stukenbrock
ORGANIZER;CN=Laufspass Sende (Veranstalter):mailto:info@swsende.de
PRIORITY:4
SEQUENCE:0
SUMMARY:KIDS-Graf / MINI-Graf beim Grafschaftslauf
UID:e_100528458_iv9
URL:http://pages.destination.one/de/teutonavigator/streaming/detail/Event/e
 _100528458/kids-graf-mini-graf-beim-grafschaftslauf
END:VEVENT
BEGIN:VTIMEZONE
TZID:Europe/Berlin
X-LIC-LOCATION:Europe/Berlin
BEGIN:DAYLIGHT
DTSTART:19700329T020000
RRULE:FREQ=YEARLY;BYDAY=-1SU;BYMONTH=3
TZNAME:CEST
TZOFFSETFROM:+0100
TZOFFSETTO:+0200
END:DAYLIGHT
BEGIN:STANDARD
DTSTART:19701025T030000
RRULE:FREQ=YEARLY;BYDAY=-1SU;BYMONTH=10
TZNAME:CET
TZOFFSETFROM:+0200
TZOFFSETTO:+0100
END:STANDARD
END:VTIMEZONE
END:VCALENDAR
