BEGIN:VCALENDAR
VERSION:2.0
PRODID:-//destination.one//NONSGML destination.meta API//DE
X-WR-CALDESC:A calendar powered by destination.meta
X-WR-CALNAME:teutonavigator Kalender via destination.meta
BEGIN:VEVENT
CATEGORIES:Geselligkeit/Spiele/Treffen
CATEGORIES:Sport/Freizeit
DESCRIPTION:In Liemke sind die besten Fans!\n\nmehr Informationen unter htt
 p://pages.destination.one/de/teutonavigator/streaming/detail/Event/e_10052
 8443/grafschaftslauf-fan-meile-in-liemke
DTEND;TZID=Europe/Berlin:20230827T160000
DTSTAMP:20260421T174615Z
DTSTART;TZID=Europe/Berlin:20230827T113000
GEO:51.870099;8.614279
LOCATION:Schützenplatz Liemke mit Schützenhalle\, St.-Sebastianus-Straße 1\
 , Schloß Holte-Stukenbrock
ORGANIZER;CN=Touristinformation Stadt Schloß Holte-Stukenbrock:mailto:info@
 stadt-shs.de
RRULE:FREQ=YEARLY;UNTIL=20240824T140000;BYDAY=4SU;BYMONTH=8
SEQUENCE:0
SUMMARY:Grafschaftslauf: Fan-Meile in Liemke
UID:e_100528443_iv0
URL:http://pages.destination.one/de/teutonavigator/streaming/detail/Event/e
 _100528443/grafschaftslauf-fan-meile-in-liemke
END:VEVENT
BEGIN:VEVENT
CATEGORIES:Geselligkeit/Spiele/Treffen
CATEGORIES:Sport/Freizeit
DESCRIPTION:In Liemke sind die besten Fans!\n\nmehr Informationen unter htt
 p://pages.destination.one/de/teutonavigator/streaming/detail/Event/e_10052
 8443/grafschaftslauf-fan-meile-in-liemke
DTEND;TZID=Europe/Berlin:20240825T153000
DTSTAMP:20260421T174615Z
DTSTART;TZID=Europe/Berlin:20240825T113000
GEO:51.870099;8.614279
LOCATION:Schützenplatz Liemke mit Schützenhalle\, St.-Sebastianus-Straße 1\
 , Schloß Holte-Stukenbrock
ORGANIZER;CN=Touristinformation Stadt Schloß Holte-Stukenbrock:mailto:info@
 stadt-shs.de
SEQUENCE:0
SUMMARY:Grafschaftslauf: Fan-Meile in Liemke
UID:e_100528443_iv1
URL:http://pages.destination.one/de/teutonavigator/streaming/detail/Event/e
 _100528443/grafschaftslauf-fan-meile-in-liemke
END:VEVENT
BEGIN:VEVENT
CATEGORIES:Geselligkeit/Spiele/Treffen
CATEGORIES:Sport/Freizeit
DESCRIPTION:In Liemke sind die besten Fans!\n\nmehr Informationen unter htt
 p://pages.destination.one/de/teutonavigator/streaming/detail/Event/e_10052
 8443/grafschaftslauf-fan-meile-in-liemke
DTEND;TZID=Europe/Berlin:20250831T151500
DTSTAMP:20260421T174615Z
DTSTART;TZID=Europe/Berlin:20250831T114500
GEO:51.870099;8.614279
LOCATION:Schützenplatz Liemke mit Schützenhalle\, St.-Sebastianus-Straße 1\
 , Schloß Holte-Stukenbrock
ORGANIZER;CN=Touristinformation Stadt Schloß Holte-Stukenbrock:mailto:info@
 stadt-shs.de
SEQUENCE:0
SUMMARY:Grafschaftslauf: Fan-Meile in Liemke
UID:e_100528443_iv2
URL:http://pages.destination.one/de/teutonavigator/streaming/detail/Event/e
 _100528443/grafschaftslauf-fan-meile-in-liemke
END:VEVENT
BEGIN:VEVENT
CATEGORIES:Geselligkeit/Spiele/Treffen
CATEGORIES:Sport/Freizeit
DESCRIPTION:In Liemke sind die besten Fans!\n\nmehr Informationen unter htt
 p://pages.destination.one/de/teutonavigator/streaming/detail/Event/e_10052
 8443/grafschaftslauf-fan-meile-in-liemke
DTEND;TZID=Europe/Berlin:20260830T151500
DTSTAMP:20260421T174615Z
DTSTART;TZID=Europe/Berlin:20260830T114500
GEO:51.870099;8.614279
LOCATION:Schützenplatz Liemke mit Schützenhalle\, St.-Sebastianus-Straße 1\
 , Schloß Holte-Stukenbrock
ORGANIZER;CN=Touristinformation Stadt Schloß Holte-Stukenbrock:mailto:info@
 stadt-shs.de
SEQUENCE:0
SUMMARY:Grafschaftslauf: Fan-Meile in Liemke
UID:e_100528443_iv3
URL:http://pages.destination.one/de/teutonavigator/streaming/detail/Event/e
 _100528443/grafschaftslauf-fan-meile-in-liemke
END:VEVENT
BEGIN:VEVENT
CATEGORIES:Geselligkeit/Spiele/Treffen
CATEGORIES:Sport/Freizeit
DESCRIPTION:In Liemke sind die besten Fans!\n\nmehr Informationen unter htt
 p://pages.destination.one/de/teutonavigator/streaming/detail/Event/e_10052
 8443/grafschaftslauf-fan-meile-in-liemke
DTEND;TZID=Europe/Berlin:20270829T151500
DTSTAMP:20260421T174615Z
DTSTART;TZID=Europe/Berlin:20270829T114500
GEO:51.870099;8.614279
LOCATION:Schützenplatz Liemke mit Schützenhalle\, St.-Sebastianus-Straße 1\
 , Schloß Holte-Stukenbrock
ORGANIZER;CN=Touristinformation Stadt Schloß Holte-Stukenbrock:mailto:info@
 stadt-shs.de
SEQUENCE:0
SUMMARY:Grafschaftslauf: Fan-Meile in Liemke
UID:e_100528443_iv4
URL:http://pages.destination.one/de/teutonavigator/streaming/detail/Event/e
 _100528443/grafschaftslauf-fan-meile-in-liemke
END:VEVENT
BEGIN:VEVENT
CATEGORIES:Geselligkeit/Spiele/Treffen
CATEGORIES:Sport/Freizeit
DESCRIPTION:In Liemke sind die besten Fans!\n\nmehr Informationen unter htt
 p://pages.destination.one/de/teutonavigator/streaming/detail/Event/e_10052
 8443/grafschaftslauf-fan-meile-in-liemke
DTEND;TZID=Europe/Berlin:20280827T151500
DTSTAMP:20260421T174615Z
DTSTART;TZID=Europe/Berlin:20280827T114500
GEO:51.870099;8.614279
LOCATION:Schützenplatz Liemke mit Schützenhalle\, St.-Sebastianus-Straße 1\
 , Schloß Holte-Stukenbrock
ORGANIZER;CN=Touristinformation Stadt Schloß Holte-Stukenbrock:mailto:info@
 stadt-shs.de
RRULE:FREQ=YEARLY;UNTIL=20310823T131500;BYDAY=4SU;BYMONTH=8
SEQUENCE:0
SUMMARY:Grafschaftslauf: Fan-Meile in Liemke
UID:e_100528443_iv5
URL:http://pages.destination.one/de/teutonavigator/streaming/detail/Event/e
 _100528443/grafschaftslauf-fan-meile-in-liemke
END:VEVENT
BEGIN:VEVENT
CATEGORIES:Geselligkeit/Spiele/Treffen
CATEGORIES:Sport/Freizeit
DESCRIPTION:In Liemke sind die besten Fans!\n\nmehr Informationen unter htt
 p://pages.destination.one/de/teutonavigator/streaming/detail/Event/e_10052
 8443/grafschaftslauf-fan-meile-in-liemke
DTEND;TZID=Europe/Berlin:20310831T151500
DTSTAMP:20260421T174615Z
DTSTART;TZID=Europe/Berlin:20310831T114500
GEO:51.870099;8.614279
LOCATION:Schützenplatz Liemke mit Schützenhalle\, St.-Sebastianus-Straße 1\
 , Schloß Holte-Stukenbrock
ORGANIZER;CN=Touristinformation Stadt Schloß Holte-Stukenbrock:mailto:info@
 stadt-shs.de
SEQUENCE:0
SUMMARY:Grafschaftslauf: Fan-Meile in Liemke
UID:e_100528443_iv6
URL:http://pages.destination.one/de/teutonavigator/streaming/detail/Event/e
 _100528443/grafschaftslauf-fan-meile-in-liemke
END:VEVENT
BEGIN:VEVENT
CATEGORIES:Geselligkeit/Spiele/Treffen
CATEGORIES:Sport/Freizeit
DESCRIPTION:In Liemke sind die besten Fans!\n\nmehr Informationen unter htt
 p://pages.destination.one/de/teutonavigator/streaming/detail/Event/e_10052
 8443/grafschaftslauf-fan-meile-in-liemke
DTEND;TZID=Europe/Berlin:20320829T141500
DTSTAMP:20260421T174615Z
DTSTART;TZID=Europe/Berlin:20320829T114500
GEO:51.870099;8.614279
LOCATION:Schützenplatz Liemke mit Schützenhalle\, St.-Sebastianus-Straße 1\
 , Schloß Holte-Stukenbrock
ORGANIZER;CN=Touristinformation Stadt Schloß Holte-Stukenbrock:mailto:info@
 stadt-shs.de
SEQUENCE:0
SUMMARY:Grafschaftslauf: Fan-Meile in Liemke
UID:e_100528443_iv7
URL:http://pages.destination.one/de/teutonavigator/streaming/detail/Event/e
 _100528443/grafschaftslauf-fan-meile-in-liemke
END:VEVENT
BEGIN:VEVENT
CATEGORIES:Geselligkeit/Spiele/Treffen
CATEGORIES:Sport/Freizeit
DESCRIPTION:In Liemke sind die besten Fans!\n\nmehr Informationen unter htt
 p://pages.destination.one/de/teutonavigator/streaming/detail/Event/e_10052
 8443/grafschaftslauf-fan-meile-in-liemke
DTEND;TZID=Europe/Berlin:20330821T141500
DTSTAMP:20260421T174615Z
DTSTART;TZID=Europe/Berlin:20330821T114500
GEO:51.870099;8.614279
LOCATION:Schützenplatz Liemke mit Schützenhalle\, St.-Sebastianus-Straße 1\
 , Schloß Holte-Stukenbrock
ORGANIZER;CN=Touristinformation Stadt Schloß Holte-Stukenbrock:mailto:info@
 stadt-shs.de
RRULE:FREQ=YEARLY;BYDAY=4SU;BYMONTH=8
SEQUENCE:0
SUMMARY:Grafschaftslauf: Fan-Meile in Liemke
UID:e_100528443_iv8
URL:http://pages.destination.one/de/teutonavigator/streaming/detail/Event/e
 _100528443/grafschaftslauf-fan-meile-in-liemke
END:VEVENT
BEGIN:VTIMEZONE
TZID:Europe/Berlin
X-LIC-LOCATION:Europe/Berlin
BEGIN:DAYLIGHT
DTSTART:19700329T020000
RRULE:FREQ=YEARLY;BYDAY=-1SU;BYMONTH=3
TZNAME:CEST
TZOFFSETFROM:+0100
TZOFFSETTO:+0200
END:DAYLIGHT
BEGIN:STANDARD
DTSTART:19701025T030000
RRULE:FREQ=YEARLY;BYDAY=-1SU;BYMONTH=10
TZNAME:CET
TZOFFSETFROM:+0200
TZOFFSETTO:+0100
END:STANDARD
END:VTIMEZONE
END:VCALENDAR
