BEGIN:VCALENDAR
VERSION:2.0
PRODID:-//destination.one//NONSGML destination.meta API//DE
X-WR-CALDESC:A calendar powered by destination.meta
X-WR-CALNAME:teutonavigator Kalender via destination.meta
BEGIN:VEVENT
CATEGORIES:Weihnachtsmarkt
DESCRIPTION:Zauberhafte Kulisse mit großem funkelnden Stern und nachhaltige
  Weihnachtsbäume\n\nmehr Informationen unter http://pages.destination.one/
 de/teutonavigator/streaming/detail/Event/e_100513711/weihnachtszauber-im-s
 chlosspark
DTEND;TZID=Europe/Berlin:20221202T210000
DTSTAMP:20260422T144305Z
DTSTART;TZID=Europe/Berlin:20221202T150000
GEO:51.745924;8.711858
LOCATION:Schloß Neuhaus und Barockgarten\, Residenzstraße 2\, Paderborn
ORGANIZER;CN=Schloss- und Auenpark Paderborn :mailto:schlosspark@paderborn.
 de
PRIORITY:4
SEQUENCE:0
SUMMARY:Weihnachtszauber im Schlosspark
UID:e_100513711_iv0
URL:http://pages.destination.one/de/teutonavigator/streaming/detail/Event/e
 _100513711/weihnachtszauber-im-schlosspark
END:VEVENT
BEGIN:VEVENT
CATEGORIES:Weihnachtsmarkt
DESCRIPTION:Zauberhafte Kulisse mit großem funkelnden Stern und nachhaltige
  Weihnachtsbäume\n\nmehr Informationen unter http://pages.destination.one/
 de/teutonavigator/streaming/detail/Event/e_100513711/weihnachtszauber-im-s
 chlosspark
DTEND;TZID=Europe/Berlin:20221203T210000
DTSTAMP:20260422T144305Z
DTSTART;TZID=Europe/Berlin:20221203T130000
GEO:51.745924;8.711858
LOCATION:Schloß Neuhaus und Barockgarten\, Residenzstraße 2\, Paderborn
ORGANIZER;CN=Schloss- und Auenpark Paderborn :mailto:schlosspark@paderborn.
 de
PRIORITY:4
SEQUENCE:0
SUMMARY:Weihnachtszauber im Schlosspark
UID:e_100513711_iv1
URL:http://pages.destination.one/de/teutonavigator/streaming/detail/Event/e
 _100513711/weihnachtszauber-im-schlosspark
END:VEVENT
BEGIN:VEVENT
CATEGORIES:Weihnachtsmarkt
DESCRIPTION:Zauberhafte Kulisse mit großem funkelnden Stern und nachhaltige
  Weihnachtsbäume\n\nmehr Informationen unter http://pages.destination.one/
 de/teutonavigator/streaming/detail/Event/e_100513711/weihnachtszauber-im-s
 chlosspark
DTEND;TZID=Europe/Berlin:20221204T190000
DTSTAMP:20260422T144305Z
DTSTART;TZID=Europe/Berlin:20221204T110000
GEO:51.745924;8.711858
LOCATION:Schloß Neuhaus und Barockgarten\, Residenzstraße 2\, Paderborn
ORGANIZER;CN=Schloss- und Auenpark Paderborn :mailto:schlosspark@paderborn.
 de
PRIORITY:4
SEQUENCE:0
SUMMARY:Weihnachtszauber im Schlosspark
UID:e_100513711_iv2
URL:http://pages.destination.one/de/teutonavigator/streaming/detail/Event/e
 _100513711/weihnachtszauber-im-schlosspark
END:VEVENT
BEGIN:VEVENT
CATEGORIES:Weihnachtsmarkt
DESCRIPTION:Zauberhafte Kulisse mit großem funkelnden Stern und nachhaltige
  Weihnachtsbäume\n\nmehr Informationen unter http://pages.destination.one/
 de/teutonavigator/streaming/detail/Event/e_100513711/weihnachtszauber-im-s
 chlosspark
DTEND;TZID=Europe/Berlin:20231208T210000
DTSTAMP:20260422T144305Z
DTSTART;TZID=Europe/Berlin:20231208T150000
GEO:51.745924;8.711858
LOCATION:Schloß Neuhaus und Barockgarten\, Residenzstraße 2\, Paderborn
ORGANIZER;CN=Schloss- und Auenpark Paderborn :mailto:schlosspark@paderborn.
 de
PRIORITY:4
SEQUENCE:0
SUMMARY:Weihnachtszauber im Schlosspark
UID:e_100513711_iv3
URL:http://pages.destination.one/de/teutonavigator/streaming/detail/Event/e
 _100513711/weihnachtszauber-im-schlosspark
END:VEVENT
BEGIN:VEVENT
CATEGORIES:Weihnachtsmarkt
DESCRIPTION:Zauberhafte Kulisse mit großem funkelnden Stern und nachhaltige
  Weihnachtsbäume\n\nmehr Informationen unter http://pages.destination.one/
 de/teutonavigator/streaming/detail/Event/e_100513711/weihnachtszauber-im-s
 chlosspark
DTEND;TZID=Europe/Berlin:20231209T210000
DTSTAMP:20260422T144305Z
DTSTART;TZID=Europe/Berlin:20231209T130000
GEO:51.745924;8.711858
LOCATION:Schloß Neuhaus und Barockgarten\, Residenzstraße 2\, Paderborn
ORGANIZER;CN=Schloss- und Auenpark Paderborn :mailto:schlosspark@paderborn.
 de
PRIORITY:4
SEQUENCE:0
SUMMARY:Weihnachtszauber im Schlosspark
UID:e_100513711_iv4
URL:http://pages.destination.one/de/teutonavigator/streaming/detail/Event/e
 _100513711/weihnachtszauber-im-schlosspark
END:VEVENT
BEGIN:VEVENT
CATEGORIES:Weihnachtsmarkt
DESCRIPTION:Zauberhafte Kulisse mit großem funkelnden Stern und nachhaltige
  Weihnachtsbäume\n\nmehr Informationen unter http://pages.destination.one/
 de/teutonavigator/streaming/detail/Event/e_100513711/weihnachtszauber-im-s
 chlosspark
DTEND;TZID=Europe/Berlin:20231210T190000
DTSTAMP:20260422T144305Z
DTSTART;TZID=Europe/Berlin:20231210T110000
GEO:51.745924;8.711858
LOCATION:Schloß Neuhaus und Barockgarten\, Residenzstraße 2\, Paderborn
ORGANIZER;CN=Schloss- und Auenpark Paderborn :mailto:schlosspark@paderborn.
 de
PRIORITY:4
SEQUENCE:0
SUMMARY:Weihnachtszauber im Schlosspark
UID:e_100513711_iv5
URL:http://pages.destination.one/de/teutonavigator/streaming/detail/Event/e
 _100513711/weihnachtszauber-im-schlosspark
END:VEVENT
BEGIN:VEVENT
CATEGORIES:Weihnachtsmarkt
DESCRIPTION:Zauberhafte Kulisse mit großem funkelnden Stern und nachhaltige
  Weihnachtsbäume\n\nmehr Informationen unter http://pages.destination.one/
 de/teutonavigator/streaming/detail/Event/e_100513711/weihnachtszauber-im-s
 chlosspark
DTEND;TZID=Europe/Berlin:20241206T210000
DTSTAMP:20260422T144305Z
DTSTART;TZID=Europe/Berlin:20241206T150000
GEO:51.745924;8.711858
LOCATION:Schloß Neuhaus und Barockgarten\, Residenzstraße 2\, Paderborn
ORGANIZER;CN=Schloss- und Auenpark Paderborn :mailto:schlosspark@paderborn.
 de
PRIORITY:4
SEQUENCE:0
SUMMARY:Weihnachtszauber im Schlosspark
UID:e_100513711_iv6
URL:http://pages.destination.one/de/teutonavigator/streaming/detail/Event/e
 _100513711/weihnachtszauber-im-schlosspark
END:VEVENT
BEGIN:VEVENT
CATEGORIES:Weihnachtsmarkt
DESCRIPTION:Zauberhafte Kulisse mit großem funkelnden Stern und nachhaltige
  Weihnachtsbäume\n\nmehr Informationen unter http://pages.destination.one/
 de/teutonavigator/streaming/detail/Event/e_100513711/weihnachtszauber-im-s
 chlosspark
DTEND;TZID=Europe/Berlin:20241207T210000
DTSTAMP:20260422T144305Z
DTSTART;TZID=Europe/Berlin:20241207T130000
GEO:51.745924;8.711858
LOCATION:Schloß Neuhaus und Barockgarten\, Residenzstraße 2\, Paderborn
ORGANIZER;CN=Schloss- und Auenpark Paderborn :mailto:schlosspark@paderborn.
 de
PRIORITY:4
SEQUENCE:0
SUMMARY:Weihnachtszauber im Schlosspark
UID:e_100513711_iv7
URL:http://pages.destination.one/de/teutonavigator/streaming/detail/Event/e
 _100513711/weihnachtszauber-im-schlosspark
END:VEVENT
BEGIN:VEVENT
CATEGORIES:Weihnachtsmarkt
DESCRIPTION:Zauberhafte Kulisse mit großem funkelnden Stern und nachhaltige
  Weihnachtsbäume\n\nmehr Informationen unter http://pages.destination.one/
 de/teutonavigator/streaming/detail/Event/e_100513711/weihnachtszauber-im-s
 chlosspark
DTEND;TZID=Europe/Berlin:20241208T190000
DTSTAMP:20260422T144305Z
DTSTART;TZID=Europe/Berlin:20241208T110000
GEO:51.745924;8.711858
LOCATION:Schloß Neuhaus und Barockgarten\, Residenzstraße 2\, Paderborn
ORGANIZER;CN=Schloss- und Auenpark Paderborn :mailto:schlosspark@paderborn.
 de
PRIORITY:4
SEQUENCE:0
SUMMARY:Weihnachtszauber im Schlosspark
UID:e_100513711_iv8
URL:http://pages.destination.one/de/teutonavigator/streaming/detail/Event/e
 _100513711/weihnachtszauber-im-schlosspark
END:VEVENT
BEGIN:VEVENT
CATEGORIES:Weihnachtsmarkt
DESCRIPTION:Zauberhafte Kulisse mit großem funkelnden Stern und nachhaltige
  Weihnachtsbäume\n\nmehr Informationen unter http://pages.destination.one/
 de/teutonavigator/streaming/detail/Event/e_100513711/weihnachtszauber-im-s
 chlosspark
DTEND;TZID=Europe/Berlin:20251205T210000
DTSTAMP:20260422T144305Z
DTSTART;TZID=Europe/Berlin:20251205T150000
GEO:51.745924;8.711858
LOCATION:Schloß Neuhaus und Barockgarten\, Residenzstraße 2\, Paderborn
ORGANIZER;CN=Schloss- und Auenpark Paderborn :mailto:schlosspark@paderborn.
 de
PRIORITY:4
SEQUENCE:0
SUMMARY:Weihnachtszauber im Schlosspark
UID:e_100513711_iv9
URL:http://pages.destination.one/de/teutonavigator/streaming/detail/Event/e
 _100513711/weihnachtszauber-im-schlosspark
END:VEVENT
BEGIN:VEVENT
CATEGORIES:Weihnachtsmarkt
DESCRIPTION:Zauberhafte Kulisse mit großem funkelnden Stern und nachhaltige
  Weihnachtsbäume\n\nmehr Informationen unter http://pages.destination.one/
 de/teutonavigator/streaming/detail/Event/e_100513711/weihnachtszauber-im-s
 chlosspark
DTEND;TZID=Europe/Berlin:20251206T210000
DTSTAMP:20260422T144305Z
DTSTART;TZID=Europe/Berlin:20251206T130000
GEO:51.745924;8.711858
LOCATION:Schloß Neuhaus und Barockgarten\, Residenzstraße 2\, Paderborn
ORGANIZER;CN=Schloss- und Auenpark Paderborn :mailto:schlosspark@paderborn.
 de
PRIORITY:4
SEQUENCE:0
SUMMARY:Weihnachtszauber im Schlosspark
UID:e_100513711_iv10
URL:http://pages.destination.one/de/teutonavigator/streaming/detail/Event/e
 _100513711/weihnachtszauber-im-schlosspark
END:VEVENT
BEGIN:VEVENT
CATEGORIES:Weihnachtsmarkt
DESCRIPTION:Zauberhafte Kulisse mit großem funkelnden Stern und nachhaltige
  Weihnachtsbäume\n\nmehr Informationen unter http://pages.destination.one/
 de/teutonavigator/streaming/detail/Event/e_100513711/weihnachtszauber-im-s
 chlosspark
DTEND;TZID=Europe/Berlin:20251207T190000
DTSTAMP:20260422T144305Z
DTSTART;TZID=Europe/Berlin:20251207T110000
GEO:51.745924;8.711858
LOCATION:Schloß Neuhaus und Barockgarten\, Residenzstraße 2\, Paderborn
ORGANIZER;CN=Schloss- und Auenpark Paderborn :mailto:schlosspark@paderborn.
 de
PRIORITY:4
SEQUENCE:0
SUMMARY:Weihnachtszauber im Schlosspark
UID:e_100513711_iv11
URL:http://pages.destination.one/de/teutonavigator/streaming/detail/Event/e
 _100513711/weihnachtszauber-im-schlosspark
END:VEVENT
BEGIN:VEVENT
CATEGORIES:Weihnachtsmarkt
DESCRIPTION:Zauberhafte Kulisse mit großem funkelnden Stern und nachhaltige
  Weihnachtsbäume\n\nmehr Informationen unter http://pages.destination.one/
 de/teutonavigator/streaming/detail/Event/e_100513711/weihnachtszauber-im-s
 chlosspark
DTEND;TZID=Europe/Berlin:20261204T210000
DTSTAMP:20260422T144305Z
DTSTART;TZID=Europe/Berlin:20261204T120000
GEO:51.745924;8.711858
LOCATION:Schloß Neuhaus und Barockgarten\, Residenzstraße 2\, Paderborn
ORGANIZER;CN=Schloss- und Auenpark Paderborn :mailto:schlosspark@paderborn.
 de
PRIORITY:4
SEQUENCE:0
SUMMARY:Weihnachtszauber im Schlosspark
UID:e_100513711_iv12
URL:http://pages.destination.one/de/teutonavigator/streaming/detail/Event/e
 _100513711/weihnachtszauber-im-schlosspark
END:VEVENT
BEGIN:VEVENT
CATEGORIES:Weihnachtsmarkt
DESCRIPTION:Zauberhafte Kulisse mit großem funkelnden Stern und nachhaltige
  Weihnachtsbäume\n\nmehr Informationen unter http://pages.destination.one/
 de/teutonavigator/streaming/detail/Event/e_100513711/weihnachtszauber-im-s
 chlosspark
DTEND;TZID=Europe/Berlin:20261205T210000
DTSTAMP:20260422T144305Z
DTSTART;TZID=Europe/Berlin:20261205T130000
GEO:51.745924;8.711858
LOCATION:Schloß Neuhaus und Barockgarten\, Residenzstraße 2\, Paderborn
ORGANIZER;CN=Schloss- und Auenpark Paderborn :mailto:schlosspark@paderborn.
 de
PRIORITY:4
SEQUENCE:0
SUMMARY:Weihnachtszauber im Schlosspark
UID:e_100513711_iv13
URL:http://pages.destination.one/de/teutonavigator/streaming/detail/Event/e
 _100513711/weihnachtszauber-im-schlosspark
END:VEVENT
BEGIN:VEVENT
CATEGORIES:Weihnachtsmarkt
DESCRIPTION:Zauberhafte Kulisse mit großem funkelnden Stern und nachhaltige
  Weihnachtsbäume\n\nmehr Informationen unter http://pages.destination.one/
 de/teutonavigator/streaming/detail/Event/e_100513711/weihnachtszauber-im-s
 chlosspark
DTEND;TZID=Europe/Berlin:20261206T190000
DTSTAMP:20260422T144305Z
DTSTART;TZID=Europe/Berlin:20261206T110000
GEO:51.745924;8.711858
LOCATION:Schloß Neuhaus und Barockgarten\, Residenzstraße 2\, Paderborn
ORGANIZER;CN=Schloss- und Auenpark Paderborn :mailto:schlosspark@paderborn.
 de
PRIORITY:4
SEQUENCE:0
SUMMARY:Weihnachtszauber im Schlosspark
UID:e_100513711_iv14
URL:http://pages.destination.one/de/teutonavigator/streaming/detail/Event/e
 _100513711/weihnachtszauber-im-schlosspark
END:VEVENT
BEGIN:VTIMEZONE
TZID:Europe/Berlin
X-LIC-LOCATION:Europe/Berlin
BEGIN:DAYLIGHT
DTSTART:19700329T020000
RRULE:FREQ=YEARLY;BYDAY=-1SU;BYMONTH=3
TZNAME:CEST
TZOFFSETFROM:+0100
TZOFFSETTO:+0200
END:DAYLIGHT
BEGIN:STANDARD
DTSTART:19701025T030000
RRULE:FREQ=YEARLY;BYDAY=-1SU;BYMONTH=10
TZNAME:CET
TZOFFSETFROM:+0200
TZOFFSETTO:+0100
END:STANDARD
END:VTIMEZONE
END:VCALENDAR
