BEGIN:VCALENDAR
VERSION:2.0
PRODID:-//destination.one//NONSGML destination.meta API//DE
X-WR-CALDESC:A calendar powered by destination.meta
X-WR-CALNAME:teutonavigator Kalender via destination.meta
BEGIN:VEVENT
CATEGORIES:Weihnachtsmarkt
DESCRIPTION:Liebevoll dekoriertes Weihnachtscafe\, Glühwein und Bratwurst u
 nd ein großer Weihnachtsbasar in der beheizten Schützenhalle: Unser Weihna
 chtsmarkt überzeugt mit einzigartigem Ambiente.\n\nmehr Informationen unte
 r http://pages.destination.one/de/teutonavigator/streaming/detail/Event/e_
 100508594/kleinenberger-weihnachtsmarkt
DTEND;TZID=Europe/Berlin;VALUE=DATE:20221128
DTSTAMP:20260421T174941Z
DTSTART;TZID=Europe/Berlin;VALUE=DATE:20221125
GEO:51.586174;8.972649
LOCATION:Schützenhalle Kleinenberg\, Pfarrer-Leifferen-Straße 15\, Lichtena
 u
ORGANIZER;CN=St. Sebastian Schützenbruderschaft Kleinenberg 1552 e.V.:mailt
 o:info@schuetzen-kleinenberg.de
SEQUENCE:0
SUMMARY:Kleinenberger Weihnachtsmarkt
UID:e_100508594_iv0
URL:http://pages.destination.one/de/teutonavigator/streaming/detail/Event/e
 _100508594/kleinenberger-weihnachtsmarkt
END:VEVENT
BEGIN:VEVENT
CATEGORIES:Weihnachtsmarkt
DESCRIPTION:Liebevoll dekoriertes Weihnachtscafe\, Glühwein und Bratwurst u
 nd ein großer Weihnachtsbasar in der beheizten Schützenhalle: Unser Weihna
 chtsmarkt überzeugt mit einzigartigem Ambiente.\n\nmehr Informationen unte
 r http://pages.destination.one/de/teutonavigator/streaming/detail/Event/e_
 100508594/kleinenberger-weihnachtsmarkt
DTEND;TZID=Europe/Berlin:20231201T210000
DTSTAMP:20260421T174941Z
DTSTART;TZID=Europe/Berlin:20231201T180000
GEO:51.586174;8.972649
LOCATION:Schützenhalle Kleinenberg\, Pfarrer-Leifferen-Straße 15\, Lichtena
 u
ORGANIZER;CN=St. Sebastian Schützenbruderschaft Kleinenberg 1552 e.V.:mailt
 o:info@schuetzen-kleinenberg.de
SEQUENCE:0
SUMMARY:Kleinenberger Weihnachtsmarkt
UID:e_100508594_iv1
URL:http://pages.destination.one/de/teutonavigator/streaming/detail/Event/e
 _100508594/kleinenberger-weihnachtsmarkt
END:VEVENT
BEGIN:VEVENT
CATEGORIES:Weihnachtsmarkt
DESCRIPTION:Liebevoll dekoriertes Weihnachtscafe\, Glühwein und Bratwurst u
 nd ein großer Weihnachtsbasar in der beheizten Schützenhalle: Unser Weihna
 chtsmarkt überzeugt mit einzigartigem Ambiente.\n\nmehr Informationen unte
 r http://pages.destination.one/de/teutonavigator/streaming/detail/Event/e_
 100508594/kleinenberger-weihnachtsmarkt
DTEND;TZID=Europe/Berlin:20231202T190000
DTSTAMP:20260421T174941Z
DTSTART;TZID=Europe/Berlin:20231202T140000
GEO:51.586174;8.972649
LOCATION:Schützenhalle Kleinenberg\, Pfarrer-Leifferen-Straße 15\, Lichtena
 u
ORGANIZER;CN=St. Sebastian Schützenbruderschaft Kleinenberg 1552 e.V.:mailt
 o:info@schuetzen-kleinenberg.de
SEQUENCE:0
SUMMARY:Kleinenberger Weihnachtsmarkt
UID:e_100508594_iv2
URL:http://pages.destination.one/de/teutonavigator/streaming/detail/Event/e
 _100508594/kleinenberger-weihnachtsmarkt
END:VEVENT
BEGIN:VEVENT
CATEGORIES:Weihnachtsmarkt
DESCRIPTION:Liebevoll dekoriertes Weihnachtscafe\, Glühwein und Bratwurst u
 nd ein großer Weihnachtsbasar in der beheizten Schützenhalle: Unser Weihna
 chtsmarkt überzeugt mit einzigartigem Ambiente.\n\nmehr Informationen unte
 r http://pages.destination.one/de/teutonavigator/streaming/detail/Event/e_
 100508594/kleinenberger-weihnachtsmarkt
DTEND;TZID=Europe/Berlin:20231203T180000
DTSTAMP:20260421T174941Z
DTSTART;TZID=Europe/Berlin:20231203T120000
GEO:51.586174;8.972649
LOCATION:Schützenhalle Kleinenberg\, Pfarrer-Leifferen-Straße 15\, Lichtena
 u
ORGANIZER;CN=St. Sebastian Schützenbruderschaft Kleinenberg 1552 e.V.:mailt
 o:info@schuetzen-kleinenberg.de
SEQUENCE:0
SUMMARY:Kleinenberger Weihnachtsmarkt
UID:e_100508594_iv3
URL:http://pages.destination.one/de/teutonavigator/streaming/detail/Event/e
 _100508594/kleinenberger-weihnachtsmarkt
END:VEVENT
BEGIN:VEVENT
CATEGORIES:Weihnachtsmarkt
DESCRIPTION:Liebevoll dekoriertes Weihnachtscafe\, Glühwein und Bratwurst u
 nd ein großer Weihnachtsbasar in der beheizten Schützenhalle: Unser Weihna
 chtsmarkt überzeugt mit einzigartigem Ambiente.\n\nmehr Informationen unte
 r http://pages.destination.one/de/teutonavigator/streaming/detail/Event/e_
 100508594/kleinenberger-weihnachtsmarkt
DTEND;TZID=Europe/Berlin:20241129T210000
DTSTAMP:20260421T174941Z
DTSTART;TZID=Europe/Berlin:20241129T180000
GEO:51.586174;8.972649
LOCATION:Schützenhalle Kleinenberg\, Pfarrer-Leifferen-Straße 15\, Lichtena
 u
ORGANIZER;CN=St. Sebastian Schützenbruderschaft Kleinenberg 1552 e.V.:mailt
 o:info@schuetzen-kleinenberg.de
SEQUENCE:0
SUMMARY:Kleinenberger Weihnachtsmarkt
UID:e_100508594_iv4
URL:http://pages.destination.one/de/teutonavigator/streaming/detail/Event/e
 _100508594/kleinenberger-weihnachtsmarkt
END:VEVENT
BEGIN:VEVENT
CATEGORIES:Weihnachtsmarkt
DESCRIPTION:Liebevoll dekoriertes Weihnachtscafe\, Glühwein und Bratwurst u
 nd ein großer Weihnachtsbasar in der beheizten Schützenhalle: Unser Weihna
 chtsmarkt überzeugt mit einzigartigem Ambiente.\n\nmehr Informationen unte
 r http://pages.destination.one/de/teutonavigator/streaming/detail/Event/e_
 100508594/kleinenberger-weihnachtsmarkt
DTEND;TZID=Europe/Berlin:20241130T190000
DTSTAMP:20260421T174941Z
DTSTART;TZID=Europe/Berlin:20241130T140000
GEO:51.586174;8.972649
LOCATION:Schützenhalle Kleinenberg\, Pfarrer-Leifferen-Straße 15\, Lichtena
 u
ORGANIZER;CN=St. Sebastian Schützenbruderschaft Kleinenberg 1552 e.V.:mailt
 o:info@schuetzen-kleinenberg.de
SEQUENCE:0
SUMMARY:Kleinenberger Weihnachtsmarkt
UID:e_100508594_iv5
URL:http://pages.destination.one/de/teutonavigator/streaming/detail/Event/e
 _100508594/kleinenberger-weihnachtsmarkt
END:VEVENT
BEGIN:VEVENT
CATEGORIES:Weihnachtsmarkt
DESCRIPTION:Liebevoll dekoriertes Weihnachtscafe\, Glühwein und Bratwurst u
 nd ein großer Weihnachtsbasar in der beheizten Schützenhalle: Unser Weihna
 chtsmarkt überzeugt mit einzigartigem Ambiente.\n\nmehr Informationen unte
 r http://pages.destination.one/de/teutonavigator/streaming/detail/Event/e_
 100508594/kleinenberger-weihnachtsmarkt
DTEND;TZID=Europe/Berlin:20241201T180000
DTSTAMP:20260421T174941Z
DTSTART;TZID=Europe/Berlin:20241201T120000
GEO:51.586174;8.972649
LOCATION:Schützenhalle Kleinenberg\, Pfarrer-Leifferen-Straße 15\, Lichtena
 u
ORGANIZER;CN=St. Sebastian Schützenbruderschaft Kleinenberg 1552 e.V.:mailt
 o:info@schuetzen-kleinenberg.de
SEQUENCE:0
SUMMARY:Kleinenberger Weihnachtsmarkt
UID:e_100508594_iv6
URL:http://pages.destination.one/de/teutonavigator/streaming/detail/Event/e
 _100508594/kleinenberger-weihnachtsmarkt
END:VEVENT
BEGIN:VEVENT
CATEGORIES:Weihnachtsmarkt
DESCRIPTION:Liebevoll dekoriertes Weihnachtscafe\, Glühwein und Bratwurst u
 nd ein großer Weihnachtsbasar in der beheizten Schützenhalle: Unser Weihna
 chtsmarkt überzeugt mit einzigartigem Ambiente.\n\nmehr Informationen unte
 r http://pages.destination.one/de/teutonavigator/streaming/detail/Event/e_
 100508594/kleinenberger-weihnachtsmarkt
DTEND;TZID=Europe/Berlin:20251128T210000
DTSTAMP:20260421T174941Z
DTSTART;TZID=Europe/Berlin:20251128T180000
GEO:51.586174;8.972649
LOCATION:Schützenhalle Kleinenberg\, Pfarrer-Leifferen-Straße 15\, Lichtena
 u
ORGANIZER;CN=St. Sebastian Schützenbruderschaft Kleinenberg 1552 e.V.:mailt
 o:info@schuetzen-kleinenberg.de
SEQUENCE:0
SUMMARY:Kleinenberger Weihnachtsmarkt
UID:e_100508594_iv7
URL:http://pages.destination.one/de/teutonavigator/streaming/detail/Event/e
 _100508594/kleinenberger-weihnachtsmarkt
END:VEVENT
BEGIN:VEVENT
CATEGORIES:Weihnachtsmarkt
DESCRIPTION:Liebevoll dekoriertes Weihnachtscafe\, Glühwein und Bratwurst u
 nd ein großer Weihnachtsbasar in der beheizten Schützenhalle: Unser Weihna
 chtsmarkt überzeugt mit einzigartigem Ambiente.\n\nmehr Informationen unte
 r http://pages.destination.one/de/teutonavigator/streaming/detail/Event/e_
 100508594/kleinenberger-weihnachtsmarkt
DTEND;TZID=Europe/Berlin:20251129T190000
DTSTAMP:20260421T174941Z
DTSTART;TZID=Europe/Berlin:20251129T140000
GEO:51.586174;8.972649
LOCATION:Schützenhalle Kleinenberg\, Pfarrer-Leifferen-Straße 15\, Lichtena
 u
ORGANIZER;CN=St. Sebastian Schützenbruderschaft Kleinenberg 1552 e.V.:mailt
 o:info@schuetzen-kleinenberg.de
SEQUENCE:0
SUMMARY:Kleinenberger Weihnachtsmarkt
UID:e_100508594_iv8
URL:http://pages.destination.one/de/teutonavigator/streaming/detail/Event/e
 _100508594/kleinenberger-weihnachtsmarkt
END:VEVENT
BEGIN:VEVENT
CATEGORIES:Weihnachtsmarkt
DESCRIPTION:Liebevoll dekoriertes Weihnachtscafe\, Glühwein und Bratwurst u
 nd ein großer Weihnachtsbasar in der beheizten Schützenhalle: Unser Weihna
 chtsmarkt überzeugt mit einzigartigem Ambiente.\n\nmehr Informationen unte
 r http://pages.destination.one/de/teutonavigator/streaming/detail/Event/e_
 100508594/kleinenberger-weihnachtsmarkt
DTEND;TZID=Europe/Berlin:20251130T180000
DTSTAMP:20260421T174941Z
DTSTART;TZID=Europe/Berlin:20251130T120000
GEO:51.586174;8.972649
LOCATION:Schützenhalle Kleinenberg\, Pfarrer-Leifferen-Straße 15\, Lichtena
 u
ORGANIZER;CN=St. Sebastian Schützenbruderschaft Kleinenberg 1552 e.V.:mailt
 o:info@schuetzen-kleinenberg.de
SEQUENCE:0
SUMMARY:Kleinenberger Weihnachtsmarkt
UID:e_100508594_iv9
URL:http://pages.destination.one/de/teutonavigator/streaming/detail/Event/e
 _100508594/kleinenberger-weihnachtsmarkt
END:VEVENT
BEGIN:VEVENT
CATEGORIES:Weihnachtsmarkt
DESCRIPTION:Liebevoll dekoriertes Weihnachtscafe\, Glühwein und Bratwurst u
 nd ein großer Weihnachtsbasar in der beheizten Schützenhalle: Unser Weihna
 chtsmarkt überzeugt mit einzigartigem Ambiente.\n\nmehr Informationen unte
 r http://pages.destination.one/de/teutonavigator/streaming/detail/Event/e_
 100508594/kleinenberger-weihnachtsmarkt
DTEND;TZID=Europe/Berlin:20261127T210000
DTSTAMP:20260421T174941Z
DTSTART;TZID=Europe/Berlin:20261127T180000
GEO:51.586174;8.972649
LOCATION:Schützenhalle Kleinenberg\, Pfarrer-Leifferen-Straße 15\, Lichtena
 u
ORGANIZER;CN=St. Sebastian Schützenbruderschaft Kleinenberg 1552 e.V.:mailt
 o:info@schuetzen-kleinenberg.de
SEQUENCE:0
SUMMARY:Kleinenberger Weihnachtsmarkt
UID:e_100508594_iv10
URL:http://pages.destination.one/de/teutonavigator/streaming/detail/Event/e
 _100508594/kleinenberger-weihnachtsmarkt
END:VEVENT
BEGIN:VEVENT
CATEGORIES:Weihnachtsmarkt
DESCRIPTION:Liebevoll dekoriertes Weihnachtscafe\, Glühwein und Bratwurst u
 nd ein großer Weihnachtsbasar in der beheizten Schützenhalle: Unser Weihna
 chtsmarkt überzeugt mit einzigartigem Ambiente.\n\nmehr Informationen unte
 r http://pages.destination.one/de/teutonavigator/streaming/detail/Event/e_
 100508594/kleinenberger-weihnachtsmarkt
DTEND;TZID=Europe/Berlin:20261128T190000
DTSTAMP:20260421T174941Z
DTSTART;TZID=Europe/Berlin:20261128T140000
GEO:51.586174;8.972649
LOCATION:Schützenhalle Kleinenberg\, Pfarrer-Leifferen-Straße 15\, Lichtena
 u
ORGANIZER;CN=St. Sebastian Schützenbruderschaft Kleinenberg 1552 e.V.:mailt
 o:info@schuetzen-kleinenberg.de
SEQUENCE:0
SUMMARY:Kleinenberger Weihnachtsmarkt
UID:e_100508594_iv11
URL:http://pages.destination.one/de/teutonavigator/streaming/detail/Event/e
 _100508594/kleinenberger-weihnachtsmarkt
END:VEVENT
BEGIN:VEVENT
CATEGORIES:Weihnachtsmarkt
DESCRIPTION:Liebevoll dekoriertes Weihnachtscafe\, Glühwein und Bratwurst u
 nd ein großer Weihnachtsbasar in der beheizten Schützenhalle: Unser Weihna
 chtsmarkt überzeugt mit einzigartigem Ambiente.\n\nmehr Informationen unte
 r http://pages.destination.one/de/teutonavigator/streaming/detail/Event/e_
 100508594/kleinenberger-weihnachtsmarkt
DTEND;TZID=Europe/Berlin:20261129T180000
DTSTAMP:20260421T174941Z
DTSTART;TZID=Europe/Berlin:20261129T120000
GEO:51.586174;8.972649
LOCATION:Schützenhalle Kleinenberg\, Pfarrer-Leifferen-Straße 15\, Lichtena
 u
ORGANIZER;CN=St. Sebastian Schützenbruderschaft Kleinenberg 1552 e.V.:mailt
 o:info@schuetzen-kleinenberg.de
SEQUENCE:0
SUMMARY:Kleinenberger Weihnachtsmarkt
UID:e_100508594_iv12
URL:http://pages.destination.one/de/teutonavigator/streaming/detail/Event/e
 _100508594/kleinenberger-weihnachtsmarkt
END:VEVENT
BEGIN:VTIMEZONE
TZID:Europe/Berlin
X-LIC-LOCATION:Europe/Berlin
BEGIN:DAYLIGHT
DTSTART:19700329T020000
RRULE:FREQ=YEARLY;BYDAY=-1SU;BYMONTH=3
TZNAME:CEST
TZOFFSETFROM:+0100
TZOFFSETTO:+0200
END:DAYLIGHT
BEGIN:STANDARD
DTSTART:19701025T030000
RRULE:FREQ=YEARLY;BYDAY=-1SU;BYMONTH=10
TZNAME:CET
TZOFFSETFROM:+0200
TZOFFSETTO:+0100
END:STANDARD
END:VTIMEZONE
END:VCALENDAR
