BEGIN:VCALENDAR
VERSION:2.0
PRODID:-//destination.one//NONSGML destination.meta API//DE
X-WR-CALDESC:A calendar powered by destination.meta
X-WR-CALNAME:teutonavigator Kalender via destination.meta
BEGIN:VEVENT
CATEGORIES:Weihnachtsmarkt
DESCRIPTION:Der Weihnachtsmarkt in Bad Holzhausen öffnet traditionell am zw
 eiten Adventwochenende und bietet vor der historischen Kulisse des Ritterg
 utes Hudenbeck ein kleines\, aber feines Angebot.\n\nmehr Informationen un
 ter http://pages.destination.one/de/teutonavigator/streaming/detail/Event/
 e_100508381/weihnachtsmarkt-bad-holzhausen
DTEND;TZID=Europe/Berlin;VALUE=DATE:20231210
DTSTAMP:20260421T181501Z
DTSTART;TZID=Europe/Berlin;VALUE=DATE:20231209
GEO:52.286531;8.532777
LOCATION:Haus des Gastes Bad Holzhausen\, Hudenbeck 2\, Preußisch Oldendorf
ORGANIZER;CN=Gewerbeverein Bad Holzhausen:mailto:info@gewerbeverein-bad-hol
 zhausen.de
PRIORITY:4
SEQUENCE:0
SUMMARY:Weihnachtsmarkt Bad Holzhausen
UID:e_100508381_iv0
URL:http://pages.destination.one/de/teutonavigator/streaming/detail/Event/e
 _100508381/weihnachtsmarkt-bad-holzhausen
END:VEVENT
BEGIN:VEVENT
CATEGORIES:Weihnachtsmarkt
DESCRIPTION:Der Weihnachtsmarkt in Bad Holzhausen öffnet traditionell am zw
 eiten Adventwochenende und bietet vor der historischen Kulisse des Ritterg
 utes Hudenbeck ein kleines\, aber feines Angebot.\n\nmehr Informationen un
 ter http://pages.destination.one/de/teutonavigator/streaming/detail/Event/
 e_100508381/weihnachtsmarkt-bad-holzhausen
DTEND;TZID=Europe/Berlin;VALUE=DATE:20231211
DTSTAMP:20260421T181501Z
DTSTART;TZID=Europe/Berlin;VALUE=DATE:20231210
GEO:52.286531;8.532777
LOCATION:Haus des Gastes Bad Holzhausen\, Hudenbeck 2\, Preußisch Oldendorf
ORGANIZER;CN=Gewerbeverein Bad Holzhausen:mailto:info@gewerbeverein-bad-hol
 zhausen.de
PRIORITY:4
SEQUENCE:0
SUMMARY:Weihnachtsmarkt Bad Holzhausen
UID:e_100508381_iv1
URL:http://pages.destination.one/de/teutonavigator/streaming/detail/Event/e
 _100508381/weihnachtsmarkt-bad-holzhausen
END:VEVENT
BEGIN:VEVENT
CATEGORIES:Weihnachtsmarkt
DESCRIPTION:Der Weihnachtsmarkt in Bad Holzhausen öffnet traditionell am zw
 eiten Adventwochenende und bietet vor der historischen Kulisse des Ritterg
 utes Hudenbeck ein kleines\, aber feines Angebot.\n\nmehr Informationen un
 ter http://pages.destination.one/de/teutonavigator/streaming/detail/Event/
 e_100508381/weihnachtsmarkt-bad-holzhausen
DTEND;TZID=Europe/Berlin:20241207T180000
DTSTAMP:20260421T181501Z
DTSTART;TZID=Europe/Berlin:20241207T143000
GEO:52.286531;8.532777
LOCATION:Haus des Gastes Bad Holzhausen\, Hudenbeck 2\, Preußisch Oldendorf
ORGANIZER;CN=Gewerbeverein Bad Holzhausen:mailto:info@gewerbeverein-bad-hol
 zhausen.de
PRIORITY:4
SEQUENCE:0
SUMMARY:Weihnachtsmarkt Bad Holzhausen
UID:e_100508381_iv2
URL:http://pages.destination.one/de/teutonavigator/streaming/detail/Event/e
 _100508381/weihnachtsmarkt-bad-holzhausen
END:VEVENT
BEGIN:VEVENT
CATEGORIES:Weihnachtsmarkt
DESCRIPTION:Der Weihnachtsmarkt in Bad Holzhausen öffnet traditionell am zw
 eiten Adventwochenende und bietet vor der historischen Kulisse des Ritterg
 utes Hudenbeck ein kleines\, aber feines Angebot.\n\nmehr Informationen un
 ter http://pages.destination.one/de/teutonavigator/streaming/detail/Event/
 e_100508381/weihnachtsmarkt-bad-holzhausen
DTEND;TZID=Europe/Berlin:20241208T180000
DTSTAMP:20260421T181501Z
DTSTART;TZID=Europe/Berlin:20241208T143000
GEO:52.286531;8.532777
LOCATION:Haus des Gastes Bad Holzhausen\, Hudenbeck 2\, Preußisch Oldendorf
ORGANIZER;CN=Gewerbeverein Bad Holzhausen:mailto:info@gewerbeverein-bad-hol
 zhausen.de
PRIORITY:4
SEQUENCE:0
SUMMARY:Weihnachtsmarkt Bad Holzhausen
UID:e_100508381_iv3
URL:http://pages.destination.one/de/teutonavigator/streaming/detail/Event/e
 _100508381/weihnachtsmarkt-bad-holzhausen
END:VEVENT
BEGIN:VEVENT
CATEGORIES:Weihnachtsmarkt
DESCRIPTION:Der Weihnachtsmarkt in Bad Holzhausen öffnet traditionell am zw
 eiten Adventwochenende und bietet vor der historischen Kulisse des Ritterg
 utes Hudenbeck ein kleines\, aber feines Angebot.\n\nmehr Informationen un
 ter http://pages.destination.one/de/teutonavigator/streaming/detail/Event/
 e_100508381/weihnachtsmarkt-bad-holzhausen
DTEND;TZID=Europe/Berlin:20251206T190000
DTSTAMP:20260421T181501Z
DTSTART;TZID=Europe/Berlin:20251206T143000
GEO:52.286531;8.532777
LOCATION:Haus des Gastes Bad Holzhausen\, Hudenbeck 2\, Preußisch Oldendorf
ORGANIZER;CN=Gewerbeverein Bad Holzhausen:mailto:info@gewerbeverein-bad-hol
 zhausen.de
PRIORITY:4
SEQUENCE:0
SUMMARY:Weihnachtsmarkt Bad Holzhausen
UID:e_100508381_iv4
URL:http://pages.destination.one/de/teutonavigator/streaming/detail/Event/e
 _100508381/weihnachtsmarkt-bad-holzhausen
END:VEVENT
BEGIN:VEVENT
CATEGORIES:Weihnachtsmarkt
DESCRIPTION:Der Weihnachtsmarkt in Bad Holzhausen öffnet traditionell am zw
 eiten Adventwochenende und bietet vor der historischen Kulisse des Ritterg
 utes Hudenbeck ein kleines\, aber feines Angebot.\n\nmehr Informationen un
 ter http://pages.destination.one/de/teutonavigator/streaming/detail/Event/
 e_100508381/weihnachtsmarkt-bad-holzhausen
DTEND;TZID=Europe/Berlin:20251207T190000
DTSTAMP:20260421T181501Z
DTSTART;TZID=Europe/Berlin:20251207T143000
GEO:52.286531;8.532777
LOCATION:Haus des Gastes Bad Holzhausen\, Hudenbeck 2\, Preußisch Oldendorf
ORGANIZER;CN=Gewerbeverein Bad Holzhausen:mailto:info@gewerbeverein-bad-hol
 zhausen.de
PRIORITY:4
SEQUENCE:0
SUMMARY:Weihnachtsmarkt Bad Holzhausen
UID:e_100508381_iv5
URL:http://pages.destination.one/de/teutonavigator/streaming/detail/Event/e
 _100508381/weihnachtsmarkt-bad-holzhausen
END:VEVENT
BEGIN:VEVENT
CATEGORIES:Weihnachtsmarkt
DESCRIPTION:Der Weihnachtsmarkt in Bad Holzhausen öffnet traditionell am zw
 eiten Adventwochenende und bietet vor der historischen Kulisse des Ritterg
 utes Hudenbeck ein kleines\, aber feines Angebot.\n\nmehr Informationen un
 ter http://pages.destination.one/de/teutonavigator/streaming/detail/Event/
 e_100508381/weihnachtsmarkt-bad-holzhausen
DTEND;TZID=Europe/Berlin:20261205T190000
DTSTAMP:20260421T181501Z
DTSTART;TZID=Europe/Berlin:20261205T143000
GEO:52.286531;8.532777
LOCATION:Haus des Gastes Bad Holzhausen\, Hudenbeck 2\, Preußisch Oldendorf
ORGANIZER;CN=Gewerbeverein Bad Holzhausen:mailto:info@gewerbeverein-bad-hol
 zhausen.de
PRIORITY:4
SEQUENCE:0
SUMMARY:Weihnachtsmarkt Bad Holzhausen
UID:e_100508381_iv6
URL:http://pages.destination.one/de/teutonavigator/streaming/detail/Event/e
 _100508381/weihnachtsmarkt-bad-holzhausen
END:VEVENT
BEGIN:VEVENT
CATEGORIES:Weihnachtsmarkt
DESCRIPTION:Der Weihnachtsmarkt in Bad Holzhausen öffnet traditionell am zw
 eiten Adventwochenende und bietet vor der historischen Kulisse des Ritterg
 utes Hudenbeck ein kleines\, aber feines Angebot.\n\nmehr Informationen un
 ter http://pages.destination.one/de/teutonavigator/streaming/detail/Event/
 e_100508381/weihnachtsmarkt-bad-holzhausen
DTEND;TZID=Europe/Berlin:20261206T190000
DTSTAMP:20260421T181501Z
DTSTART;TZID=Europe/Berlin:20261206T143000
GEO:52.286531;8.532777
LOCATION:Haus des Gastes Bad Holzhausen\, Hudenbeck 2\, Preußisch Oldendorf
ORGANIZER;CN=Gewerbeverein Bad Holzhausen:mailto:info@gewerbeverein-bad-hol
 zhausen.de
PRIORITY:4
SEQUENCE:0
SUMMARY:Weihnachtsmarkt Bad Holzhausen
UID:e_100508381_iv7
URL:http://pages.destination.one/de/teutonavigator/streaming/detail/Event/e
 _100508381/weihnachtsmarkt-bad-holzhausen
END:VEVENT
BEGIN:VTIMEZONE
TZID:Europe/Berlin
X-LIC-LOCATION:Europe/Berlin
BEGIN:DAYLIGHT
DTSTART:19700329T020000
RRULE:FREQ=YEARLY;BYDAY=-1SU;BYMONTH=3
TZNAME:CEST
TZOFFSETFROM:+0100
TZOFFSETTO:+0200
END:DAYLIGHT
BEGIN:STANDARD
DTSTART:19701025T030000
RRULE:FREQ=YEARLY;BYDAY=-1SU;BYMONTH=10
TZNAME:CET
TZOFFSETFROM:+0200
TZOFFSETTO:+0100
END:STANDARD
END:VTIMEZONE
END:VCALENDAR
