BEGIN:VCALENDAR
VERSION:2.0
PRODID:-//destination.one//NONSGML destination.meta API//DE
X-WR-CALDESC:A calendar powered by destination.meta
X-WR-CALNAME:teutonavigator Kalender via destination.meta
BEGIN:VEVENT
CATEGORIES:Weihnachtsmarkt
CATEGORIES:Markt
DESCRIPTION:Adventsmarkt in der Salzkottener Sälzerhalle\n\nmehr Informatio
 nen unter http://pages.destination.one/de/teutonavigator/streaming/detail/
 Event/e_100507352/adventsmarkt-in-der-s-lzerhalle
DTEND;TZID=Europe/Berlin:20221126T180000
DTSTAMP:20260422T101517Z
DTSTART;TZID=Europe/Berlin:20221126T130000
GEO:51.669776;8.601042
LOCATION:Sälzerhalle / Stadthalle\, Upsprunger Straße 1\, Salzkotten
SEQUENCE:0
SUMMARY:Adventsmarkt in der Sälzerhalle
UID:e_100507352_iv0
URL:http://pages.destination.one/de/teutonavigator/streaming/detail/Event/e
 _100507352/adventsmarkt-in-der-s-lzerhalle
END:VEVENT
BEGIN:VEVENT
CATEGORIES:Weihnachtsmarkt
CATEGORIES:Markt
DESCRIPTION:Adventsmarkt in der Salzkottener Sälzerhalle\n\nmehr Informatio
 nen unter http://pages.destination.one/de/teutonavigator/streaming/detail/
 Event/e_100507352/adventsmarkt-in-der-s-lzerhalle
DTEND;TZID=Europe/Berlin:20221127T180000
DTSTAMP:20260422T101517Z
DTSTART;TZID=Europe/Berlin:20221127T110000
GEO:51.669776;8.601042
LOCATION:Sälzerhalle / Stadthalle\, Upsprunger Straße 1\, Salzkotten
SEQUENCE:0
SUMMARY:Adventsmarkt in der Sälzerhalle
UID:e_100507352_iv1
URL:http://pages.destination.one/de/teutonavigator/streaming/detail/Event/e
 _100507352/adventsmarkt-in-der-s-lzerhalle
END:VEVENT
BEGIN:VEVENT
CATEGORIES:Weihnachtsmarkt
CATEGORIES:Markt
DESCRIPTION:Adventsmarkt in der Salzkottener Sälzerhalle\n\nmehr Informatio
 nen unter http://pages.destination.one/de/teutonavigator/streaming/detail/
 Event/e_100507352/adventsmarkt-in-der-s-lzerhalle
DTEND;TZID=Europe/Berlin:20231202T180000
DTSTAMP:20260422T101517Z
DTSTART;TZID=Europe/Berlin:20231202T130000
GEO:51.669776;8.601042
LOCATION:Sälzerhalle / Stadthalle\, Upsprunger Straße 1\, Salzkotten
SEQUENCE:0
SUMMARY:Adventsmarkt in der Sälzerhalle
UID:e_100507352_iv2
URL:http://pages.destination.one/de/teutonavigator/streaming/detail/Event/e
 _100507352/adventsmarkt-in-der-s-lzerhalle
END:VEVENT
BEGIN:VEVENT
CATEGORIES:Weihnachtsmarkt
CATEGORIES:Markt
DESCRIPTION:Adventsmarkt in der Salzkottener Sälzerhalle\n\nmehr Informatio
 nen unter http://pages.destination.one/de/teutonavigator/streaming/detail/
 Event/e_100507352/adventsmarkt-in-der-s-lzerhalle
DTEND;TZID=Europe/Berlin:20231203T180000
DTSTAMP:20260422T101517Z
DTSTART;TZID=Europe/Berlin:20231203T110000
GEO:51.669776;8.601042
LOCATION:Sälzerhalle / Stadthalle\, Upsprunger Straße 1\, Salzkotten
SEQUENCE:0
SUMMARY:Adventsmarkt in der Sälzerhalle
UID:e_100507352_iv3
URL:http://pages.destination.one/de/teutonavigator/streaming/detail/Event/e
 _100507352/adventsmarkt-in-der-s-lzerhalle
END:VEVENT
BEGIN:VEVENT
CATEGORIES:Weihnachtsmarkt
CATEGORIES:Markt
DESCRIPTION:Adventsmarkt in der Salzkottener Sälzerhalle\n\nmehr Informatio
 nen unter http://pages.destination.one/de/teutonavigator/streaming/detail/
 Event/e_100507352/adventsmarkt-in-der-s-lzerhalle
DTEND;TZID=Europe/Berlin:20241130T180000
DTSTAMP:20260422T101517Z
DTSTART;TZID=Europe/Berlin:20241130T130000
GEO:51.669776;8.601042
LOCATION:Sälzerhalle / Stadthalle\, Upsprunger Straße 1\, Salzkotten
SEQUENCE:0
SUMMARY:Adventsmarkt in der Sälzerhalle
UID:e_100507352_iv4
URL:http://pages.destination.one/de/teutonavigator/streaming/detail/Event/e
 _100507352/adventsmarkt-in-der-s-lzerhalle
END:VEVENT
BEGIN:VEVENT
CATEGORIES:Weihnachtsmarkt
CATEGORIES:Markt
DESCRIPTION:Adventsmarkt in der Salzkottener Sälzerhalle\n\nmehr Informatio
 nen unter http://pages.destination.one/de/teutonavigator/streaming/detail/
 Event/e_100507352/adventsmarkt-in-der-s-lzerhalle
DTEND;TZID=Europe/Berlin:20241201T180000
DTSTAMP:20260422T101517Z
DTSTART;TZID=Europe/Berlin:20241201T110000
GEO:51.669776;8.601042
LOCATION:Sälzerhalle / Stadthalle\, Upsprunger Straße 1\, Salzkotten
SEQUENCE:0
SUMMARY:Adventsmarkt in der Sälzerhalle
UID:e_100507352_iv5
URL:http://pages.destination.one/de/teutonavigator/streaming/detail/Event/e
 _100507352/adventsmarkt-in-der-s-lzerhalle
END:VEVENT
BEGIN:VEVENT
CATEGORIES:Weihnachtsmarkt
CATEGORIES:Markt
DESCRIPTION:Adventsmarkt in der Salzkottener Sälzerhalle\n\nmehr Informatio
 nen unter http://pages.destination.one/de/teutonavigator/streaming/detail/
 Event/e_100507352/adventsmarkt-in-der-s-lzerhalle
DTEND;TZID=Europe/Berlin:20251129T180000
DTSTAMP:20260422T101517Z
DTSTART;TZID=Europe/Berlin:20251129T130000
GEO:51.669776;8.601042
LOCATION:Sälzerhalle / Stadthalle\, Upsprunger Straße 1\, Salzkotten
SEQUENCE:0
SUMMARY:Adventsmarkt in der Sälzerhalle
UID:e_100507352_iv6
URL:http://pages.destination.one/de/teutonavigator/streaming/detail/Event/e
 _100507352/adventsmarkt-in-der-s-lzerhalle
END:VEVENT
BEGIN:VEVENT
CATEGORIES:Weihnachtsmarkt
CATEGORIES:Markt
DESCRIPTION:Adventsmarkt in der Salzkottener Sälzerhalle\n\nmehr Informatio
 nen unter http://pages.destination.one/de/teutonavigator/streaming/detail/
 Event/e_100507352/adventsmarkt-in-der-s-lzerhalle
DTEND;TZID=Europe/Berlin:20251130T180000
DTSTAMP:20260422T101517Z
DTSTART;TZID=Europe/Berlin:20251130T110000
GEO:51.669776;8.601042
LOCATION:Sälzerhalle / Stadthalle\, Upsprunger Straße 1\, Salzkotten
SEQUENCE:0
SUMMARY:Adventsmarkt in der Sälzerhalle
UID:e_100507352_iv7
URL:http://pages.destination.one/de/teutonavigator/streaming/detail/Event/e
 _100507352/adventsmarkt-in-der-s-lzerhalle
END:VEVENT
BEGIN:VEVENT
CATEGORIES:Weihnachtsmarkt
CATEGORIES:Markt
DESCRIPTION:Adventsmarkt in der Salzkottener Sälzerhalle\n\nmehr Informatio
 nen unter http://pages.destination.one/de/teutonavigator/streaming/detail/
 Event/e_100507352/adventsmarkt-in-der-s-lzerhalle
DTEND;TZID=Europe/Berlin:20261128T180000
DTSTAMP:20260422T101517Z
DTSTART;TZID=Europe/Berlin:20261128T130000
GEO:51.669776;8.601042
LOCATION:Sälzerhalle / Stadthalle\, Upsprunger Straße 1\, Salzkotten
SEQUENCE:0
SUMMARY:Adventsmarkt in der Sälzerhalle
UID:e_100507352_iv8
URL:http://pages.destination.one/de/teutonavigator/streaming/detail/Event/e
 _100507352/adventsmarkt-in-der-s-lzerhalle
END:VEVENT
BEGIN:VTIMEZONE
TZID:Europe/Berlin
X-LIC-LOCATION:Europe/Berlin
BEGIN:DAYLIGHT
DTSTART:19700329T020000
RRULE:FREQ=YEARLY;BYDAY=-1SU;BYMONTH=3
TZNAME:CEST
TZOFFSETFROM:+0100
TZOFFSETTO:+0200
END:DAYLIGHT
BEGIN:STANDARD
DTSTART:19701025T030000
RRULE:FREQ=YEARLY;BYDAY=-1SU;BYMONTH=10
TZNAME:CET
TZOFFSETFROM:+0200
TZOFFSETTO:+0100
END:STANDARD
END:VTIMEZONE
END:VCALENDAR
