BEGIN:VCALENDAR
VERSION:2.0
PRODID:-//destination.one//NONSGML destination.meta API//DE
X-WR-CALDESC:A calendar powered by destination.meta
X-WR-CALNAME:teutonavigator Kalender via destination.meta
BEGIN:VEVENT
CATEGORIES:Stadtfest/Kirmes/Jahrmarkt
DESCRIPTION:Der Katharinenmarkt am dritten Septemberwochenende gilt in der 
 Region als Volksfest der Superlative. Er beruht auf einer über 400 jährige
 n Tradition als Vieh- und Krammarkt. An vier Tagen locken Bauernmarkt\, Wi
 rtschafts- & Verkaufsschau\, Krammarkt\, eine große Kirmes\, die Lotterie 
 und das Eintrittsfreie Non-Stop-Unterhaltungs-Programm mehr als 300.000 Be
 sucher nach Delbrück.\nDer Delbrücker Katharinenmarkt ist nach dem Libori 
 das größte Volksfest im Kreis Paderborn.\nBei allen Veranstaltungen gilt d
 as bewährte Motto „Eintritt frei“.\n\nmehr Informationen unter http://page
 s.destination.one/de/teutonavigator/streaming/detail/Event/e_100483157/kat
 harinenmarkt
DTEND;TZID=Europe/Berlin;VALUE=DATE:20250923
DTSTAMP:20260422T143953Z
DTSTART;TZID=Europe/Berlin;VALUE=DATE:20250919
GEO:51.764463;8.563933
LOCATION:Ortsmitte\, Oststraße \, Delbrück
ORGANIZER;CN=Stadt Delbrück:mailto:tourist@delbrueck.de
PRIORITY:4
SEQUENCE:0
SUMMARY:Katharinenmarkt
UID:e_100483157_iv0
URL:http://pages.destination.one/de/teutonavigator/streaming/detail/Event/e
 _100483157/katharinenmarkt
END:VEVENT
BEGIN:VEVENT
CATEGORIES:Stadtfest/Kirmes/Jahrmarkt
DESCRIPTION:Der Katharinenmarkt am dritten Septemberwochenende gilt in der 
 Region als Volksfest der Superlative. Er beruht auf einer über 400 jährige
 n Tradition als Vieh- und Krammarkt. An vier Tagen locken Bauernmarkt\, Wi
 rtschafts- & Verkaufsschau\, Krammarkt\, eine große Kirmes\, die Lotterie 
 und das Eintrittsfreie Non-Stop-Unterhaltungs-Programm mehr als 300.000 Be
 sucher nach Delbrück.\nDer Delbrücker Katharinenmarkt ist nach dem Libori 
 das größte Volksfest im Kreis Paderborn.\nBei allen Veranstaltungen gilt d
 as bewährte Motto „Eintritt frei“.\n\nmehr Informationen unter http://page
 s.destination.one/de/teutonavigator/streaming/detail/Event/e_100483157/kat
 harinenmarkt
DTEND;TZID=Europe/Berlin:20260918T235900
DTSTAMP:20260422T143953Z
DTSTART;TZID=Europe/Berlin:20260918T150000
GEO:51.764463;8.563933
LOCATION:Ortsmitte\, Oststraße \, Delbrück
ORGANIZER;CN=Stadt Delbrück:mailto:tourist@delbrueck.de
PRIORITY:4
SEQUENCE:0
SUMMARY:Katharinenmarkt
UID:e_100483157_iv1
URL:http://pages.destination.one/de/teutonavigator/streaming/detail/Event/e
 _100483157/katharinenmarkt
END:VEVENT
BEGIN:VEVENT
CATEGORIES:Stadtfest/Kirmes/Jahrmarkt
DESCRIPTION:Der Katharinenmarkt am dritten Septemberwochenende gilt in der 
 Region als Volksfest der Superlative. Er beruht auf einer über 400 jährige
 n Tradition als Vieh- und Krammarkt. An vier Tagen locken Bauernmarkt\, Wi
 rtschafts- & Verkaufsschau\, Krammarkt\, eine große Kirmes\, die Lotterie 
 und das Eintrittsfreie Non-Stop-Unterhaltungs-Programm mehr als 300.000 Be
 sucher nach Delbrück.\nDer Delbrücker Katharinenmarkt ist nach dem Libori 
 das größte Volksfest im Kreis Paderborn.\nBei allen Veranstaltungen gilt d
 as bewährte Motto „Eintritt frei“.\n\nmehr Informationen unter http://page
 s.destination.one/de/teutonavigator/streaming/detail/Event/e_100483157/kat
 harinenmarkt
DTEND;TZID=Europe/Berlin:20260919T235900
DTSTAMP:20260422T143953Z
DTSTART;TZID=Europe/Berlin:20260919T093000
GEO:51.764463;8.563933
LOCATION:Ortsmitte\, Oststraße \, Delbrück
ORGANIZER;CN=Stadt Delbrück:mailto:tourist@delbrueck.de
PRIORITY:4
SEQUENCE:0
SUMMARY:Katharinenmarkt
UID:e_100483157_iv2
URL:http://pages.destination.one/de/teutonavigator/streaming/detail/Event/e
 _100483157/katharinenmarkt
END:VEVENT
BEGIN:VEVENT
CATEGORIES:Stadtfest/Kirmes/Jahrmarkt
DESCRIPTION:Der Katharinenmarkt am dritten Septemberwochenende gilt in der 
 Region als Volksfest der Superlative. Er beruht auf einer über 400 jährige
 n Tradition als Vieh- und Krammarkt. An vier Tagen locken Bauernmarkt\, Wi
 rtschafts- & Verkaufsschau\, Krammarkt\, eine große Kirmes\, die Lotterie 
 und das Eintrittsfreie Non-Stop-Unterhaltungs-Programm mehr als 300.000 Be
 sucher nach Delbrück.\nDer Delbrücker Katharinenmarkt ist nach dem Libori 
 das größte Volksfest im Kreis Paderborn.\nBei allen Veranstaltungen gilt d
 as bewährte Motto „Eintritt frei“.\n\nmehr Informationen unter http://page
 s.destination.one/de/teutonavigator/streaming/detail/Event/e_100483157/kat
 harinenmarkt
DTEND;TZID=Europe/Berlin:20260920T235900
DTSTAMP:20260422T143953Z
DTSTART;TZID=Europe/Berlin:20260920T093000
GEO:51.764463;8.563933
LOCATION:Ortsmitte\, Oststraße \, Delbrück
ORGANIZER;CN=Stadt Delbrück:mailto:tourist@delbrueck.de
PRIORITY:4
SEQUENCE:0
SUMMARY:Katharinenmarkt
UID:e_100483157_iv3
URL:http://pages.destination.one/de/teutonavigator/streaming/detail/Event/e
 _100483157/katharinenmarkt
END:VEVENT
BEGIN:VEVENT
CATEGORIES:Stadtfest/Kirmes/Jahrmarkt
DESCRIPTION:Der Katharinenmarkt am dritten Septemberwochenende gilt in der 
 Region als Volksfest der Superlative. Er beruht auf einer über 400 jährige
 n Tradition als Vieh- und Krammarkt. An vier Tagen locken Bauernmarkt\, Wi
 rtschafts- & Verkaufsschau\, Krammarkt\, eine große Kirmes\, die Lotterie 
 und das Eintrittsfreie Non-Stop-Unterhaltungs-Programm mehr als 300.000 Be
 sucher nach Delbrück.\nDer Delbrücker Katharinenmarkt ist nach dem Libori 
 das größte Volksfest im Kreis Paderborn.\nBei allen Veranstaltungen gilt d
 as bewährte Motto „Eintritt frei“.\n\nmehr Informationen unter http://page
 s.destination.one/de/teutonavigator/streaming/detail/Event/e_100483157/kat
 harinenmarkt
DTEND;TZID=Europe/Berlin:20260921T235900
DTSTAMP:20260422T143953Z
DTSTART;TZID=Europe/Berlin:20260921T100000
GEO:51.764463;8.563933
LOCATION:Ortsmitte\, Oststraße \, Delbrück
ORGANIZER;CN=Stadt Delbrück:mailto:tourist@delbrueck.de
PRIORITY:4
SEQUENCE:0
SUMMARY:Katharinenmarkt
UID:e_100483157_iv4
URL:http://pages.destination.one/de/teutonavigator/streaming/detail/Event/e
 _100483157/katharinenmarkt
END:VEVENT
BEGIN:VTIMEZONE
TZID:Europe/Berlin
X-LIC-LOCATION:Europe/Berlin
BEGIN:DAYLIGHT
DTSTART:19700329T020000
RRULE:FREQ=YEARLY;BYDAY=-1SU;BYMONTH=3
TZNAME:CEST
TZOFFSETFROM:+0100
TZOFFSETTO:+0200
END:DAYLIGHT
BEGIN:STANDARD
DTSTART:19701025T030000
RRULE:FREQ=YEARLY;BYDAY=-1SU;BYMONTH=10
TZNAME:CET
TZOFFSETFROM:+0200
TZOFFSETTO:+0100
END:STANDARD
END:VTIMEZONE
END:VCALENDAR
