BEGIN:VCALENDAR
VERSION:2.0
PRODID:-//destination.one//NONSGML destination.meta API//DE
X-WR-CALDESC:A calendar powered by destination.meta
X-WR-CALNAME:teutonavigator Kalender via destination.meta
BEGIN:VEVENT
CATEGORIES:Weihnachtsmarkt
DESCRIPTION:Lassen Sie sich verzaubern vom gemütlichen und besinnlichen Fla
 ir in der Innenstadt.\n\nmehr Informationen unter http://pages.destination
 .one/de/teutonavigator/streaming/detail/Event/e_100481419/luciafest-in-sal
 zkotten
DTEND;TZID=Europe/Berlin:20221212T190000
DTSTAMP:20260422T144804Z
DTSTART;TZID=Europe/Berlin:20221211T130000
GEO:51.671678;8.604741
LOCATION:Stadt Salzkotten\, Marktstraße 8\, Salzkotten
ORGANIZER;CN=Salzkotten Marketing e.V.:mailto:info@salzkotten-marketing.de
SEQUENCE:0
SUMMARY:Luciafest in Salzkotten
UID:e_100481419_iv0
URL:http://pages.destination.one/de/teutonavigator/streaming/detail/Event/e
 _100481419/luciafest-in-salzkotten
END:VEVENT
BEGIN:VEVENT
CATEGORIES:Weihnachtsmarkt
DESCRIPTION:Lassen Sie sich verzaubern vom gemütlichen und besinnlichen Fla
 ir in der Innenstadt.\n\nmehr Informationen unter http://pages.destination
 .one/de/teutonavigator/streaming/detail/Event/e_100481419/luciafest-in-sal
 zkotten
DTEND;TZID=Europe/Berlin:20231217T180000
DTSTAMP:20260422T144804Z
DTSTART;TZID=Europe/Berlin:20231217T130000
GEO:51.671678;8.604741
LOCATION:Stadt Salzkotten\, Marktstraße 8\, Salzkotten
ORGANIZER;CN=Salzkotten Marketing e.V.:mailto:info@salzkotten-marketing.de
SEQUENCE:0
SUMMARY:Luciafest in Salzkotten
UID:e_100481419_iv1
URL:http://pages.destination.one/de/teutonavigator/streaming/detail/Event/e
 _100481419/luciafest-in-salzkotten
END:VEVENT
BEGIN:VEVENT
CATEGORIES:Weihnachtsmarkt
DESCRIPTION:Lassen Sie sich verzaubern vom gemütlichen und besinnlichen Fla
 ir in der Innenstadt.\n\nmehr Informationen unter http://pages.destination
 .one/de/teutonavigator/streaming/detail/Event/e_100481419/luciafest-in-sal
 zkotten
DTEND;TZID=Europe/Berlin:20241215T180000
DTSTAMP:20260422T144804Z
DTSTART;TZID=Europe/Berlin:20241215T110000
GEO:51.671678;8.604741
LOCATION:Stadt Salzkotten\, Marktstraße 8\, Salzkotten
ORGANIZER;CN=Salzkotten Marketing e.V.:mailto:info@salzkotten-marketing.de
SEQUENCE:0
SUMMARY:Luciafest in Salzkotten
UID:e_100481419_iv2
URL:http://pages.destination.one/de/teutonavigator/streaming/detail/Event/e
 _100481419/luciafest-in-salzkotten
END:VEVENT
BEGIN:VEVENT
CATEGORIES:Weihnachtsmarkt
DESCRIPTION:Lassen Sie sich verzaubern vom gemütlichen und besinnlichen Fla
 ir in der Innenstadt.\n\nmehr Informationen unter http://pages.destination
 .one/de/teutonavigator/streaming/detail/Event/e_100481419/luciafest-in-sal
 zkotten
DTEND;TZID=Europe/Berlin:20251214T180000
DTSTAMP:20260422T144804Z
DTSTART;TZID=Europe/Berlin:20251214T130000
GEO:51.671678;8.604741
LOCATION:Stadt Salzkotten\, Marktstraße 8\, Salzkotten
ORGANIZER;CN=Salzkotten Marketing e.V.:mailto:info@salzkotten-marketing.de
SEQUENCE:0
SUMMARY:Luciafest in Salzkotten
UID:e_100481419_iv3
URL:http://pages.destination.one/de/teutonavigator/streaming/detail/Event/e
 _100481419/luciafest-in-salzkotten
END:VEVENT
BEGIN:VEVENT
CATEGORIES:Weihnachtsmarkt
DESCRIPTION:Lassen Sie sich verzaubern vom gemütlichen und besinnlichen Fla
 ir in der Innenstadt.\n\nmehr Informationen unter http://pages.destination
 .one/de/teutonavigator/streaming/detail/Event/e_100481419/luciafest-in-sal
 zkotten
DTEND;TZID=Europe/Berlin:20261213T180000
DTSTAMP:20260422T144804Z
DTSTART;TZID=Europe/Berlin:20261213T130000
GEO:51.671678;8.604741
LOCATION:Stadt Salzkotten\, Marktstraße 8\, Salzkotten
ORGANIZER;CN=Salzkotten Marketing e.V.:mailto:info@salzkotten-marketing.de
SEQUENCE:0
SUMMARY:Luciafest in Salzkotten
UID:e_100481419_iv4
URL:http://pages.destination.one/de/teutonavigator/streaming/detail/Event/e
 _100481419/luciafest-in-salzkotten
END:VEVENT
BEGIN:VTIMEZONE
TZID:Europe/Berlin
X-LIC-LOCATION:Europe/Berlin
BEGIN:DAYLIGHT
DTSTART:19700329T020000
RRULE:FREQ=YEARLY;BYDAY=-1SU;BYMONTH=3
TZNAME:CEST
TZOFFSETFROM:+0100
TZOFFSETTO:+0200
END:DAYLIGHT
BEGIN:STANDARD
DTSTART:19701025T030000
RRULE:FREQ=YEARLY;BYDAY=-1SU;BYMONTH=10
TZNAME:CET
TZOFFSETFROM:+0200
TZOFFSETTO:+0100
END:STANDARD
END:VTIMEZONE
END:VCALENDAR
