BEGIN:VCALENDAR
VERSION:2.0
PRODID:-//destination.one//NONSGML destination.meta API//DE
X-WR-CALDESC:A calendar powered by destination.meta
X-WR-CALNAME:teutonavigator Kalender via destination.meta
BEGIN:VEVENT
CATEGORIES:Weihnachtsmarkt
DESCRIPTION:Im Dezember findet der traditionelle Nikolausmarkt auf dem Büre
 ner Marktplatz statt.\n\nmehr Informationen unter http://pages.destination
 .one/de/teutonavigator/streaming/detail/Event/e_100481417/nikolausmarkt-b-
 ren
DTEND;TZID=Europe/Berlin:20221211T180000
DTSTAMP:20260422T143556Z
DTSTART;TZID=Europe/Berlin:20221209T180000
GEO:51.552446;8.559283
LOCATION:Marktplatz Büren\, Burgstraße\, Büren
ORGANIZER;CN=Stadt Büren:mailto:info@bueren.de
SEQUENCE:0
SUMMARY:Nikolausmarkt Büren
UID:e_100481417_iv0
URL:http://pages.destination.one/de/teutonavigator/streaming/detail/Event/e
 _100481417/nikolausmarkt-b-ren
END:VEVENT
BEGIN:VEVENT
CATEGORIES:Weihnachtsmarkt
DESCRIPTION:Im Dezember findet der traditionelle Nikolausmarkt auf dem Büre
 ner Marktplatz statt.\n\nmehr Informationen unter http://pages.destination
 .one/de/teutonavigator/streaming/detail/Event/e_100481417/nikolausmarkt-b-
 ren
DTEND;TZID=Europe/Berlin:20231208T220000
DTSTAMP:20260422T143556Z
DTSTART;TZID=Europe/Berlin:20231208T180000
GEO:51.552446;8.559283
LOCATION:Marktplatz Büren\, Burgstraße\, Büren
ORGANIZER;CN=Stadt Büren:mailto:info@bueren.de
SEQUENCE:0
SUMMARY:Nikolausmarkt Büren
UID:e_100481417_iv1
URL:http://pages.destination.one/de/teutonavigator/streaming/detail/Event/e
 _100481417/nikolausmarkt-b-ren
END:VEVENT
BEGIN:VEVENT
CATEGORIES:Weihnachtsmarkt
DESCRIPTION:Im Dezember findet der traditionelle Nikolausmarkt auf dem Büre
 ner Marktplatz statt.\n\nmehr Informationen unter http://pages.destination
 .one/de/teutonavigator/streaming/detail/Event/e_100481417/nikolausmarkt-b-
 ren
DTEND;TZID=Europe/Berlin:20231209T220000
DTSTAMP:20260422T143556Z
DTSTART;TZID=Europe/Berlin:20231209T150000
GEO:51.552446;8.559283
LOCATION:Marktplatz Büren\, Burgstraße\, Büren
ORGANIZER;CN=Stadt Büren:mailto:info@bueren.de
SEQUENCE:0
SUMMARY:Nikolausmarkt Büren
UID:e_100481417_iv2
URL:http://pages.destination.one/de/teutonavigator/streaming/detail/Event/e
 _100481417/nikolausmarkt-b-ren
END:VEVENT
BEGIN:VEVENT
CATEGORIES:Weihnachtsmarkt
DESCRIPTION:Im Dezember findet der traditionelle Nikolausmarkt auf dem Büre
 ner Marktplatz statt.\n\nmehr Informationen unter http://pages.destination
 .one/de/teutonavigator/streaming/detail/Event/e_100481417/nikolausmarkt-b-
 ren
DTEND;TZID=Europe/Berlin:20231210T180000
DTSTAMP:20260422T143556Z
DTSTART;TZID=Europe/Berlin:20231210T110000
GEO:51.552446;8.559283
LOCATION:Marktplatz Büren\, Burgstraße\, Büren
ORGANIZER;CN=Stadt Büren:mailto:info@bueren.de
SEQUENCE:0
SUMMARY:Nikolausmarkt Büren
UID:e_100481417_iv3
URL:http://pages.destination.one/de/teutonavigator/streaming/detail/Event/e
 _100481417/nikolausmarkt-b-ren
END:VEVENT
BEGIN:VEVENT
CATEGORIES:Weihnachtsmarkt
DESCRIPTION:Im Dezember findet der traditionelle Nikolausmarkt auf dem Büre
 ner Marktplatz statt.\n\nmehr Informationen unter http://pages.destination
 .one/de/teutonavigator/streaming/detail/Event/e_100481417/nikolausmarkt-b-
 ren
DTEND;TZID=Europe/Berlin;VALUE=DATE:20241209
DTSTAMP:20260422T143556Z
DTSTART;TZID=Europe/Berlin;VALUE=DATE:20241206
GEO:51.552446;8.559283
LOCATION:Marktplatz Büren\, Burgstraße\, Büren
ORGANIZER;CN=Stadt Büren:mailto:info@bueren.de
SEQUENCE:0
SUMMARY:Nikolausmarkt Büren
UID:e_100481417_iv4
URL:http://pages.destination.one/de/teutonavigator/streaming/detail/Event/e
 _100481417/nikolausmarkt-b-ren
END:VEVENT
BEGIN:VEVENT
CATEGORIES:Weihnachtsmarkt
DESCRIPTION:Im Dezember findet der traditionelle Nikolausmarkt auf dem Büre
 ner Marktplatz statt.\n\nmehr Informationen unter http://pages.destination
 .one/de/teutonavigator/streaming/detail/Event/e_100481417/nikolausmarkt-b-
 ren
DTEND;TZID=Europe/Berlin:20241206T235900
DTSTAMP:20260422T143556Z
DTSTART;TZID=Europe/Berlin:20241206T170000
GEO:51.552446;8.559283
LOCATION:Marktplatz Büren\, Burgstraße\, Büren
ORGANIZER;CN=Stadt Büren:mailto:info@bueren.de
SEQUENCE:0
SUMMARY:Nikolausmarkt Büren
UID:e_100481417_iv5
URL:http://pages.destination.one/de/teutonavigator/streaming/detail/Event/e
 _100481417/nikolausmarkt-b-ren
END:VEVENT
BEGIN:VEVENT
CATEGORIES:Weihnachtsmarkt
DESCRIPTION:Im Dezember findet der traditionelle Nikolausmarkt auf dem Büre
 ner Marktplatz statt.\n\nmehr Informationen unter http://pages.destination
 .one/de/teutonavigator/streaming/detail/Event/e_100481417/nikolausmarkt-b-
 ren
DTEND;TZID=Europe/Berlin:20241207T235900
DTSTAMP:20260422T143556Z
DTSTART;TZID=Europe/Berlin:20241207T140000
GEO:51.552446;8.559283
LOCATION:Marktplatz Büren\, Burgstraße\, Büren
ORGANIZER;CN=Stadt Büren:mailto:info@bueren.de
SEQUENCE:0
SUMMARY:Nikolausmarkt Büren
UID:e_100481417_iv6
URL:http://pages.destination.one/de/teutonavigator/streaming/detail/Event/e
 _100481417/nikolausmarkt-b-ren
END:VEVENT
BEGIN:VEVENT
CATEGORIES:Weihnachtsmarkt
DESCRIPTION:Im Dezember findet der traditionelle Nikolausmarkt auf dem Büre
 ner Marktplatz statt.\n\nmehr Informationen unter http://pages.destination
 .one/de/teutonavigator/streaming/detail/Event/e_100481417/nikolausmarkt-b-
 ren
DTEND;TZID=Europe/Berlin:20241208T235900
DTSTAMP:20260422T143556Z
DTSTART;TZID=Europe/Berlin:20241208T120000
GEO:51.552446;8.559283
LOCATION:Marktplatz Büren\, Burgstraße\, Büren
ORGANIZER;CN=Stadt Büren:mailto:info@bueren.de
SEQUENCE:0
SUMMARY:Nikolausmarkt Büren
UID:e_100481417_iv7
URL:http://pages.destination.one/de/teutonavigator/streaming/detail/Event/e
 _100481417/nikolausmarkt-b-ren
END:VEVENT
BEGIN:VEVENT
CATEGORIES:Weihnachtsmarkt
DESCRIPTION:Im Dezember findet der traditionelle Nikolausmarkt auf dem Büre
 ner Marktplatz statt.\n\nmehr Informationen unter http://pages.destination
 .one/de/teutonavigator/streaming/detail/Event/e_100481417/nikolausmarkt-b-
 ren
DTEND;TZID=Europe/Berlin:20251205T235900
DTSTAMP:20260422T143556Z
DTSTART;TZID=Europe/Berlin:20251205T170000
GEO:51.552446;8.559283
LOCATION:Marktplatz Büren\, Burgstraße\, Büren
ORGANIZER;CN=Stadt Büren:mailto:info@bueren.de
SEQUENCE:0
SUMMARY:Nikolausmarkt Büren
UID:e_100481417_iv8
URL:http://pages.destination.one/de/teutonavigator/streaming/detail/Event/e
 _100481417/nikolausmarkt-b-ren
END:VEVENT
BEGIN:VEVENT
CATEGORIES:Weihnachtsmarkt
DESCRIPTION:Im Dezember findet der traditionelle Nikolausmarkt auf dem Büre
 ner Marktplatz statt.\n\nmehr Informationen unter http://pages.destination
 .one/de/teutonavigator/streaming/detail/Event/e_100481417/nikolausmarkt-b-
 ren
DTEND;TZID=Europe/Berlin:20251206T235900
DTSTAMP:20260422T143556Z
DTSTART;TZID=Europe/Berlin:20251206T140000
GEO:51.552446;8.559283
LOCATION:Marktplatz Büren\, Burgstraße\, Büren
ORGANIZER;CN=Stadt Büren:mailto:info@bueren.de
SEQUENCE:0
SUMMARY:Nikolausmarkt Büren
UID:e_100481417_iv9
URL:http://pages.destination.one/de/teutonavigator/streaming/detail/Event/e
 _100481417/nikolausmarkt-b-ren
END:VEVENT
BEGIN:VEVENT
CATEGORIES:Weihnachtsmarkt
DESCRIPTION:Im Dezember findet der traditionelle Nikolausmarkt auf dem Büre
 ner Marktplatz statt.\n\nmehr Informationen unter http://pages.destination
 .one/de/teutonavigator/streaming/detail/Event/e_100481417/nikolausmarkt-b-
 ren
DTEND;TZID=Europe/Berlin:20251207T235900
DTSTAMP:20260422T143556Z
DTSTART;TZID=Europe/Berlin:20251207T120000
GEO:51.552446;8.559283
LOCATION:Marktplatz Büren\, Burgstraße\, Büren
ORGANIZER;CN=Stadt Büren:mailto:info@bueren.de
SEQUENCE:0
SUMMARY:Nikolausmarkt Büren
UID:e_100481417_iv10
URL:http://pages.destination.one/de/teutonavigator/streaming/detail/Event/e
 _100481417/nikolausmarkt-b-ren
END:VEVENT
BEGIN:VEVENT
CATEGORIES:Weihnachtsmarkt
DESCRIPTION:Im Dezember findet der traditionelle Nikolausmarkt auf dem Büre
 ner Marktplatz statt.\n\nmehr Informationen unter http://pages.destination
 .one/de/teutonavigator/streaming/detail/Event/e_100481417/nikolausmarkt-b-
 ren
DTEND;TZID=Europe/Berlin:20261204T235900
DTSTAMP:20260422T143556Z
DTSTART;TZID=Europe/Berlin:20261204T170000
GEO:51.552446;8.559283
LOCATION:Marktplatz Büren\, Burgstraße\, Büren
ORGANIZER;CN=Stadt Büren:mailto:info@bueren.de
SEQUENCE:0
SUMMARY:Nikolausmarkt Büren
UID:e_100481417_iv11
URL:http://pages.destination.one/de/teutonavigator/streaming/detail/Event/e
 _100481417/nikolausmarkt-b-ren
END:VEVENT
BEGIN:VEVENT
CATEGORIES:Weihnachtsmarkt
DESCRIPTION:Im Dezember findet der traditionelle Nikolausmarkt auf dem Büre
 ner Marktplatz statt.\n\nmehr Informationen unter http://pages.destination
 .one/de/teutonavigator/streaming/detail/Event/e_100481417/nikolausmarkt-b-
 ren
DTEND;TZID=Europe/Berlin:20261205T235900
DTSTAMP:20260422T143556Z
DTSTART;TZID=Europe/Berlin:20261205T140000
GEO:51.552446;8.559283
LOCATION:Marktplatz Büren\, Burgstraße\, Büren
ORGANIZER;CN=Stadt Büren:mailto:info@bueren.de
SEQUENCE:0
SUMMARY:Nikolausmarkt Büren
UID:e_100481417_iv12
URL:http://pages.destination.one/de/teutonavigator/streaming/detail/Event/e
 _100481417/nikolausmarkt-b-ren
END:VEVENT
BEGIN:VEVENT
CATEGORIES:Weihnachtsmarkt
DESCRIPTION:Im Dezember findet der traditionelle Nikolausmarkt auf dem Büre
 ner Marktplatz statt.\n\nmehr Informationen unter http://pages.destination
 .one/de/teutonavigator/streaming/detail/Event/e_100481417/nikolausmarkt-b-
 ren
DTEND;TZID=Europe/Berlin:20261206T235900
DTSTAMP:20260422T143556Z
DTSTART;TZID=Europe/Berlin:20261206T120000
GEO:51.552446;8.559283
LOCATION:Marktplatz Büren\, Burgstraße\, Büren
ORGANIZER;CN=Stadt Büren:mailto:info@bueren.de
SEQUENCE:0
SUMMARY:Nikolausmarkt Büren
UID:e_100481417_iv13
URL:http://pages.destination.one/de/teutonavigator/streaming/detail/Event/e
 _100481417/nikolausmarkt-b-ren
END:VEVENT
BEGIN:VTIMEZONE
TZID:Europe/Berlin
X-LIC-LOCATION:Europe/Berlin
BEGIN:DAYLIGHT
DTSTART:19700329T020000
RRULE:FREQ=YEARLY;BYDAY=-1SU;BYMONTH=3
TZNAME:CEST
TZOFFSETFROM:+0100
TZOFFSETTO:+0200
END:DAYLIGHT
BEGIN:STANDARD
DTSTART:19701025T030000
RRULE:FREQ=YEARLY;BYDAY=-1SU;BYMONTH=10
TZNAME:CET
TZOFFSETFROM:+0200
TZOFFSETTO:+0100
END:STANDARD
END:VTIMEZONE
END:VCALENDAR
