BEGIN:VCALENDAR
VERSION:2.0
PRODID:-//destination.one//NONSGML destination.meta API//DE
X-WR-CALDESC:A calendar powered by destination.meta
X-WR-CALNAME:teutonavigator Kalender via destination.meta
BEGIN:VEVENT
CATEGORIES:Wanderung
DESCRIPTION:Wandern Sie auf den Spuren von Dichtern und Denkern aus der Bad
  Driburger Geschichte.\n\nmehr Informationen unter http://pages.destinatio
 n.one/de/teutonavigator/streaming/detail/Event/e_100451600/gef-hrte-wander
 ung-auf-den-spuren-von-dichtern-und-denkern
DTEND;TZID=Europe/Berlin:20220525T170000
DTSTAMP:20260421T182420Z
DTSTART;TZID=Europe/Berlin:20220525T140000
GEO:51.733432;9.027665
LOCATION:Wanderinfopunkt am Bahnübergang - Bad Driburg\, Lange Straße 140\,
  Bad Driburg
ORGANIZER;CN=Bad Driburger Touristik GmbH:mailto:info@bad-driburg.com
PRIORITY:4
SEQUENCE:0
SUMMARY:Geführte Wanderung auf den Spuren von Dichtern und Denkern
UID:e_100451600_iv0
URL:http://pages.destination.one/de/teutonavigator/streaming/detail/Event/e
 _100451600/gef-hrte-wanderung-auf-den-spuren-von-dichtern-und-denkern
END:VEVENT
BEGIN:VEVENT
CATEGORIES:Wanderung
DESCRIPTION:Wandern Sie auf den Spuren von Dichtern und Denkern aus der Bad
  Driburger Geschichte.\n\nmehr Informationen unter http://pages.destinatio
 n.one/de/teutonavigator/streaming/detail/Event/e_100451600/gef-hrte-wander
 ung-auf-den-spuren-von-dichtern-und-denkern
DTEND;TZID=Europe/Berlin:20220629T170000
DTSTAMP:20260421T182420Z
DTSTART;TZID=Europe/Berlin:20220629T140000
GEO:51.733432;9.027665
LOCATION:Wanderinfopunkt am Bahnübergang - Bad Driburg\, Lange Straße 140\,
  Bad Driburg
ORGANIZER;CN=Bad Driburger Touristik GmbH:mailto:info@bad-driburg.com
PRIORITY:4
SEQUENCE:0
SUMMARY:Geführte Wanderung auf den Spuren von Dichtern und Denkern
UID:e_100451600_iv1
URL:http://pages.destination.one/de/teutonavigator/streaming/detail/Event/e
 _100451600/gef-hrte-wanderung-auf-den-spuren-von-dichtern-und-denkern
END:VEVENT
BEGIN:VEVENT
CATEGORIES:Wanderung
DESCRIPTION:Wandern Sie auf den Spuren von Dichtern und Denkern aus der Bad
  Driburger Geschichte.\n\nmehr Informationen unter http://pages.destinatio
 n.one/de/teutonavigator/streaming/detail/Event/e_100451600/gef-hrte-wander
 ung-auf-den-spuren-von-dichtern-und-denkern
DTEND;TZID=Europe/Berlin:20220727T170000
DTSTAMP:20260421T182420Z
DTSTART;TZID=Europe/Berlin:20220727T140000
GEO:51.733432;9.027665
LOCATION:Wanderinfopunkt am Bahnübergang - Bad Driburg\, Lange Straße 140\,
  Bad Driburg
ORGANIZER;CN=Bad Driburger Touristik GmbH:mailto:info@bad-driburg.com
PRIORITY:4
SEQUENCE:0
SUMMARY:Geführte Wanderung auf den Spuren von Dichtern und Denkern
UID:e_100451600_iv2
URL:http://pages.destination.one/de/teutonavigator/streaming/detail/Event/e
 _100451600/gef-hrte-wanderung-auf-den-spuren-von-dichtern-und-denkern
END:VEVENT
BEGIN:VEVENT
CATEGORIES:Wanderung
DESCRIPTION:Wandern Sie auf den Spuren von Dichtern und Denkern aus der Bad
  Driburger Geschichte.\n\nmehr Informationen unter http://pages.destinatio
 n.one/de/teutonavigator/streaming/detail/Event/e_100451600/gef-hrte-wander
 ung-auf-den-spuren-von-dichtern-und-denkern
DTEND;TZID=Europe/Berlin:20220831T170000
DTSTAMP:20260421T182420Z
DTSTART;TZID=Europe/Berlin:20220831T140000
GEO:51.733432;9.027665
LOCATION:Wanderinfopunkt am Bahnübergang - Bad Driburg\, Lange Straße 140\,
  Bad Driburg
ORGANIZER;CN=Bad Driburger Touristik GmbH:mailto:info@bad-driburg.com
PRIORITY:4
SEQUENCE:0
SUMMARY:Geführte Wanderung auf den Spuren von Dichtern und Denkern
UID:e_100451600_iv3
URL:http://pages.destination.one/de/teutonavigator/streaming/detail/Event/e
 _100451600/gef-hrte-wanderung-auf-den-spuren-von-dichtern-und-denkern
END:VEVENT
BEGIN:VEVENT
CATEGORIES:Wanderung
DESCRIPTION:Wandern Sie auf den Spuren von Dichtern und Denkern aus der Bad
  Driburger Geschichte.\n\nmehr Informationen unter http://pages.destinatio
 n.one/de/teutonavigator/streaming/detail/Event/e_100451600/gef-hrte-wander
 ung-auf-den-spuren-von-dichtern-und-denkern
DTEND;TZID=Europe/Berlin:20220928T170000
DTSTAMP:20260421T182420Z
DTSTART;TZID=Europe/Berlin:20220928T140000
GEO:51.733432;9.027665
LOCATION:Wanderinfopunkt am Bahnübergang - Bad Driburg\, Lange Straße 140\,
  Bad Driburg
ORGANIZER;CN=Bad Driburger Touristik GmbH:mailto:info@bad-driburg.com
PRIORITY:4
SEQUENCE:0
SUMMARY:Geführte Wanderung auf den Spuren von Dichtern und Denkern
UID:e_100451600_iv4
URL:http://pages.destination.one/de/teutonavigator/streaming/detail/Event/e
 _100451600/gef-hrte-wanderung-auf-den-spuren-von-dichtern-und-denkern
END:VEVENT
BEGIN:VEVENT
CATEGORIES:Wanderung
DESCRIPTION:Wandern Sie auf den Spuren von Dichtern und Denkern aus der Bad
  Driburger Geschichte.\n\nmehr Informationen unter http://pages.destinatio
 n.one/de/teutonavigator/streaming/detail/Event/e_100451600/gef-hrte-wander
 ung-auf-den-spuren-von-dichtern-und-denkern
DTEND;TZID=Europe/Berlin:20221026T170000
DTSTAMP:20260421T182420Z
DTSTART;TZID=Europe/Berlin:20221026T140000
GEO:51.733432;9.027665
LOCATION:Wanderinfopunkt am Bahnübergang - Bad Driburg\, Lange Straße 140\,
  Bad Driburg
ORGANIZER;CN=Bad Driburger Touristik GmbH:mailto:info@bad-driburg.com
PRIORITY:4
SEQUENCE:0
SUMMARY:Geführte Wanderung auf den Spuren von Dichtern und Denkern
UID:e_100451600_iv5
URL:http://pages.destination.one/de/teutonavigator/streaming/detail/Event/e
 _100451600/gef-hrte-wanderung-auf-den-spuren-von-dichtern-und-denkern
END:VEVENT
BEGIN:VEVENT
CATEGORIES:Wanderung
DESCRIPTION:Wandern Sie auf den Spuren von Dichtern und Denkern aus der Bad
  Driburger Geschichte.\n\nmehr Informationen unter http://pages.destinatio
 n.one/de/teutonavigator/streaming/detail/Event/e_100451600/gef-hrte-wander
 ung-auf-den-spuren-von-dichtern-und-denkern
DTEND;TZID=Europe/Berlin:20230225T170000
DTSTAMP:20260421T182420Z
DTSTART;TZID=Europe/Berlin:20230225T140000
GEO:51.733432;9.027665
LOCATION:Wanderinfopunkt am Bahnübergang - Bad Driburg\, Lange Straße 140\,
  Bad Driburg
ORGANIZER;CN=Bad Driburger Touristik GmbH:mailto:info@bad-driburg.com
PRIORITY:4
SEQUENCE:0
SUMMARY:Geführte Wanderung auf den Spuren von Dichtern und Denkern
UID:e_100451600_iv6
URL:http://pages.destination.one/de/teutonavigator/streaming/detail/Event/e
 _100451600/gef-hrte-wanderung-auf-den-spuren-von-dichtern-und-denkern
END:VEVENT
BEGIN:VEVENT
CATEGORIES:Wanderung
DESCRIPTION:Wandern Sie auf den Spuren von Dichtern und Denkern aus der Bad
  Driburger Geschichte.\n\nmehr Informationen unter http://pages.destinatio
 n.one/de/teutonavigator/streaming/detail/Event/e_100451600/gef-hrte-wander
 ung-auf-den-spuren-von-dichtern-und-denkern
DTEND;TZID=Europe/Berlin:20230401T170000
DTSTAMP:20260421T182420Z
DTSTART;TZID=Europe/Berlin:20230401T140000
GEO:51.733432;9.027665
LOCATION:Wanderinfopunkt am Bahnübergang - Bad Driburg\, Lange Straße 140\,
  Bad Driburg
ORGANIZER;CN=Bad Driburger Touristik GmbH:mailto:info@bad-driburg.com
PRIORITY:4
SEQUENCE:0
SUMMARY:Geführte Wanderung auf den Spuren von Dichtern und Denkern
UID:e_100451600_iv7
URL:http://pages.destination.one/de/teutonavigator/streaming/detail/Event/e
 _100451600/gef-hrte-wanderung-auf-den-spuren-von-dichtern-und-denkern
END:VEVENT
BEGIN:VEVENT
CATEGORIES:Wanderung
DESCRIPTION:Wandern Sie auf den Spuren von Dichtern und Denkern aus der Bad
  Driburger Geschichte.\n\nmehr Informationen unter http://pages.destinatio
 n.one/de/teutonavigator/streaming/detail/Event/e_100451600/gef-hrte-wander
 ung-auf-den-spuren-von-dichtern-und-denkern
DTEND;TZID=Europe/Berlin:20230510T170000
DTSTAMP:20260421T182420Z
DTSTART;TZID=Europe/Berlin:20230510T140000
GEO:51.733432;9.027665
LOCATION:Wanderinfopunkt am Bahnübergang - Bad Driburg\, Lange Straße 140\,
  Bad Driburg
ORGANIZER;CN=Bad Driburger Touristik GmbH:mailto:info@bad-driburg.com
PRIORITY:4
SEQUENCE:0
SUMMARY:Geführte Wanderung auf den Spuren von Dichtern und Denkern
UID:e_100451600_iv8
URL:http://pages.destination.one/de/teutonavigator/streaming/detail/Event/e
 _100451600/gef-hrte-wanderung-auf-den-spuren-von-dichtern-und-denkern
END:VEVENT
BEGIN:VEVENT
CATEGORIES:Wanderung
DESCRIPTION:Wandern Sie auf den Spuren von Dichtern und Denkern aus der Bad
  Driburger Geschichte.\n\nmehr Informationen unter http://pages.destinatio
 n.one/de/teutonavigator/streaming/detail/Event/e_100451600/gef-hrte-wander
 ung-auf-den-spuren-von-dichtern-und-denkern
DTEND;TZID=Europe/Berlin:20230617T170000
DTSTAMP:20260421T182420Z
DTSTART;TZID=Europe/Berlin:20230617T140000
GEO:51.733432;9.027665
LOCATION:Wanderinfopunkt am Bahnübergang - Bad Driburg\, Lange Straße 140\,
  Bad Driburg
ORGANIZER;CN=Bad Driburger Touristik GmbH:mailto:info@bad-driburg.com
PRIORITY:4
SEQUENCE:0
SUMMARY:Geführte Wanderung auf den Spuren von Dichtern und Denkern
UID:e_100451600_iv9
URL:http://pages.destination.one/de/teutonavigator/streaming/detail/Event/e
 _100451600/gef-hrte-wanderung-auf-den-spuren-von-dichtern-und-denkern
END:VEVENT
BEGIN:VEVENT
CATEGORIES:Wanderung
DESCRIPTION:Wandern Sie auf den Spuren von Dichtern und Denkern aus der Bad
  Driburger Geschichte.\n\nmehr Informationen unter http://pages.destinatio
 n.one/de/teutonavigator/streaming/detail/Event/e_100451600/gef-hrte-wander
 ung-auf-den-spuren-von-dichtern-und-denkern
DTEND;TZID=Europe/Berlin:20230726T170000
DTSTAMP:20260421T182420Z
DTSTART;TZID=Europe/Berlin:20230726T140000
GEO:51.733432;9.027665
LOCATION:Wanderinfopunkt am Bahnübergang - Bad Driburg\, Lange Straße 140\,
  Bad Driburg
ORGANIZER;CN=Bad Driburger Touristik GmbH:mailto:info@bad-driburg.com
PRIORITY:4
SEQUENCE:0
SUMMARY:Geführte Wanderung auf den Spuren von Dichtern und Denkern
UID:e_100451600_iv10
URL:http://pages.destination.one/de/teutonavigator/streaming/detail/Event/e
 _100451600/gef-hrte-wanderung-auf-den-spuren-von-dichtern-und-denkern
END:VEVENT
BEGIN:VEVENT
CATEGORIES:Wanderung
DESCRIPTION:Wandern Sie auf den Spuren von Dichtern und Denkern aus der Bad
  Driburger Geschichte.\n\nmehr Informationen unter http://pages.destinatio
 n.one/de/teutonavigator/streaming/detail/Event/e_100451600/gef-hrte-wander
 ung-auf-den-spuren-von-dichtern-und-denkern
DTEND;TZID=Europe/Berlin:20230902T170000
DTSTAMP:20260421T182420Z
DTSTART;TZID=Europe/Berlin:20230902T140000
GEO:51.733432;9.027665
LOCATION:Wanderinfopunkt am Bahnübergang - Bad Driburg\, Lange Straße 140\,
  Bad Driburg
ORGANIZER;CN=Bad Driburger Touristik GmbH:mailto:info@bad-driburg.com
PRIORITY:4
SEQUENCE:0
SUMMARY:Geführte Wanderung auf den Spuren von Dichtern und Denkern
UID:e_100451600_iv11
URL:http://pages.destination.one/de/teutonavigator/streaming/detail/Event/e
 _100451600/gef-hrte-wanderung-auf-den-spuren-von-dichtern-und-denkern
END:VEVENT
BEGIN:VEVENT
CATEGORIES:Wanderung
DESCRIPTION:Wandern Sie auf den Spuren von Dichtern und Denkern aus der Bad
  Driburger Geschichte.\n\nmehr Informationen unter http://pages.destinatio
 n.one/de/teutonavigator/streaming/detail/Event/e_100451600/gef-hrte-wander
 ung-auf-den-spuren-von-dichtern-und-denkern
DTEND;TZID=Europe/Berlin:20231007T170000
DTSTAMP:20260421T182420Z
DTSTART;TZID=Europe/Berlin:20231007T140000
GEO:51.733432;9.027665
LOCATION:Wanderinfopunkt am Bahnübergang - Bad Driburg\, Lange Straße 140\,
  Bad Driburg
ORGANIZER;CN=Bad Driburger Touristik GmbH:mailto:info@bad-driburg.com
PRIORITY:4
SEQUENCE:0
SUMMARY:Geführte Wanderung auf den Spuren von Dichtern und Denkern
UID:e_100451600_iv12
URL:http://pages.destination.one/de/teutonavigator/streaming/detail/Event/e
 _100451600/gef-hrte-wanderung-auf-den-spuren-von-dichtern-und-denkern
END:VEVENT
BEGIN:VEVENT
CATEGORIES:Wanderung
DESCRIPTION:Wandern Sie auf den Spuren von Dichtern und Denkern aus der Bad
  Driburger Geschichte.\n\nmehr Informationen unter http://pages.destinatio
 n.one/de/teutonavigator/streaming/detail/Event/e_100451600/gef-hrte-wander
 ung-auf-den-spuren-von-dichtern-und-denkern
DTEND;TZID=Europe/Berlin:20240224T170000
DTSTAMP:20260421T182420Z
DTSTART;TZID=Europe/Berlin:20240224T140000
GEO:51.733432;9.027665
LOCATION:Wanderinfopunkt am Bahnübergang - Bad Driburg\, Lange Straße 140\,
  Bad Driburg
ORGANIZER;CN=Bad Driburger Touristik GmbH:mailto:info@bad-driburg.com
PRIORITY:4
SEQUENCE:0
SUMMARY:Geführte Wanderung auf den Spuren von Dichtern und Denkern
UID:e_100451600_iv13
URL:http://pages.destination.one/de/teutonavigator/streaming/detail/Event/e
 _100451600/gef-hrte-wanderung-auf-den-spuren-von-dichtern-und-denkern
END:VEVENT
BEGIN:VEVENT
CATEGORIES:Wanderung
DESCRIPTION:Wandern Sie auf den Spuren von Dichtern und Denkern aus der Bad
  Driburger Geschichte.\n\nmehr Informationen unter http://pages.destinatio
 n.one/de/teutonavigator/streaming/detail/Event/e_100451600/gef-hrte-wander
 ung-auf-den-spuren-von-dichtern-und-denkern
DTEND;TZID=Europe/Berlin:20240330T170000
DTSTAMP:20260421T182420Z
DTSTART;TZID=Europe/Berlin:20240330T140000
GEO:51.733432;9.027665
LOCATION:Wanderinfopunkt am Bahnübergang - Bad Driburg\, Lange Straße 140\,
  Bad Driburg
ORGANIZER;CN=Bad Driburger Touristik GmbH:mailto:info@bad-driburg.com
PRIORITY:4
SEQUENCE:0
SUMMARY:Geführte Wanderung auf den Spuren von Dichtern und Denkern
UID:e_100451600_iv14
URL:http://pages.destination.one/de/teutonavigator/streaming/detail/Event/e
 _100451600/gef-hrte-wanderung-auf-den-spuren-von-dichtern-und-denkern
END:VEVENT
BEGIN:VEVENT
CATEGORIES:Wanderung
DESCRIPTION:Wandern Sie auf den Spuren von Dichtern und Denkern aus der Bad
  Driburger Geschichte.\n\nmehr Informationen unter http://pages.destinatio
 n.one/de/teutonavigator/streaming/detail/Event/e_100451600/gef-hrte-wander
 ung-auf-den-spuren-von-dichtern-und-denkern
DTEND;TZID=Europe/Berlin:20240508T170000
DTSTAMP:20260421T182420Z
DTSTART;TZID=Europe/Berlin:20240508T140000
GEO:51.733432;9.027665
LOCATION:Wanderinfopunkt am Bahnübergang - Bad Driburg\, Lange Straße 140\,
  Bad Driburg
ORGANIZER;CN=Bad Driburger Touristik GmbH:mailto:info@bad-driburg.com
PRIORITY:4
SEQUENCE:0
SUMMARY:Geführte Wanderung auf den Spuren von Dichtern und Denkern
UID:e_100451600_iv15
URL:http://pages.destination.one/de/teutonavigator/streaming/detail/Event/e
 _100451600/gef-hrte-wanderung-auf-den-spuren-von-dichtern-und-denkern
END:VEVENT
BEGIN:VEVENT
CATEGORIES:Wanderung
DESCRIPTION:Wandern Sie auf den Spuren von Dichtern und Denkern aus der Bad
  Driburger Geschichte.\n\nmehr Informationen unter http://pages.destinatio
 n.one/de/teutonavigator/streaming/detail/Event/e_100451600/gef-hrte-wander
 ung-auf-den-spuren-von-dichtern-und-denkern
DTEND;TZID=Europe/Berlin:20240828T170000
DTSTAMP:20260421T182420Z
DTSTART;TZID=Europe/Berlin:20240828T140000
GEO:51.733432;9.027665
LOCATION:Wanderinfopunkt am Bahnübergang - Bad Driburg\, Lange Straße 140\,
  Bad Driburg
ORGANIZER;CN=Bad Driburger Touristik GmbH:mailto:info@bad-driburg.com
PRIORITY:4
SEQUENCE:0
SUMMARY:Geführte Wanderung auf den Spuren von Dichtern und Denkern
UID:e_100451600_iv16
URL:http://pages.destination.one/de/teutonavigator/streaming/detail/Event/e
 _100451600/gef-hrte-wanderung-auf-den-spuren-von-dichtern-und-denkern
END:VEVENT
BEGIN:VEVENT
CATEGORIES:Wanderung
DESCRIPTION:Wandern Sie auf den Spuren von Dichtern und Denkern aus der Bad
  Driburger Geschichte.\n\nmehr Informationen unter http://pages.destinatio
 n.one/de/teutonavigator/streaming/detail/Event/e_100451600/gef-hrte-wander
 ung-auf-den-spuren-von-dichtern-und-denkern
DTEND;TZID=Europe/Berlin:20241109T170000
DTSTAMP:20260421T182420Z
DTSTART;TZID=Europe/Berlin:20241109T140000
GEO:51.733432;9.027665
LOCATION:Wanderinfopunkt am Bahnübergang - Bad Driburg\, Lange Straße 140\,
  Bad Driburg
ORGANIZER;CN=Bad Driburger Touristik GmbH:mailto:info@bad-driburg.com
PRIORITY:4
SEQUENCE:0
SUMMARY:Geführte Wanderung auf den Spuren von Dichtern und Denkern
UID:e_100451600_iv17
URL:http://pages.destination.one/de/teutonavigator/streaming/detail/Event/e
 _100451600/gef-hrte-wanderung-auf-den-spuren-von-dichtern-und-denkern
END:VEVENT
BEGIN:VEVENT
CATEGORIES:Wanderung
DESCRIPTION:Wandern Sie auf den Spuren von Dichtern und Denkern aus der Bad
  Driburger Geschichte.\n\nmehr Informationen unter http://pages.destinatio
 n.one/de/teutonavigator/streaming/detail/Event/e_100451600/gef-hrte-wander
 ung-auf-den-spuren-von-dichtern-und-denkern
DTEND;TZID=Europe/Berlin:20241228T160000
DTSTAMP:20260421T182420Z
DTSTART;TZID=Europe/Berlin:20241228T140000
GEO:51.733432;9.027665
LOCATION:Wanderinfopunkt am Bahnübergang - Bad Driburg\, Lange Straße 140\,
  Bad Driburg
ORGANIZER;CN=Bad Driburger Touristik GmbH:mailto:info@bad-driburg.com
PRIORITY:4
SEQUENCE:0
SUMMARY:Geführte Wanderung auf den Spuren von Dichtern und Denkern
UID:e_100451600_iv18
URL:http://pages.destination.one/de/teutonavigator/streaming/detail/Event/e
 _100451600/gef-hrte-wanderung-auf-den-spuren-von-dichtern-und-denkern
END:VEVENT
BEGIN:VEVENT
CATEGORIES:Wanderung
DESCRIPTION:Wandern Sie auf den Spuren von Dichtern und Denkern aus der Bad
  Driburger Geschichte.\n\nmehr Informationen unter http://pages.destinatio
 n.one/de/teutonavigator/streaming/detail/Event/e_100451600/gef-hrte-wander
 ung-auf-den-spuren-von-dichtern-und-denkern
DTEND;TZID=Europe/Berlin:20250222T160000
DTSTAMP:20260421T182420Z
DTSTART;TZID=Europe/Berlin:20250222T140000
GEO:51.733432;9.027665
LOCATION:Wanderinfopunkt am Bahnübergang - Bad Driburg\, Lange Straße 140\,
  Bad Driburg
ORGANIZER;CN=Bad Driburger Touristik GmbH:mailto:info@bad-driburg.com
PRIORITY:4
SEQUENCE:0
SUMMARY:Geführte Wanderung auf den Spuren von Dichtern und Denkern
UID:e_100451600_iv19
URL:http://pages.destination.one/de/teutonavigator/streaming/detail/Event/e
 _100451600/gef-hrte-wanderung-auf-den-spuren-von-dichtern-und-denkern
END:VEVENT
BEGIN:VEVENT
CATEGORIES:Wanderung
DESCRIPTION:Wandern Sie auf den Spuren von Dichtern und Denkern aus der Bad
  Driburger Geschichte.\n\nmehr Informationen unter http://pages.destinatio
 n.one/de/teutonavigator/streaming/detail/Event/e_100451600/gef-hrte-wander
 ung-auf-den-spuren-von-dichtern-und-denkern
DTEND;TZID=Europe/Berlin:20250329T160000
DTSTAMP:20260421T182420Z
DTSTART;TZID=Europe/Berlin:20250329T140000
GEO:51.733432;9.027665
LOCATION:Wanderinfopunkt am Bahnübergang - Bad Driburg\, Lange Straße 140\,
  Bad Driburg
ORGANIZER;CN=Bad Driburger Touristik GmbH:mailto:info@bad-driburg.com
PRIORITY:4
SEQUENCE:0
SUMMARY:Geführte Wanderung auf den Spuren von Dichtern und Denkern
UID:e_100451600_iv20
URL:http://pages.destination.one/de/teutonavigator/streaming/detail/Event/e
 _100451600/gef-hrte-wanderung-auf-den-spuren-von-dichtern-und-denkern
END:VEVENT
BEGIN:VEVENT
CATEGORIES:Wanderung
DESCRIPTION:Wandern Sie auf den Spuren von Dichtern und Denkern aus der Bad
  Driburger Geschichte.\n\nmehr Informationen unter http://pages.destinatio
 n.one/de/teutonavigator/streaming/detail/Event/e_100451600/gef-hrte-wander
 ung-auf-den-spuren-von-dichtern-und-denkern
DTEND;TZID=Europe/Berlin:20250430T160000
DTSTAMP:20260421T182420Z
DTSTART;TZID=Europe/Berlin:20250430T140000
GEO:51.733432;9.027665
LOCATION:Wanderinfopunkt am Bahnübergang - Bad Driburg\, Lange Straße 140\,
  Bad Driburg
ORGANIZER;CN=Bad Driburger Touristik GmbH:mailto:info@bad-driburg.com
PRIORITY:4
SEQUENCE:0
SUMMARY:Geführte Wanderung auf den Spuren von Dichtern und Denkern
UID:e_100451600_iv21
URL:http://pages.destination.one/de/teutonavigator/streaming/detail/Event/e
 _100451600/gef-hrte-wanderung-auf-den-spuren-von-dichtern-und-denkern
END:VEVENT
BEGIN:VEVENT
CATEGORIES:Wanderung
DESCRIPTION:Wandern Sie auf den Spuren von Dichtern und Denkern aus der Bad
  Driburger Geschichte.\n\nmehr Informationen unter http://pages.destinatio
 n.one/de/teutonavigator/streaming/detail/Event/e_100451600/gef-hrte-wander
 ung-auf-den-spuren-von-dichtern-und-denkern
DTEND;TZID=Europe/Berlin:20250614T160000
DTSTAMP:20260421T182420Z
DTSTART;TZID=Europe/Berlin:20250614T140000
GEO:51.733432;9.027665
LOCATION:Wanderinfopunkt am Bahnübergang - Bad Driburg\, Lange Straße 140\,
  Bad Driburg
ORGANIZER;CN=Bad Driburger Touristik GmbH:mailto:info@bad-driburg.com
PRIORITY:4
SEQUENCE:0
SUMMARY:Geführte Wanderung auf den Spuren von Dichtern und Denkern
UID:e_100451600_iv22
URL:http://pages.destination.one/de/teutonavigator/streaming/detail/Event/e
 _100451600/gef-hrte-wanderung-auf-den-spuren-von-dichtern-und-denkern
END:VEVENT
BEGIN:VEVENT
CATEGORIES:Wanderung
DESCRIPTION:Wandern Sie auf den Spuren von Dichtern und Denkern aus der Bad
  Driburger Geschichte.\n\nmehr Informationen unter http://pages.destinatio
 n.one/de/teutonavigator/streaming/detail/Event/e_100451600/gef-hrte-wander
 ung-auf-den-spuren-von-dichtern-und-denkern
DTEND;TZID=Europe/Berlin:20250723T160000
DTSTAMP:20260421T182420Z
DTSTART;TZID=Europe/Berlin:20250723T140000
GEO:51.733432;9.027665
LOCATION:Wanderinfopunkt am Bahnübergang - Bad Driburg\, Lange Straße 140\,
  Bad Driburg
ORGANIZER;CN=Bad Driburger Touristik GmbH:mailto:info@bad-driburg.com
PRIORITY:4
SEQUENCE:0
SUMMARY:Geführte Wanderung auf den Spuren von Dichtern und Denkern
UID:e_100451600_iv23
URL:http://pages.destination.one/de/teutonavigator/streaming/detail/Event/e
 _100451600/gef-hrte-wanderung-auf-den-spuren-von-dichtern-und-denkern
END:VEVENT
BEGIN:VEVENT
CATEGORIES:Wanderung
DESCRIPTION:Wandern Sie auf den Spuren von Dichtern und Denkern aus der Bad
  Driburger Geschichte.\n\nmehr Informationen unter http://pages.destinatio
 n.one/de/teutonavigator/streaming/detail/Event/e_100451600/gef-hrte-wander
 ung-auf-den-spuren-von-dichtern-und-denkern
DTEND;TZID=Europe/Berlin:20250830T160000
DTSTAMP:20260421T182420Z
DTSTART;TZID=Europe/Berlin:20250830T140000
GEO:51.733432;9.027665
LOCATION:Wanderinfopunkt am Bahnübergang - Bad Driburg\, Lange Straße 140\,
  Bad Driburg
ORGANIZER;CN=Bad Driburger Touristik GmbH:mailto:info@bad-driburg.com
PRIORITY:4
SEQUENCE:0
SUMMARY:Geführte Wanderung auf den Spuren von Dichtern und Denkern
UID:e_100451600_iv24
URL:http://pages.destination.one/de/teutonavigator/streaming/detail/Event/e
 _100451600/gef-hrte-wanderung-auf-den-spuren-von-dichtern-und-denkern
END:VEVENT
BEGIN:VEVENT
CATEGORIES:Wanderung
DESCRIPTION:Wandern Sie auf den Spuren von Dichtern und Denkern aus der Bad
  Driburger Geschichte.\n\nmehr Informationen unter http://pages.destinatio
 n.one/de/teutonavigator/streaming/detail/Event/e_100451600/gef-hrte-wander
 ung-auf-den-spuren-von-dichtern-und-denkern
DTEND;TZID=Europe/Berlin:20251004T160000
DTSTAMP:20260421T182420Z
DTSTART;TZID=Europe/Berlin:20251004T140000
GEO:51.733432;9.027665
LOCATION:Wanderinfopunkt am Bahnübergang - Bad Driburg\, Lange Straße 140\,
  Bad Driburg
ORGANIZER;CN=Bad Driburger Touristik GmbH:mailto:info@bad-driburg.com
PRIORITY:4
SEQUENCE:0
SUMMARY:Geführte Wanderung auf den Spuren von Dichtern und Denkern
UID:e_100451600_iv25
URL:http://pages.destination.one/de/teutonavigator/streaming/detail/Event/e
 _100451600/gef-hrte-wanderung-auf-den-spuren-von-dichtern-und-denkern
END:VEVENT
BEGIN:VEVENT
CATEGORIES:Wanderung
DESCRIPTION:Wandern Sie auf den Spuren von Dichtern und Denkern aus der Bad
  Driburger Geschichte.\n\nmehr Informationen unter http://pages.destinatio
 n.one/de/teutonavigator/streaming/detail/Event/e_100451600/gef-hrte-wander
 ung-auf-den-spuren-von-dichtern-und-denkern
DTEND;TZID=Europe/Berlin:20251108T160000
DTSTAMP:20260421T182420Z
DTSTART;TZID=Europe/Berlin:20251108T140000
GEO:51.733432;9.027665
LOCATION:Wanderinfopunkt am Bahnübergang - Bad Driburg\, Lange Straße 140\,
  Bad Driburg
ORGANIZER;CN=Bad Driburger Touristik GmbH:mailto:info@bad-driburg.com
PRIORITY:4
SEQUENCE:0
SUMMARY:Geführte Wanderung auf den Spuren von Dichtern und Denkern
UID:e_100451600_iv26
URL:http://pages.destination.one/de/teutonavigator/streaming/detail/Event/e
 _100451600/gef-hrte-wanderung-auf-den-spuren-von-dichtern-und-denkern
END:VEVENT
BEGIN:VEVENT
CATEGORIES:Wanderung
DESCRIPTION:Wandern Sie auf den Spuren von Dichtern und Denkern aus der Bad
  Driburger Geschichte.\n\nmehr Informationen unter http://pages.destinatio
 n.one/de/teutonavigator/streaming/detail/Event/e_100451600/gef-hrte-wander
 ung-auf-den-spuren-von-dichtern-und-denkern
DTEND;TZID=Europe/Berlin:20260221T235900
DTSTAMP:20260421T182420Z
DTSTART;TZID=Europe/Berlin:20260221T140000
GEO:51.733432;9.027665
LOCATION:Wanderinfopunkt am Bahnübergang - Bad Driburg\, Lange Straße 140\,
  Bad Driburg
ORGANIZER;CN=Bad Driburger Touristik GmbH:mailto:info@bad-driburg.com
PRIORITY:4
SEQUENCE:0
SUMMARY:Geführte Wanderung auf den Spuren von Dichtern und Denkern
UID:e_100451600_iv27
URL:http://pages.destination.one/de/teutonavigator/streaming/detail/Event/e
 _100451600/gef-hrte-wanderung-auf-den-spuren-von-dichtern-und-denkern
END:VEVENT
BEGIN:VEVENT
CATEGORIES:Wanderung
DESCRIPTION:Wandern Sie auf den Spuren von Dichtern und Denkern aus der Bad
  Driburger Geschichte.\n\nmehr Informationen unter http://pages.destinatio
 n.one/de/teutonavigator/streaming/detail/Event/e_100451600/gef-hrte-wander
 ung-auf-den-spuren-von-dichtern-und-denkern
DTEND;TZID=Europe/Berlin:20260530T235900
DTSTAMP:20260421T182420Z
DTSTART;TZID=Europe/Berlin:20260530T140000
GEO:51.733432;9.027665
LOCATION:Wanderinfopunkt am Bahnübergang - Bad Driburg\, Lange Straße 140\,
  Bad Driburg
ORGANIZER;CN=Bad Driburger Touristik GmbH:mailto:info@bad-driburg.com
PRIORITY:4
SEQUENCE:0
SUMMARY:Geführte Wanderung auf den Spuren von Dichtern und Denkern
UID:e_100451600_iv28
URL:http://pages.destination.one/de/teutonavigator/streaming/detail/Event/e
 _100451600/gef-hrte-wanderung-auf-den-spuren-von-dichtern-und-denkern
END:VEVENT
BEGIN:VEVENT
CATEGORIES:Wanderung
DESCRIPTION:Wandern Sie auf den Spuren von Dichtern und Denkern aus der Bad
  Driburger Geschichte.\n\nmehr Informationen unter http://pages.destinatio
 n.one/de/teutonavigator/streaming/detail/Event/e_100451600/gef-hrte-wander
 ung-auf-den-spuren-von-dichtern-und-denkern
DTEND;TZID=Europe/Berlin:20260815T235900
DTSTAMP:20260421T182420Z
DTSTART;TZID=Europe/Berlin:20260815T140000
GEO:51.733432;9.027665
LOCATION:Wanderinfopunkt am Bahnübergang - Bad Driburg\, Lange Straße 140\,
  Bad Driburg
ORGANIZER;CN=Bad Driburger Touristik GmbH:mailto:info@bad-driburg.com
PRIORITY:4
SEQUENCE:0
SUMMARY:Geführte Wanderung auf den Spuren von Dichtern und Denkern
UID:e_100451600_iv29
URL:http://pages.destination.one/de/teutonavigator/streaming/detail/Event/e
 _100451600/gef-hrte-wanderung-auf-den-spuren-von-dichtern-und-denkern
END:VEVENT
BEGIN:VEVENT
CATEGORIES:Wanderung
DESCRIPTION:Wandern Sie auf den Spuren von Dichtern und Denkern aus der Bad
  Driburger Geschichte.\n\nmehr Informationen unter http://pages.destinatio
 n.one/de/teutonavigator/streaming/detail/Event/e_100451600/gef-hrte-wander
 ung-auf-den-spuren-von-dichtern-und-denkern
DTEND;TZID=Europe/Berlin:20261024T235900
DTSTAMP:20260421T182420Z
DTSTART;TZID=Europe/Berlin:20261024T140000
GEO:51.733432;9.027665
LOCATION:Wanderinfopunkt am Bahnübergang - Bad Driburg\, Lange Straße 140\,
  Bad Driburg
ORGANIZER;CN=Bad Driburger Touristik GmbH:mailto:info@bad-driburg.com
PRIORITY:4
SEQUENCE:0
SUMMARY:Geführte Wanderung auf den Spuren von Dichtern und Denkern
UID:e_100451600_iv30
URL:http://pages.destination.one/de/teutonavigator/streaming/detail/Event/e
 _100451600/gef-hrte-wanderung-auf-den-spuren-von-dichtern-und-denkern
END:VEVENT
BEGIN:VEVENT
CATEGORIES:Wanderung
DESCRIPTION:Wandern Sie auf den Spuren von Dichtern und Denkern aus der Bad
  Driburger Geschichte.\n\nmehr Informationen unter http://pages.destinatio
 n.one/de/teutonavigator/streaming/detail/Event/e_100451600/gef-hrte-wander
 ung-auf-den-spuren-von-dichtern-und-denkern
DTEND;TZID=Europe/Berlin:20261212T235900
DTSTAMP:20260421T182420Z
DTSTART;TZID=Europe/Berlin:20261212T140000
GEO:51.733432;9.027665
LOCATION:Wanderinfopunkt am Bahnübergang - Bad Driburg\, Lange Straße 140\,
  Bad Driburg
ORGANIZER;CN=Bad Driburger Touristik GmbH:mailto:info@bad-driburg.com
PRIORITY:4
SEQUENCE:0
SUMMARY:Geführte Wanderung auf den Spuren von Dichtern und Denkern
UID:e_100451600_iv31
URL:http://pages.destination.one/de/teutonavigator/streaming/detail/Event/e
 _100451600/gef-hrte-wanderung-auf-den-spuren-von-dichtern-und-denkern
END:VEVENT
BEGIN:VTIMEZONE
TZID:Europe/Berlin
X-LIC-LOCATION:Europe/Berlin
BEGIN:DAYLIGHT
DTSTART:19700329T020000
RRULE:FREQ=YEARLY;BYDAY=-1SU;BYMONTH=3
TZNAME:CEST
TZOFFSETFROM:+0100
TZOFFSETTO:+0200
END:DAYLIGHT
BEGIN:STANDARD
DTSTART:19701025T030000
RRULE:FREQ=YEARLY;BYDAY=-1SU;BYMONTH=10
TZNAME:CET
TZOFFSETFROM:+0200
TZOFFSETTO:+0100
END:STANDARD
END:VTIMEZONE
END:VCALENDAR
