BEGIN:VCALENDAR
VERSION:2.0
PRODID:-//destination.one//NONSGML destination.meta API//DE
X-WR-CALDESC:A calendar powered by destination.meta
X-WR-CALNAME:teutonavigator Kalender via destination.meta
BEGIN:VEVENT
CATEGORIES:Wanderung
DESCRIPTION:Wandern Sie auf den Spuren der Glashütten begleitet durch unser
 e erfahrenen Wanderführer.\n\nmehr Informationen unter http://pages.destin
 ation.one/de/teutonavigator/streaming/detail/Event/e_100450217/gef-hrte-wa
 nderung-glash-ttenrundwanderweg
DTEND;TZID=Europe/Berlin:20220507T170000
DTSTAMP:20260421T174621Z
DTSTART;TZID=Europe/Berlin:20220507T140000
GEO:51.733432;9.027665
LOCATION:Wanderinfopunkt am Bahnübergang - Bad Driburg\, Lange Straße 140\,
  Bad Driburg
ORGANIZER;CN=Bad Driburger Touristik GmbH:mailto:info@bad-driburg.com
SEQUENCE:0
SUMMARY:Geführte Wanderung Glashüttenrundwanderweg
UID:e_100450217_iv0
URL:http://pages.destination.one/de/teutonavigator/streaming/detail/Event/e
 _100450217/gef-hrte-wanderung-glash-ttenrundwanderweg
END:VEVENT
BEGIN:VEVENT
CATEGORIES:Wanderung
DESCRIPTION:Wandern Sie auf den Spuren der Glashütten begleitet durch unser
 e erfahrenen Wanderführer.\n\nmehr Informationen unter http://pages.destin
 ation.one/de/teutonavigator/streaming/detail/Event/e_100450217/gef-hrte-wa
 nderung-glash-ttenrundwanderweg
DTEND;TZID=Europe/Berlin:20220611T170000
DTSTAMP:20260421T174621Z
DTSTART;TZID=Europe/Berlin:20220611T140000
GEO:51.733432;9.027665
LOCATION:Wanderinfopunkt am Bahnübergang - Bad Driburg\, Lange Straße 140\,
  Bad Driburg
ORGANIZER;CN=Bad Driburger Touristik GmbH:mailto:info@bad-driburg.com
SEQUENCE:0
SUMMARY:Geführte Wanderung Glashüttenrundwanderweg
UID:e_100450217_iv1
URL:http://pages.destination.one/de/teutonavigator/streaming/detail/Event/e
 _100450217/gef-hrte-wanderung-glash-ttenrundwanderweg
END:VEVENT
BEGIN:VEVENT
CATEGORIES:Wanderung
DESCRIPTION:Wandern Sie auf den Spuren der Glashütten begleitet durch unser
 e erfahrenen Wanderführer.\n\nmehr Informationen unter http://pages.destin
 ation.one/de/teutonavigator/streaming/detail/Event/e_100450217/gef-hrte-wa
 nderung-glash-ttenrundwanderweg
DTEND;TZID=Europe/Berlin:20220716T170000
DTSTAMP:20260421T174621Z
DTSTART;TZID=Europe/Berlin:20220716T140000
GEO:51.733432;9.027665
LOCATION:Wanderinfopunkt am Bahnübergang - Bad Driburg\, Lange Straße 140\,
  Bad Driburg
ORGANIZER;CN=Bad Driburger Touristik GmbH:mailto:info@bad-driburg.com
SEQUENCE:0
SUMMARY:Geführte Wanderung Glashüttenrundwanderweg
UID:e_100450217_iv2
URL:http://pages.destination.one/de/teutonavigator/streaming/detail/Event/e
 _100450217/gef-hrte-wanderung-glash-ttenrundwanderweg
END:VEVENT
BEGIN:VEVENT
CATEGORIES:Wanderung
DESCRIPTION:Wandern Sie auf den Spuren der Glashütten begleitet durch unser
 e erfahrenen Wanderführer.\n\nmehr Informationen unter http://pages.destin
 ation.one/de/teutonavigator/streaming/detail/Event/e_100450217/gef-hrte-wa
 nderung-glash-ttenrundwanderweg
DTEND;TZID=Europe/Berlin:20220824T170000
DTSTAMP:20260421T174621Z
DTSTART;TZID=Europe/Berlin:20220824T140000
GEO:51.733432;9.027665
LOCATION:Wanderinfopunkt am Bahnübergang - Bad Driburg\, Lange Straße 140\,
  Bad Driburg
ORGANIZER;CN=Bad Driburger Touristik GmbH:mailto:info@bad-driburg.com
SEQUENCE:0
SUMMARY:Geführte Wanderung Glashüttenrundwanderweg
UID:e_100450217_iv3
URL:http://pages.destination.one/de/teutonavigator/streaming/detail/Event/e
 _100450217/gef-hrte-wanderung-glash-ttenrundwanderweg
END:VEVENT
BEGIN:VEVENT
CATEGORIES:Wanderung
DESCRIPTION:Wandern Sie auf den Spuren der Glashütten begleitet durch unser
 e erfahrenen Wanderführer.\n\nmehr Informationen unter http://pages.destin
 ation.one/de/teutonavigator/streaming/detail/Event/e_100450217/gef-hrte-wa
 nderung-glash-ttenrundwanderweg
DTEND;TZID=Europe/Berlin:20221001T170000
DTSTAMP:20260421T174621Z
DTSTART;TZID=Europe/Berlin:20221001T140000
GEO:51.733432;9.027665
LOCATION:Wanderinfopunkt am Bahnübergang - Bad Driburg\, Lange Straße 140\,
  Bad Driburg
ORGANIZER;CN=Bad Driburger Touristik GmbH:mailto:info@bad-driburg.com
SEQUENCE:0
SUMMARY:Geführte Wanderung Glashüttenrundwanderweg
UID:e_100450217_iv4
URL:http://pages.destination.one/de/teutonavigator/streaming/detail/Event/e
 _100450217/gef-hrte-wanderung-glash-ttenrundwanderweg
END:VEVENT
BEGIN:VEVENT
CATEGORIES:Wanderung
DESCRIPTION:Wandern Sie auf den Spuren der Glashütten begleitet durch unser
 e erfahrenen Wanderführer.\n\nmehr Informationen unter http://pages.destin
 ation.one/de/teutonavigator/streaming/detail/Event/e_100450217/gef-hrte-wa
 nderung-glash-ttenrundwanderweg
DTEND;TZID=Europe/Berlin:20221112T170000
DTSTAMP:20260421T174621Z
DTSTART;TZID=Europe/Berlin:20221112T140000
GEO:51.733432;9.027665
LOCATION:Wanderinfopunkt am Bahnübergang - Bad Driburg\, Lange Straße 140\,
  Bad Driburg
ORGANIZER;CN=Bad Driburger Touristik GmbH:mailto:info@bad-driburg.com
SEQUENCE:0
SUMMARY:Geführte Wanderung Glashüttenrundwanderweg
UID:e_100450217_iv5
URL:http://pages.destination.one/de/teutonavigator/streaming/detail/Event/e
 _100450217/gef-hrte-wanderung-glash-ttenrundwanderweg
END:VEVENT
BEGIN:VEVENT
CATEGORIES:Wanderung
DESCRIPTION:Wandern Sie auf den Spuren der Glashütten begleitet durch unser
 e erfahrenen Wanderführer.\n\nmehr Informationen unter http://pages.destin
 ation.one/de/teutonavigator/streaming/detail/Event/e_100450217/gef-hrte-wa
 nderung-glash-ttenrundwanderweg
DTEND;TZID=Europe/Berlin:20230107T170000
DTSTAMP:20260421T174621Z
DTSTART;TZID=Europe/Berlin:20230107T140000
GEO:51.733432;9.027665
LOCATION:Wanderinfopunkt am Bahnübergang - Bad Driburg\, Lange Straße 140\,
  Bad Driburg
ORGANIZER;CN=Bad Driburger Touristik GmbH:mailto:info@bad-driburg.com
SEQUENCE:0
SUMMARY:Geführte Wanderung Glashüttenrundwanderweg
UID:e_100450217_iv6
URL:http://pages.destination.one/de/teutonavigator/streaming/detail/Event/e
 _100450217/gef-hrte-wanderung-glash-ttenrundwanderweg
END:VEVENT
BEGIN:VEVENT
CATEGORIES:Wanderung
DESCRIPTION:Wandern Sie auf den Spuren der Glashütten begleitet durch unser
 e erfahrenen Wanderführer.\n\nmehr Informationen unter http://pages.destin
 ation.one/de/teutonavigator/streaming/detail/Event/e_100450217/gef-hrte-wa
 nderung-glash-ttenrundwanderweg
DTEND;TZID=Europe/Berlin:20230301T170000
DTSTAMP:20260421T174621Z
DTSTART;TZID=Europe/Berlin:20230301T140000
GEO:51.733432;9.027665
LOCATION:Wanderinfopunkt am Bahnübergang - Bad Driburg\, Lange Straße 140\,
  Bad Driburg
ORGANIZER;CN=Bad Driburger Touristik GmbH:mailto:info@bad-driburg.com
SEQUENCE:0
SUMMARY:Geführte Wanderung Glashüttenrundwanderweg
UID:e_100450217_iv7
URL:http://pages.destination.one/de/teutonavigator/streaming/detail/Event/e
 _100450217/gef-hrte-wanderung-glash-ttenrundwanderweg
END:VEVENT
BEGIN:VEVENT
CATEGORIES:Wanderung
DESCRIPTION:Wandern Sie auf den Spuren der Glashütten begleitet durch unser
 e erfahrenen Wanderführer.\n\nmehr Informationen unter http://pages.destin
 ation.one/de/teutonavigator/streaming/detail/Event/e_100450217/gef-hrte-wa
 nderung-glash-ttenrundwanderweg
DTEND;TZID=Europe/Berlin:20230408T170000
DTSTAMP:20260421T174621Z
DTSTART;TZID=Europe/Berlin:20230408T140000
GEO:51.733432;9.027665
LOCATION:Wanderinfopunkt am Bahnübergang - Bad Driburg\, Lange Straße 140\,
  Bad Driburg
ORGANIZER;CN=Bad Driburger Touristik GmbH:mailto:info@bad-driburg.com
SEQUENCE:0
SUMMARY:Geführte Wanderung Glashüttenrundwanderweg
UID:e_100450217_iv8
URL:http://pages.destination.one/de/teutonavigator/streaming/detail/Event/e
 _100450217/gef-hrte-wanderung-glash-ttenrundwanderweg
END:VEVENT
BEGIN:VEVENT
CATEGORIES:Wanderung
DESCRIPTION:Wandern Sie auf den Spuren der Glashütten begleitet durch unser
 e erfahrenen Wanderführer.\n\nmehr Informationen unter http://pages.destin
 ation.one/de/teutonavigator/streaming/detail/Event/e_100450217/gef-hrte-wa
 nderung-glash-ttenrundwanderweg
DTEND;TZID=Europe/Berlin:20230513T170000
DTSTAMP:20260421T174621Z
DTSTART;TZID=Europe/Berlin:20230513T140000
GEO:51.733432;9.027665
LOCATION:Wanderinfopunkt am Bahnübergang - Bad Driburg\, Lange Straße 140\,
  Bad Driburg
ORGANIZER;CN=Bad Driburger Touristik GmbH:mailto:info@bad-driburg.com
SEQUENCE:0
SUMMARY:Geführte Wanderung Glashüttenrundwanderweg
UID:e_100450217_iv9
URL:http://pages.destination.one/de/teutonavigator/streaming/detail/Event/e
 _100450217/gef-hrte-wanderung-glash-ttenrundwanderweg
END:VEVENT
BEGIN:VEVENT
CATEGORIES:Wanderung
DESCRIPTION:Wandern Sie auf den Spuren der Glashütten begleitet durch unser
 e erfahrenen Wanderführer.\n\nmehr Informationen unter http://pages.destin
 ation.one/de/teutonavigator/streaming/detail/Event/e_100450217/gef-hrte-wa
 nderung-glash-ttenrundwanderweg
DTEND;TZID=Europe/Berlin:20230624T170000
DTSTAMP:20260421T174621Z
DTSTART;TZID=Europe/Berlin:20230624T140000
GEO:51.733432;9.027665
LOCATION:Wanderinfopunkt am Bahnübergang - Bad Driburg\, Lange Straße 140\,
  Bad Driburg
ORGANIZER;CN=Bad Driburger Touristik GmbH:mailto:info@bad-driburg.com
SEQUENCE:0
SUMMARY:Geführte Wanderung Glashüttenrundwanderweg
UID:e_100450217_iv10
URL:http://pages.destination.one/de/teutonavigator/streaming/detail/Event/e
 _100450217/gef-hrte-wanderung-glash-ttenrundwanderweg
END:VEVENT
BEGIN:VEVENT
CATEGORIES:Wanderung
DESCRIPTION:Wandern Sie auf den Spuren der Glashütten begleitet durch unser
 e erfahrenen Wanderführer.\n\nmehr Informationen unter http://pages.destin
 ation.one/de/teutonavigator/streaming/detail/Event/e_100450217/gef-hrte-wa
 nderung-glash-ttenrundwanderweg
DTEND;TZID=Europe/Berlin:20230729T170000
DTSTAMP:20260421T174621Z
DTSTART;TZID=Europe/Berlin:20230729T140000
GEO:51.733432;9.027665
LOCATION:Wanderinfopunkt am Bahnübergang - Bad Driburg\, Lange Straße 140\,
  Bad Driburg
ORGANIZER;CN=Bad Driburger Touristik GmbH:mailto:info@bad-driburg.com
SEQUENCE:0
SUMMARY:Geführte Wanderung Glashüttenrundwanderweg
UID:e_100450217_iv11
URL:http://pages.destination.one/de/teutonavigator/streaming/detail/Event/e
 _100450217/gef-hrte-wanderung-glash-ttenrundwanderweg
END:VEVENT
BEGIN:VEVENT
CATEGORIES:Wanderung
DESCRIPTION:Wandern Sie auf den Spuren der Glashütten begleitet durch unser
 e erfahrenen Wanderführer.\n\nmehr Informationen unter http://pages.destin
 ation.one/de/teutonavigator/streaming/detail/Event/e_100450217/gef-hrte-wa
 nderung-glash-ttenrundwanderweg
DTEND;TZID=Europe/Berlin:20230823T170000
DTSTAMP:20260421T174621Z
DTSTART;TZID=Europe/Berlin:20230823T140000
GEO:51.733432;9.027665
LOCATION:Wanderinfopunkt am Bahnübergang - Bad Driburg\, Lange Straße 140\,
  Bad Driburg
ORGANIZER;CN=Bad Driburger Touristik GmbH:mailto:info@bad-driburg.com
SEQUENCE:0
SUMMARY:Geführte Wanderung Glashüttenrundwanderweg
UID:e_100450217_iv12
URL:http://pages.destination.one/de/teutonavigator/streaming/detail/Event/e
 _100450217/gef-hrte-wanderung-glash-ttenrundwanderweg
END:VEVENT
BEGIN:VEVENT
CATEGORIES:Wanderung
DESCRIPTION:Wandern Sie auf den Spuren der Glashütten begleitet durch unser
 e erfahrenen Wanderführer.\n\nmehr Informationen unter http://pages.destin
 ation.one/de/teutonavigator/streaming/detail/Event/e_100450217/gef-hrte-wa
 nderung-glash-ttenrundwanderweg
DTEND;TZID=Europe/Berlin:20231011T170000
DTSTAMP:20260421T174621Z
DTSTART;TZID=Europe/Berlin:20231011T140000
GEO:51.733432;9.027665
LOCATION:Wanderinfopunkt am Bahnübergang - Bad Driburg\, Lange Straße 140\,
  Bad Driburg
ORGANIZER;CN=Bad Driburger Touristik GmbH:mailto:info@bad-driburg.com
SEQUENCE:0
SUMMARY:Geführte Wanderung Glashüttenrundwanderweg
UID:e_100450217_iv13
URL:http://pages.destination.one/de/teutonavigator/streaming/detail/Event/e
 _100450217/gef-hrte-wanderung-glash-ttenrundwanderweg
END:VEVENT
BEGIN:VEVENT
CATEGORIES:Wanderung
DESCRIPTION:Wandern Sie auf den Spuren der Glashütten begleitet durch unser
 e erfahrenen Wanderführer.\n\nmehr Informationen unter http://pages.destin
 ation.one/de/teutonavigator/streaming/detail/Event/e_100450217/gef-hrte-wa
 nderung-glash-ttenrundwanderweg
DTEND;TZID=Europe/Berlin:20231125T170000
DTSTAMP:20260421T174621Z
DTSTART;TZID=Europe/Berlin:20231125T140000
GEO:51.733432;9.027665
LOCATION:Wanderinfopunkt am Bahnübergang - Bad Driburg\, Lange Straße 140\,
  Bad Driburg
ORGANIZER;CN=Bad Driburger Touristik GmbH:mailto:info@bad-driburg.com
SEQUENCE:0
SUMMARY:Geführte Wanderung Glashüttenrundwanderweg
UID:e_100450217_iv14
URL:http://pages.destination.one/de/teutonavigator/streaming/detail/Event/e
 _100450217/gef-hrte-wanderung-glash-ttenrundwanderweg
END:VEVENT
BEGIN:VEVENT
CATEGORIES:Wanderung
DESCRIPTION:Wandern Sie auf den Spuren der Glashütten begleitet durch unser
 e erfahrenen Wanderführer.\n\nmehr Informationen unter http://pages.destin
 ation.one/de/teutonavigator/streaming/detail/Event/e_100450217/gef-hrte-wa
 nderung-glash-ttenrundwanderweg
DTEND;TZID=Europe/Berlin:20240106T170000
DTSTAMP:20260421T174621Z
DTSTART;TZID=Europe/Berlin:20240106T140000
GEO:51.733432;9.027665
LOCATION:Wanderinfopunkt am Bahnübergang - Bad Driburg\, Lange Straße 140\,
  Bad Driburg
ORGANIZER;CN=Bad Driburger Touristik GmbH:mailto:info@bad-driburg.com
SEQUENCE:0
SUMMARY:Geführte Wanderung Glashüttenrundwanderweg
UID:e_100450217_iv15
URL:http://pages.destination.one/de/teutonavigator/streaming/detail/Event/e
 _100450217/gef-hrte-wanderung-glash-ttenrundwanderweg
END:VEVENT
BEGIN:VEVENT
CATEGORIES:Wanderung
DESCRIPTION:Wandern Sie auf den Spuren der Glashütten begleitet durch unser
 e erfahrenen Wanderführer.\n\nmehr Informationen unter http://pages.destin
 ation.one/de/teutonavigator/streaming/detail/Event/e_100450217/gef-hrte-wa
 nderung-glash-ttenrundwanderweg
DTEND;TZID=Europe/Berlin:20240406T170000
DTSTAMP:20260421T174621Z
DTSTART;TZID=Europe/Berlin:20240406T140000
GEO:51.733432;9.027665
LOCATION:Wanderinfopunkt am Bahnübergang - Bad Driburg\, Lange Straße 140\,
  Bad Driburg
ORGANIZER;CN=Bad Driburger Touristik GmbH:mailto:info@bad-driburg.com
SEQUENCE:0
SUMMARY:Geführte Wanderung Glashüttenrundwanderweg
UID:e_100450217_iv16
URL:http://pages.destination.one/de/teutonavigator/streaming/detail/Event/e
 _100450217/gef-hrte-wanderung-glash-ttenrundwanderweg
END:VEVENT
BEGIN:VEVENT
CATEGORIES:Wanderung
DESCRIPTION:Wandern Sie auf den Spuren der Glashütten begleitet durch unser
 e erfahrenen Wanderführer.\n\nmehr Informationen unter http://pages.destin
 ation.one/de/teutonavigator/streaming/detail/Event/e_100450217/gef-hrte-wa
 nderung-glash-ttenrundwanderweg
DTEND;TZID=Europe/Berlin:20240511T170000
DTSTAMP:20260421T174621Z
DTSTART;TZID=Europe/Berlin:20240511T140000
GEO:51.733432;9.027665
LOCATION:Wanderinfopunkt am Bahnübergang - Bad Driburg\, Lange Straße 140\,
  Bad Driburg
ORGANIZER;CN=Bad Driburger Touristik GmbH:mailto:info@bad-driburg.com
SEQUENCE:0
SUMMARY:Geführte Wanderung Glashüttenrundwanderweg
UID:e_100450217_iv17
URL:http://pages.destination.one/de/teutonavigator/streaming/detail/Event/e
 _100450217/gef-hrte-wanderung-glash-ttenrundwanderweg
END:VEVENT
BEGIN:VEVENT
CATEGORIES:Wanderung
DESCRIPTION:Wandern Sie auf den Spuren der Glashütten begleitet durch unser
 e erfahrenen Wanderführer.\n\nmehr Informationen unter http://pages.destin
 ation.one/de/teutonavigator/streaming/detail/Event/e_100450217/gef-hrte-wa
 nderung-glash-ttenrundwanderweg
DTEND;TZID=Europe/Berlin:20240622T170000
DTSTAMP:20260421T174621Z
DTSTART;TZID=Europe/Berlin:20240622T140000
GEO:51.733432;9.027665
LOCATION:Wanderinfopunkt am Bahnübergang - Bad Driburg\, Lange Straße 140\,
  Bad Driburg
ORGANIZER;CN=Bad Driburger Touristik GmbH:mailto:info@bad-driburg.com
SEQUENCE:0
SUMMARY:Geführte Wanderung Glashüttenrundwanderweg
UID:e_100450217_iv18
URL:http://pages.destination.one/de/teutonavigator/streaming/detail/Event/e
 _100450217/gef-hrte-wanderung-glash-ttenrundwanderweg
END:VEVENT
BEGIN:VEVENT
CATEGORIES:Wanderung
DESCRIPTION:Wandern Sie auf den Spuren der Glashütten begleitet durch unser
 e erfahrenen Wanderführer.\n\nmehr Informationen unter http://pages.destin
 ation.one/de/teutonavigator/streaming/detail/Event/e_100450217/gef-hrte-wa
 nderung-glash-ttenrundwanderweg
DTEND;TZID=Europe/Berlin:20240727T170000
DTSTAMP:20260421T174621Z
DTSTART;TZID=Europe/Berlin:20240727T140000
GEO:51.733432;9.027665
LOCATION:Wanderinfopunkt am Bahnübergang - Bad Driburg\, Lange Straße 140\,
  Bad Driburg
ORGANIZER;CN=Bad Driburger Touristik GmbH:mailto:info@bad-driburg.com
SEQUENCE:0
SUMMARY:Geführte Wanderung Glashüttenrundwanderweg
UID:e_100450217_iv19
URL:http://pages.destination.one/de/teutonavigator/streaming/detail/Event/e
 _100450217/gef-hrte-wanderung-glash-ttenrundwanderweg
END:VEVENT
BEGIN:VEVENT
CATEGORIES:Wanderung
DESCRIPTION:Wandern Sie auf den Spuren der Glashütten begleitet durch unser
 e erfahrenen Wanderführer.\n\nmehr Informationen unter http://pages.destin
 ation.one/de/teutonavigator/streaming/detail/Event/e_100450217/gef-hrte-wa
 nderung-glash-ttenrundwanderweg
DTEND;TZID=Europe/Berlin:20241009T170000
DTSTAMP:20260421T174621Z
DTSTART;TZID=Europe/Berlin:20241009T140000
GEO:51.733432;9.027665
LOCATION:Wanderinfopunkt am Bahnübergang - Bad Driburg\, Lange Straße 140\,
  Bad Driburg
ORGANIZER;CN=Bad Driburger Touristik GmbH:mailto:info@bad-driburg.com
SEQUENCE:0
SUMMARY:Geführte Wanderung Glashüttenrundwanderweg
UID:e_100450217_iv20
URL:http://pages.destination.one/de/teutonavigator/streaming/detail/Event/e
 _100450217/gef-hrte-wanderung-glash-ttenrundwanderweg
END:VEVENT
BEGIN:VEVENT
CATEGORIES:Wanderung
DESCRIPTION:Wandern Sie auf den Spuren der Glashütten begleitet durch unser
 e erfahrenen Wanderführer.\n\nmehr Informationen unter http://pages.destin
 ation.one/de/teutonavigator/streaming/detail/Event/e_100450217/gef-hrte-wa
 nderung-glash-ttenrundwanderweg
DTEND;TZID=Europe/Berlin:20241116T170000
DTSTAMP:20260421T174621Z
DTSTART;TZID=Europe/Berlin:20241116T140000
GEO:51.733432;9.027665
LOCATION:Wanderinfopunkt am Bahnübergang - Bad Driburg\, Lange Straße 140\,
  Bad Driburg
ORGANIZER;CN=Bad Driburger Touristik GmbH:mailto:info@bad-driburg.com
SEQUENCE:0
SUMMARY:Geführte Wanderung Glashüttenrundwanderweg
UID:e_100450217_iv21
URL:http://pages.destination.one/de/teutonavigator/streaming/detail/Event/e
 _100450217/gef-hrte-wanderung-glash-ttenrundwanderweg
END:VEVENT
BEGIN:VEVENT
CATEGORIES:Wanderung
DESCRIPTION:Wandern Sie auf den Spuren der Glashütten begleitet durch unser
 e erfahrenen Wanderführer.\n\nmehr Informationen unter http://pages.destin
 ation.one/de/teutonavigator/streaming/detail/Event/e_100450217/gef-hrte-wa
 nderung-glash-ttenrundwanderweg
DTEND;TZID=Europe/Berlin:20250104T235900
DTSTAMP:20260421T174621Z
DTSTART;TZID=Europe/Berlin:20250104T140000
GEO:51.733432;9.027665
LOCATION:Wanderinfopunkt am Bahnübergang - Bad Driburg\, Lange Straße 140\,
  Bad Driburg
ORGANIZER;CN=Bad Driburger Touristik GmbH:mailto:info@bad-driburg.com
SEQUENCE:0
SUMMARY:Geführte Wanderung Glashüttenrundwanderweg
UID:e_100450217_iv22
URL:http://pages.destination.one/de/teutonavigator/streaming/detail/Event/e
 _100450217/gef-hrte-wanderung-glash-ttenrundwanderweg
END:VEVENT
BEGIN:VEVENT
CATEGORIES:Wanderung
DESCRIPTION:Wandern Sie auf den Spuren der Glashütten begleitet durch unser
 e erfahrenen Wanderführer.\n\nmehr Informationen unter http://pages.destin
 ation.one/de/teutonavigator/streaming/detail/Event/e_100450217/gef-hrte-wa
 nderung-glash-ttenrundwanderweg
DTEND;TZID=Europe/Berlin:20250405T170000
DTSTAMP:20260421T174621Z
DTSTART;TZID=Europe/Berlin:20250405T140000
GEO:51.733432;9.027665
LOCATION:Wanderinfopunkt am Bahnübergang - Bad Driburg\, Lange Straße 140\,
  Bad Driburg
ORGANIZER;CN=Bad Driburger Touristik GmbH:mailto:info@bad-driburg.com
SEQUENCE:0
SUMMARY:Geführte Wanderung Glashüttenrundwanderweg
UID:e_100450217_iv23
URL:http://pages.destination.one/de/teutonavigator/streaming/detail/Event/e
 _100450217/gef-hrte-wanderung-glash-ttenrundwanderweg
END:VEVENT
BEGIN:VEVENT
CATEGORIES:Wanderung
DESCRIPTION:Wandern Sie auf den Spuren der Glashütten begleitet durch unser
 e erfahrenen Wanderführer.\n\nmehr Informationen unter http://pages.destin
 ation.one/de/teutonavigator/streaming/detail/Event/e_100450217/gef-hrte-wa
 nderung-glash-ttenrundwanderweg
DTEND;TZID=Europe/Berlin:20250510T170000
DTSTAMP:20260421T174621Z
DTSTART;TZID=Europe/Berlin:20250510T140000
GEO:51.733432;9.027665
LOCATION:Wanderinfopunkt am Bahnübergang - Bad Driburg\, Lange Straße 140\,
  Bad Driburg
ORGANIZER;CN=Bad Driburger Touristik GmbH:mailto:info@bad-driburg.com
SEQUENCE:0
SUMMARY:Geführte Wanderung Glashüttenrundwanderweg
UID:e_100450217_iv24
URL:http://pages.destination.one/de/teutonavigator/streaming/detail/Event/e
 _100450217/gef-hrte-wanderung-glash-ttenrundwanderweg
END:VEVENT
BEGIN:VEVENT
CATEGORIES:Wanderung
DESCRIPTION:Wandern Sie auf den Spuren der Glashütten begleitet durch unser
 e erfahrenen Wanderführer.\n\nmehr Informationen unter http://pages.destin
 ation.one/de/teutonavigator/streaming/detail/Event/e_100450217/gef-hrte-wa
 nderung-glash-ttenrundwanderweg
DTEND;TZID=Europe/Berlin:20250726T170000
DTSTAMP:20260421T174621Z
DTSTART;TZID=Europe/Berlin:20250726T140000
GEO:51.733432;9.027665
LOCATION:Wanderinfopunkt am Bahnübergang - Bad Driburg\, Lange Straße 140\,
  Bad Driburg
ORGANIZER;CN=Bad Driburger Touristik GmbH:mailto:info@bad-driburg.com
SEQUENCE:0
SUMMARY:Geführte Wanderung Glashüttenrundwanderweg
UID:e_100450217_iv25
URL:http://pages.destination.one/de/teutonavigator/streaming/detail/Event/e
 _100450217/gef-hrte-wanderung-glash-ttenrundwanderweg
END:VEVENT
BEGIN:VEVENT
CATEGORIES:Wanderung
DESCRIPTION:Wandern Sie auf den Spuren der Glashütten begleitet durch unser
 e erfahrenen Wanderführer.\n\nmehr Informationen unter http://pages.destin
 ation.one/de/teutonavigator/streaming/detail/Event/e_100450217/gef-hrte-wa
 nderung-glash-ttenrundwanderweg
DTEND;TZID=Europe/Berlin:20251008T170000
DTSTAMP:20260421T174621Z
DTSTART;TZID=Europe/Berlin:20251008T140000
GEO:51.733432;9.027665
LOCATION:Wanderinfopunkt am Bahnübergang - Bad Driburg\, Lange Straße 140\,
  Bad Driburg
ORGANIZER;CN=Bad Driburger Touristik GmbH:mailto:info@bad-driburg.com
SEQUENCE:0
SUMMARY:Geführte Wanderung Glashüttenrundwanderweg
UID:e_100450217_iv26
URL:http://pages.destination.one/de/teutonavigator/streaming/detail/Event/e
 _100450217/gef-hrte-wanderung-glash-ttenrundwanderweg
END:VEVENT
BEGIN:VEVENT
CATEGORIES:Wanderung
DESCRIPTION:Wandern Sie auf den Spuren der Glashütten begleitet durch unser
 e erfahrenen Wanderführer.\n\nmehr Informationen unter http://pages.destin
 ation.one/de/teutonavigator/streaming/detail/Event/e_100450217/gef-hrte-wa
 nderung-glash-ttenrundwanderweg
DTEND;TZID=Europe/Berlin:20251115T170000
DTSTAMP:20260421T174621Z
DTSTART;TZID=Europe/Berlin:20251115T140000
GEO:51.733432;9.027665
LOCATION:Wanderinfopunkt am Bahnübergang - Bad Driburg\, Lange Straße 140\,
  Bad Driburg
ORGANIZER;CN=Bad Driburger Touristik GmbH:mailto:info@bad-driburg.com
SEQUENCE:0
SUMMARY:Geführte Wanderung Glashüttenrundwanderweg
UID:e_100450217_iv27
URL:http://pages.destination.one/de/teutonavigator/streaming/detail/Event/e
 _100450217/gef-hrte-wanderung-glash-ttenrundwanderweg
END:VEVENT
BEGIN:VEVENT
CATEGORIES:Wanderung
DESCRIPTION:Wandern Sie auf den Spuren der Glashütten begleitet durch unser
 e erfahrenen Wanderführer.\n\nmehr Informationen unter http://pages.destin
 ation.one/de/teutonavigator/streaming/detail/Event/e_100450217/gef-hrte-wa
 nderung-glash-ttenrundwanderweg
DTEND;TZID=Europe/Berlin:20260103T235900
DTSTAMP:20260421T174621Z
DTSTART;TZID=Europe/Berlin:20260103T140000
GEO:51.733432;9.027665
LOCATION:Wanderinfopunkt am Bahnübergang - Bad Driburg\, Lange Straße 140\,
  Bad Driburg
ORGANIZER;CN=Bad Driburger Touristik GmbH:mailto:info@bad-driburg.com
SEQUENCE:0
SUMMARY:Geführte Wanderung Glashüttenrundwanderweg
UID:e_100450217_iv28
URL:http://pages.destination.one/de/teutonavigator/streaming/detail/Event/e
 _100450217/gef-hrte-wanderung-glash-ttenrundwanderweg
END:VEVENT
BEGIN:VEVENT
CATEGORIES:Wanderung
DESCRIPTION:Wandern Sie auf den Spuren der Glashütten begleitet durch unser
 e erfahrenen Wanderführer.\n\nmehr Informationen unter http://pages.destin
 ation.one/de/teutonavigator/streaming/detail/Event/e_100450217/gef-hrte-wa
 nderung-glash-ttenrundwanderweg
DTEND;TZID=Europe/Berlin:20260228T235900
DTSTAMP:20260421T174621Z
DTSTART;TZID=Europe/Berlin:20260228T140000
GEO:51.733432;9.027665
LOCATION:Wanderinfopunkt am Bahnübergang - Bad Driburg\, Lange Straße 140\,
  Bad Driburg
ORGANIZER;CN=Bad Driburger Touristik GmbH:mailto:info@bad-driburg.com
SEQUENCE:0
SUMMARY:Geführte Wanderung Glashüttenrundwanderweg
UID:e_100450217_iv29
URL:http://pages.destination.one/de/teutonavigator/streaming/detail/Event/e
 _100450217/gef-hrte-wanderung-glash-ttenrundwanderweg
END:VEVENT
BEGIN:VEVENT
CATEGORIES:Wanderung
DESCRIPTION:Wandern Sie auf den Spuren der Glashütten begleitet durch unser
 e erfahrenen Wanderführer.\n\nmehr Informationen unter http://pages.destin
 ation.one/de/teutonavigator/streaming/detail/Event/e_100450217/gef-hrte-wa
 nderung-glash-ttenrundwanderweg
DTEND;TZID=Europe/Berlin:20260307T235900
DTSTAMP:20260421T174621Z
DTSTART;TZID=Europe/Berlin:20260307T140000
GEO:51.733432;9.027665
LOCATION:Wanderinfopunkt am Bahnübergang - Bad Driburg\, Lange Straße 140\,
  Bad Driburg
ORGANIZER;CN=Bad Driburger Touristik GmbH:mailto:info@bad-driburg.com
SEQUENCE:0
SUMMARY:Geführte Wanderung Glashüttenrundwanderweg
UID:e_100450217_iv30
URL:http://pages.destination.one/de/teutonavigator/streaming/detail/Event/e
 _100450217/gef-hrte-wanderung-glash-ttenrundwanderweg
END:VEVENT
BEGIN:VEVENT
CATEGORIES:Wanderung
DESCRIPTION:Wandern Sie auf den Spuren der Glashütten begleitet durch unser
 e erfahrenen Wanderführer.\n\nmehr Informationen unter http://pages.destin
 ation.one/de/teutonavigator/streaming/detail/Event/e_100450217/gef-hrte-wa
 nderung-glash-ttenrundwanderweg
DTEND;TZID=Europe/Berlin:20260404T235900
DTSTAMP:20260421T174621Z
DTSTART;TZID=Europe/Berlin:20260404T140000
GEO:51.733432;9.027665
LOCATION:Wanderinfopunkt am Bahnübergang - Bad Driburg\, Lange Straße 140\,
  Bad Driburg
ORGANIZER;CN=Bad Driburger Touristik GmbH:mailto:info@bad-driburg.com
SEQUENCE:0
SUMMARY:Geführte Wanderung Glashüttenrundwanderweg
UID:e_100450217_iv31
URL:http://pages.destination.one/de/teutonavigator/streaming/detail/Event/e
 _100450217/gef-hrte-wanderung-glash-ttenrundwanderweg
END:VEVENT
BEGIN:VEVENT
CATEGORIES:Wanderung
DESCRIPTION:Wandern Sie auf den Spuren der Glashütten begleitet durch unser
 e erfahrenen Wanderführer.\n\nmehr Informationen unter http://pages.destin
 ation.one/de/teutonavigator/streaming/detail/Event/e_100450217/gef-hrte-wa
 nderung-glash-ttenrundwanderweg
DTEND;TZID=Europe/Berlin:20260613T235900
DTSTAMP:20260421T174621Z
DTSTART;TZID=Europe/Berlin:20260613T140000
GEO:51.733432;9.027665
LOCATION:Wanderinfopunkt am Bahnübergang - Bad Driburg\, Lange Straße 140\,
  Bad Driburg
ORGANIZER;CN=Bad Driburger Touristik GmbH:mailto:info@bad-driburg.com
SEQUENCE:0
SUMMARY:Geführte Wanderung Glashüttenrundwanderweg
UID:e_100450217_iv32
URL:http://pages.destination.one/de/teutonavigator/streaming/detail/Event/e
 _100450217/gef-hrte-wanderung-glash-ttenrundwanderweg
END:VEVENT
BEGIN:VEVENT
CATEGORIES:Wanderung
DESCRIPTION:Wandern Sie auf den Spuren der Glashütten begleitet durch unser
 e erfahrenen Wanderführer.\n\nmehr Informationen unter http://pages.destin
 ation.one/de/teutonavigator/streaming/detail/Event/e_100450217/gef-hrte-wa
 nderung-glash-ttenrundwanderweg
DTEND;TZID=Europe/Berlin:20260829T235900
DTSTAMP:20260421T174621Z
DTSTART;TZID=Europe/Berlin:20260829T140000
GEO:51.733432;9.027665
LOCATION:Wanderinfopunkt am Bahnübergang - Bad Driburg\, Lange Straße 140\,
  Bad Driburg
ORGANIZER;CN=Bad Driburger Touristik GmbH:mailto:info@bad-driburg.com
SEQUENCE:0
SUMMARY:Geführte Wanderung Glashüttenrundwanderweg
UID:e_100450217_iv33
URL:http://pages.destination.one/de/teutonavigator/streaming/detail/Event/e
 _100450217/gef-hrte-wanderung-glash-ttenrundwanderweg
END:VEVENT
BEGIN:VEVENT
CATEGORIES:Wanderung
DESCRIPTION:Wandern Sie auf den Spuren der Glashütten begleitet durch unser
 e erfahrenen Wanderführer.\n\nmehr Informationen unter http://pages.destin
 ation.one/de/teutonavigator/streaming/detail/Event/e_100450217/gef-hrte-wa
 nderung-glash-ttenrundwanderweg
DTEND;TZID=Europe/Berlin:20261107T235900
DTSTAMP:20260421T174621Z
DTSTART;TZID=Europe/Berlin:20261107T140000
GEO:51.733432;9.027665
LOCATION:Wanderinfopunkt am Bahnübergang - Bad Driburg\, Lange Straße 140\,
  Bad Driburg
ORGANIZER;CN=Bad Driburger Touristik GmbH:mailto:info@bad-driburg.com
SEQUENCE:0
SUMMARY:Geführte Wanderung Glashüttenrundwanderweg
UID:e_100450217_iv34
URL:http://pages.destination.one/de/teutonavigator/streaming/detail/Event/e
 _100450217/gef-hrte-wanderung-glash-ttenrundwanderweg
END:VEVENT
BEGIN:VTIMEZONE
TZID:Europe/Berlin
X-LIC-LOCATION:Europe/Berlin
BEGIN:DAYLIGHT
DTSTART:19700329T020000
RRULE:FREQ=YEARLY;BYDAY=-1SU;BYMONTH=3
TZNAME:CEST
TZOFFSETFROM:+0100
TZOFFSETTO:+0200
END:DAYLIGHT
BEGIN:STANDARD
DTSTART:19701025T030000
RRULE:FREQ=YEARLY;BYDAY=-1SU;BYMONTH=10
TZNAME:CET
TZOFFSETFROM:+0200
TZOFFSETTO:+0100
END:STANDARD
END:VTIMEZONE
END:VCALENDAR
