BEGIN:VCALENDAR
VERSION:2.0
PRODID:-//destination.one//NONSGML destination.meta API//DE
X-WR-CALDESC:A calendar powered by destination.meta
X-WR-CALNAME:teutonavigator Kalender via destination.meta
BEGIN:VEVENT
CATEGORIES:Ausstellung
CATEGORIES:Führung/Besichtigung
DESCRIPTION:Öffentliche Führung im Wasserschloss St. Hubertus-Heerse\n\nmeh
 r Informationen unter http://pages.destination.one/de/teutonavigator/strea
 ming/detail/Event/e_100424381/ffentliche-f-hrung-im-wasserschloss-heerse
DTEND;TZID=Europe/Berlin:20220402T160000
DTSTAMP:20260421T204210Z
DTSTART;TZID=Europe/Berlin:20220402T140000
GEO:51.675715;8.998404
LOCATION:Wasserschloss Heerse - Vereinigte Museen\, Stiftsstraße  2\, Bad D
 riburg
ORGANIZER;CN=Wasserschloss Heerse - Vereinigte Museen:mailto:verwaltung@was
 serschloss-neuenheerse.com
RRULE:FREQ=WEEKLY;UNTIL=20221007T120000;BYDAY=SA
SEQUENCE:0
SUMMARY:Öffentliche Führung im Wasserschloss Heerse
UID:e_100424381_iv0
URL:http://pages.destination.one/de/teutonavigator/streaming/detail/Event/e
 _100424381/ffentliche-f-hrung-im-wasserschloss-heerse
END:VEVENT
BEGIN:VEVENT
CATEGORIES:Ausstellung
CATEGORIES:Führung/Besichtigung
DESCRIPTION:Öffentliche Führung im Wasserschloss St. Hubertus-Heerse\n\nmeh
 r Informationen unter http://pages.destination.one/de/teutonavigator/strea
 ming/detail/Event/e_100424381/ffentliche-f-hrung-im-wasserschloss-heerse
DTEND;TZID=Europe/Berlin:20221008T160000
DTSTAMP:20260421T204210Z
DTSTART;TZID=Europe/Berlin:20221008T140000
GEO:51.675715;8.998404
LOCATION:Wasserschloss Heerse - Vereinigte Museen\, Stiftsstraße  2\, Bad D
 riburg
ORGANIZER;CN=Wasserschloss Heerse - Vereinigte Museen:mailto:verwaltung@was
 serschloss-neuenheerse.com
RRULE:FREQ=WEEKLY;UNTIL=20221217T150000;BYDAY=SA
SEQUENCE:0
SUMMARY:Öffentliche Führung im Wasserschloss Heerse
UID:e_100424381_iv1
URL:http://pages.destination.one/de/teutonavigator/streaming/detail/Event/e
 _100424381/ffentliche-f-hrung-im-wasserschloss-heerse
END:VEVENT
BEGIN:VEVENT
CATEGORIES:Ausstellung
CATEGORIES:Führung/Besichtigung
DESCRIPTION:Öffentliche Führung im Wasserschloss St. Hubertus-Heerse\n\nmeh
 r Informationen unter http://pages.destination.one/de/teutonavigator/strea
 ming/detail/Event/e_100424381/ffentliche-f-hrung-im-wasserschloss-heerse
DTEND;TZID=Europe/Berlin:20230401T160000
DTSTAMP:20260421T204210Z
DTSTART;TZID=Europe/Berlin:20230401T140000
GEO:51.675715;8.998404
LOCATION:Wasserschloss Heerse - Vereinigte Museen\, Stiftsstraße  2\, Bad D
 riburg
ORGANIZER;CN=Wasserschloss Heerse - Vereinigte Museen:mailto:verwaltung@was
 serschloss-neuenheerse.com
RRULE:FREQ=WEEKLY;UNTIL=20230428T120000;BYDAY=SA
SEQUENCE:0
SUMMARY:Öffentliche Führung im Wasserschloss Heerse
UID:e_100424381_iv2
URL:http://pages.destination.one/de/teutonavigator/streaming/detail/Event/e
 _100424381/ffentliche-f-hrung-im-wasserschloss-heerse
END:VEVENT
BEGIN:VEVENT
CATEGORIES:Ausstellung
CATEGORIES:Führung/Besichtigung
DESCRIPTION:Öffentliche Führung im Wasserschloss St. Hubertus-Heerse\n\nmeh
 r Informationen unter http://pages.destination.one/de/teutonavigator/strea
 ming/detail/Event/e_100424381/ffentliche-f-hrung-im-wasserschloss-heerse
DTEND;TZID=Europe/Berlin:20230429T160000
DTSTAMP:20260421T204210Z
DTSTART;TZID=Europe/Berlin:20230429T140000
GEO:51.675715;8.998404
LOCATION:Wasserschloss Heerse - Vereinigte Museen\, Stiftsstraße  2\, Bad D
 riburg
ORGANIZER;CN=Wasserschloss Heerse - Vereinigte Museen:mailto:verwaltung@was
 serschloss-neuenheerse.com
RRULE:FREQ=WEEKLY;UNTIL=20230929T140000;BYDAY=SA
SEQUENCE:0
SUMMARY:Öffentliche Führung im Wasserschloss Heerse
UID:e_100424381_iv3
URL:http://pages.destination.one/de/teutonavigator/streaming/detail/Event/e
 _100424381/ffentliche-f-hrung-im-wasserschloss-heerse
END:VEVENT
BEGIN:VEVENT
CATEGORIES:Ausstellung
CATEGORIES:Führung/Besichtigung
DESCRIPTION:Öffentliche Führung im Wasserschloss St. Hubertus-Heerse\n\nmeh
 r Informationen unter http://pages.destination.one/de/teutonavigator/strea
 ming/detail/Event/e_100424381/ffentliche-f-hrung-im-wasserschloss-heerse
DTEND;TZID=Europe/Berlin:20230930T160000
DTSTAMP:20260421T204210Z
DTSTART;TZID=Europe/Berlin:20230930T140000
GEO:51.675715;8.998404
LOCATION:Wasserschloss Heerse - Vereinigte Museen\, Stiftsstraße  2\, Bad D
 riburg
ORGANIZER;CN=Wasserschloss Heerse - Vereinigte Museen:mailto:verwaltung@was
 serschloss-neuenheerse.com
RRULE:FREQ=WEEKLY;UNTIL=20231216T150000;BYDAY=SA
SEQUENCE:0
SUMMARY:Öffentliche Führung im Wasserschloss Heerse
UID:e_100424381_iv4
URL:http://pages.destination.one/de/teutonavigator/streaming/detail/Event/e
 _100424381/ffentliche-f-hrung-im-wasserschloss-heerse
END:VEVENT
BEGIN:VEVENT
CATEGORIES:Ausstellung
CATEGORIES:Führung/Besichtigung
DESCRIPTION:Öffentliche Führung im Wasserschloss St. Hubertus-Heerse\n\nmeh
 r Informationen unter http://pages.destination.one/de/teutonavigator/strea
 ming/detail/Event/e_100424381/ffentliche-f-hrung-im-wasserschloss-heerse
DTEND;TZID=Europe/Berlin:20240113T160000
DTSTAMP:20260421T204210Z
DTSTART;TZID=Europe/Berlin:20240113T140000
GEO:51.675715;8.998404
LOCATION:Wasserschloss Heerse - Vereinigte Museen\, Stiftsstraße  2\, Bad D
 riburg
ORGANIZER;CN=Wasserschloss Heerse - Vereinigte Museen:mailto:verwaltung@was
 serschloss-neuenheerse.com
RRULE:FREQ=WEEKLY;UNTIL=20240223T140000;BYDAY=SA
SEQUENCE:0
SUMMARY:Öffentliche Führung im Wasserschloss Heerse
UID:e_100424381_iv5
URL:http://pages.destination.one/de/teutonavigator/streaming/detail/Event/e
 _100424381/ffentliche-f-hrung-im-wasserschloss-heerse
END:VEVENT
BEGIN:VEVENT
CATEGORIES:Ausstellung
CATEGORIES:Führung/Besichtigung
DESCRIPTION:Öffentliche Führung im Wasserschloss St. Hubertus-Heerse\n\nmeh
 r Informationen unter http://pages.destination.one/de/teutonavigator/strea
 ming/detail/Event/e_100424381/ffentliche-f-hrung-im-wasserschloss-heerse
DTEND;TZID=Europe/Berlin:20240224T160000
DTSTAMP:20260421T204210Z
DTSTART;TZID=Europe/Berlin:20240224T140000
GEO:51.675715;8.998404
LOCATION:Wasserschloss Heerse - Vereinigte Museen\, Stiftsstraße  2\, Bad D
 riburg
ORGANIZER;CN=Wasserschloss Heerse - Vereinigte Museen:mailto:verwaltung@was
 serschloss-neuenheerse.com
RRULE:FREQ=WEEKLY;UNTIL=20240628T120000;BYDAY=SA
SEQUENCE:0
SUMMARY:Öffentliche Führung im Wasserschloss Heerse
UID:e_100424381_iv6
URL:http://pages.destination.one/de/teutonavigator/streaming/detail/Event/e
 _100424381/ffentliche-f-hrung-im-wasserschloss-heerse
END:VEVENT
BEGIN:VEVENT
CATEGORIES:Ausstellung
CATEGORIES:Führung/Besichtigung
DESCRIPTION:Öffentliche Führung im Wasserschloss St. Hubertus-Heerse\n\nmeh
 r Informationen unter http://pages.destination.one/de/teutonavigator/strea
 ming/detail/Event/e_100424381/ffentliche-f-hrung-im-wasserschloss-heerse
DTEND;TZID=Europe/Berlin:20240629T160000
DTSTAMP:20260421T204210Z
DTSTART;TZID=Europe/Berlin:20240629T140000
GEO:51.675715;8.998404
LOCATION:Wasserschloss Heerse - Vereinigte Museen\, Stiftsstraße  2\, Bad D
 riburg
ORGANIZER;CN=Wasserschloss Heerse - Vereinigte Museen:mailto:verwaltung@was
 serschloss-neuenheerse.com
RRULE:FREQ=WEEKLY;UNTIL=20241004T140000;BYDAY=SA
SEQUENCE:0
SUMMARY:Öffentliche Führung im Wasserschloss Heerse
UID:e_100424381_iv7
URL:http://pages.destination.one/de/teutonavigator/streaming/detail/Event/e
 _100424381/ffentliche-f-hrung-im-wasserschloss-heerse
END:VEVENT
BEGIN:VEVENT
CATEGORIES:Ausstellung
CATEGORIES:Führung/Besichtigung
DESCRIPTION:Öffentliche Führung im Wasserschloss St. Hubertus-Heerse\n\nmeh
 r Informationen unter http://pages.destination.one/de/teutonavigator/strea
 ming/detail/Event/e_100424381/ffentliche-f-hrung-im-wasserschloss-heerse
DTEND;TZID=Europe/Berlin:20241012T160000
DTSTAMP:20260421T204210Z
DTSTART;TZID=Europe/Berlin:20241012T140000
GEO:51.675715;8.998404
LOCATION:Wasserschloss Heerse - Vereinigte Museen\, Stiftsstraße  2\, Bad D
 riburg
ORGANIZER;CN=Wasserschloss Heerse - Vereinigte Museen:mailto:verwaltung@was
 serschloss-neuenheerse.com
RRULE:FREQ=WEEKLY;UNTIL=20241025T140000;BYDAY=SA
SEQUENCE:0
SUMMARY:Öffentliche Führung im Wasserschloss Heerse
UID:e_100424381_iv8
URL:http://pages.destination.one/de/teutonavigator/streaming/detail/Event/e
 _100424381/ffentliche-f-hrung-im-wasserschloss-heerse
END:VEVENT
BEGIN:VEVENT
CATEGORIES:Ausstellung
CATEGORIES:Führung/Besichtigung
DESCRIPTION:Öffentliche Führung im Wasserschloss St. Hubertus-Heerse\n\nmeh
 r Informationen unter http://pages.destination.one/de/teutonavigator/strea
 ming/detail/Event/e_100424381/ffentliche-f-hrung-im-wasserschloss-heerse
DTEND;TZID=Europe/Berlin:20241026T160000
DTSTAMP:20260421T204210Z
DTSTART;TZID=Europe/Berlin:20241026T140000
GEO:51.675715;8.998404
LOCATION:Wasserschloss Heerse - Vereinigte Museen\, Stiftsstraße  2\, Bad D
 riburg
ORGANIZER;CN=Wasserschloss Heerse - Vereinigte Museen:mailto:verwaltung@was
 serschloss-neuenheerse.com
RRULE:FREQ=WEEKLY;UNTIL=20241101T150000;BYDAY=SA
SEQUENCE:0
SUMMARY:Öffentliche Führung im Wasserschloss Heerse
UID:e_100424381_iv9
URL:http://pages.destination.one/de/teutonavigator/streaming/detail/Event/e
 _100424381/ffentliche-f-hrung-im-wasserschloss-heerse
END:VEVENT
BEGIN:VEVENT
CATEGORIES:Ausstellung
CATEGORIES:Führung/Besichtigung
DESCRIPTION:Öffentliche Führung im Wasserschloss St. Hubertus-Heerse\n\nmeh
 r Informationen unter http://pages.destination.one/de/teutonavigator/strea
 ming/detail/Event/e_100424381/ffentliche-f-hrung-im-wasserschloss-heerse
DTEND;TZID=Europe/Berlin:20241102T160000
DTSTAMP:20260421T204210Z
DTSTART;TZID=Europe/Berlin:20241102T140000
GEO:51.675715;8.998404
LOCATION:Wasserschloss Heerse - Vereinigte Museen\, Stiftsstraße  2\, Bad D
 riburg
ORGANIZER;CN=Wasserschloss Heerse - Vereinigte Museen:mailto:verwaltung@was
 serschloss-neuenheerse.com
RRULE:FREQ=WEEKLY;UNTIL=20241122T130000;BYDAY=SA
SEQUENCE:0
SUMMARY:Öffentliche Führung im Wasserschloss Heerse
UID:e_100424381_iv10
URL:http://pages.destination.one/de/teutonavigator/streaming/detail/Event/e
 _100424381/ffentliche-f-hrung-im-wasserschloss-heerse
END:VEVENT
BEGIN:VEVENT
CATEGORIES:Ausstellung
CATEGORIES:Führung/Besichtigung
DESCRIPTION:Öffentliche Führung im Wasserschloss St. Hubertus-Heerse\n\nmeh
 r Informationen unter http://pages.destination.one/de/teutonavigator/strea
 ming/detail/Event/e_100424381/ffentliche-f-hrung-im-wasserschloss-heerse
DTEND;TZID=Europe/Berlin:20241123T160000
DTSTAMP:20260421T204210Z
DTSTART;TZID=Europe/Berlin:20241123T140000
GEO:51.675715;8.998404
LOCATION:Wasserschloss Heerse - Vereinigte Museen\, Stiftsstraße  2\, Bad D
 riburg
ORGANIZER;CN=Wasserschloss Heerse - Vereinigte Museen:mailto:verwaltung@was
 serschloss-neuenheerse.com
RRULE:FREQ=WEEKLY;UNTIL=20241214T150000;BYDAY=SA
SEQUENCE:0
SUMMARY:Öffentliche Führung im Wasserschloss Heerse
UID:e_100424381_iv11
URL:http://pages.destination.one/de/teutonavigator/streaming/detail/Event/e
 _100424381/ffentliche-f-hrung-im-wasserschloss-heerse
END:VEVENT
BEGIN:VEVENT
CATEGORIES:Ausstellung
CATEGORIES:Führung/Besichtigung
DESCRIPTION:Öffentliche Führung im Wasserschloss St. Hubertus-Heerse\n\nmeh
 r Informationen unter http://pages.destination.one/de/teutonavigator/strea
 ming/detail/Event/e_100424381/ffentliche-f-hrung-im-wasserschloss-heerse
DTEND;TZID=Europe/Berlin:20250201T160000
DTSTAMP:20260421T204210Z
DTSTART;TZID=Europe/Berlin:20250201T140000
GEO:51.675715;8.998404
LOCATION:Wasserschloss Heerse - Vereinigte Museen\, Stiftsstraße  2\, Bad D
 riburg
ORGANIZER;CN=Wasserschloss Heerse - Vereinigte Museen:mailto:verwaltung@was
 serschloss-neuenheerse.com
RRULE:FREQ=WEEKLY;UNTIL=20251031T150000;BYDAY=SA
SEQUENCE:0
SUMMARY:Öffentliche Führung im Wasserschloss Heerse
UID:e_100424381_iv12
URL:http://pages.destination.one/de/teutonavigator/streaming/detail/Event/e
 _100424381/ffentliche-f-hrung-im-wasserschloss-heerse
END:VEVENT
BEGIN:VEVENT
CATEGORIES:Ausstellung
CATEGORIES:Führung/Besichtigung
DESCRIPTION:Öffentliche Führung im Wasserschloss St. Hubertus-Heerse\n\nmeh
 r Informationen unter http://pages.destination.one/de/teutonavigator/strea
 ming/detail/Event/e_100424381/ffentliche-f-hrung-im-wasserschloss-heerse
DTEND;TZID=Europe/Berlin:20251108T160000
DTSTAMP:20260421T204210Z
DTSTART;TZID=Europe/Berlin:20251108T140000
GEO:51.675715;8.998404
LOCATION:Wasserschloss Heerse - Vereinigte Museen\, Stiftsstraße  2\, Bad D
 riburg
ORGANIZER;CN=Wasserschloss Heerse - Vereinigte Museen:mailto:verwaltung@was
 serschloss-neuenheerse.com
RRULE:FREQ=WEEKLY;UNTIL=20251205T150000;BYDAY=SA
SEQUENCE:0
SUMMARY:Öffentliche Führung im Wasserschloss Heerse
UID:e_100424381_iv13
URL:http://pages.destination.one/de/teutonavigator/streaming/detail/Event/e
 _100424381/ffentliche-f-hrung-im-wasserschloss-heerse
END:VEVENT
BEGIN:VEVENT
CATEGORIES:Ausstellung
CATEGORIES:Führung/Besichtigung
DESCRIPTION:Öffentliche Führung im Wasserschloss St. Hubertus-Heerse\n\nmeh
 r Informationen unter http://pages.destination.one/de/teutonavigator/strea
 ming/detail/Event/e_100424381/ffentliche-f-hrung-im-wasserschloss-heerse
DTEND;TZID=Europe/Berlin:20251213T160000
DTSTAMP:20260421T204210Z
DTSTART;TZID=Europe/Berlin:20251213T140000
GEO:51.675715;8.998404
LOCATION:Wasserschloss Heerse - Vereinigte Museen\, Stiftsstraße  2\, Bad D
 riburg
ORGANIZER;CN=Wasserschloss Heerse - Vereinigte Museen:mailto:verwaltung@was
 serschloss-neuenheerse.com
RRULE:FREQ=WEEKLY;UNTIL=20251219T150000;BYDAY=SA
SEQUENCE:0
SUMMARY:Öffentliche Führung im Wasserschloss Heerse
UID:e_100424381_iv14
URL:http://pages.destination.one/de/teutonavigator/streaming/detail/Event/e
 _100424381/ffentliche-f-hrung-im-wasserschloss-heerse
END:VEVENT
BEGIN:VEVENT
CATEGORIES:Ausstellung
CATEGORIES:Führung/Besichtigung
DESCRIPTION:Öffentliche Führung im Wasserschloss St. Hubertus-Heerse\n\nmeh
 r Informationen unter http://pages.destination.one/de/teutonavigator/strea
 ming/detail/Event/e_100424381/ffentliche-f-hrung-im-wasserschloss-heerse
DTEND;TZID=Europe/Berlin:20260207T235900
DTSTAMP:20260421T204210Z
DTSTART;TZID=Europe/Berlin:20260207T140000
GEO:51.675715;8.998404
LOCATION:Wasserschloss Heerse - Vereinigte Museen\, Stiftsstraße  2\, Bad D
 riburg
ORGANIZER;CN=Wasserschloss Heerse - Vereinigte Museen:mailto:verwaltung@was
 serschloss-neuenheerse.com
RRULE:FREQ=WEEKLY;UNTIL=20261212T225900;BYDAY=SA
SEQUENCE:0
SUMMARY:Öffentliche Führung im Wasserschloss Heerse
UID:e_100424381_iv15
URL:http://pages.destination.one/de/teutonavigator/streaming/detail/Event/e
 _100424381/ffentliche-f-hrung-im-wasserschloss-heerse
END:VEVENT
BEGIN:VTIMEZONE
TZID:Europe/Berlin
X-LIC-LOCATION:Europe/Berlin
BEGIN:DAYLIGHT
DTSTART:19700329T020000
RRULE:FREQ=YEARLY;BYDAY=-1SU;BYMONTH=3
TZNAME:CEST
TZOFFSETFROM:+0100
TZOFFSETTO:+0200
END:DAYLIGHT
BEGIN:STANDARD
DTSTART:19701025T030000
RRULE:FREQ=YEARLY;BYDAY=-1SU;BYMONTH=10
TZNAME:CET
TZOFFSETFROM:+0200
TZOFFSETTO:+0100
END:STANDARD
END:VTIMEZONE
END:VCALENDAR
