BEGIN:VCALENDAR
VERSION:2.0
PRODID:-//destination.one//NONSGML destination.meta API//DE
X-WR-CALDESC:A calendar powered by destination.meta
X-WR-CALNAME:teutonavigator Kalender via destination.meta
BEGIN:VEVENT
CATEGORIES:Sonstiges
CATEGORIES:Ausstellung
DESCRIPTION:24. Nacht der Bielefelder Museen\, Galerien und Kirchen\n\nmehr
  Informationen unter http://pages.destination.one/de/teutonavigator/stream
 ing/detail/Event/e_100202804/nachtansichten-bielefeld
DTEND;TZID=Europe/Berlin:20190428T010000
DTSTAMP:20260421T181131Z
DTSTART;TZID=Europe/Berlin:20190427T180000
GEO:52.023846;8.534781
LOCATION:Bielefeld\, Wilhelmstr. 3\, Bielefeld
ORGANIZER;CN=Bielefeld Marketing GmbH:mailto:info@bielefeld-marketing.de
PRIORITY:4
SEQUENCE:0
SUMMARY:Nachtansichten Bielefeld
UID:e_100202804_iv0
URL:http://pages.destination.one/de/teutonavigator/streaming/detail/Event/e
 _100202804/nachtansichten-bielefeld
END:VEVENT
BEGIN:VEVENT
CATEGORIES:Sonstiges
CATEGORIES:Ausstellung
DESCRIPTION:24. Nacht der Bielefelder Museen\, Galerien und Kirchen\n\nmehr
  Informationen unter http://pages.destination.one/de/teutonavigator/stream
 ing/detail/Event/e_100202804/nachtansichten-bielefeld
DTEND;TZID=Europe/Berlin:20200816T010000
DTSTAMP:20260421T181131Z
DTSTART;TZID=Europe/Berlin:20200815T180000
GEO:52.023846;8.534781
LOCATION:Bielefeld\, Wilhelmstr. 3\, Bielefeld
ORGANIZER;CN=Bielefeld Marketing GmbH:mailto:info@bielefeld-marketing.de
PRIORITY:4
SEQUENCE:0
SUMMARY:Nachtansichten Bielefeld
UID:e_100202804_iv1
URL:http://pages.destination.one/de/teutonavigator/streaming/detail/Event/e
 _100202804/nachtansichten-bielefeld
END:VEVENT
BEGIN:VEVENT
CATEGORIES:Sonstiges
CATEGORIES:Ausstellung
DESCRIPTION:24. Nacht der Bielefelder Museen\, Galerien und Kirchen\n\nmehr
  Informationen unter http://pages.destination.one/de/teutonavigator/stream
 ing/detail/Event/e_100202804/nachtansichten-bielefeld
DTEND;TZID=Europe/Berlin:20260426T000000
DTSTAMP:20260421T181131Z
DTSTART;TZID=Europe/Berlin:20260425T180000
GEO:52.023846;8.534781
LOCATION:Bielefeld\, Wilhelmstr. 3\, Bielefeld
ORGANIZER;CN=Bielefeld Marketing GmbH:mailto:info@bielefeld-marketing.de
PRIORITY:4
SEQUENCE:0
SUMMARY:Nachtansichten Bielefeld
UID:e_100202804_iv2
URL:http://pages.destination.one/de/teutonavigator/streaming/detail/Event/e
 _100202804/nachtansichten-bielefeld
END:VEVENT
BEGIN:VTIMEZONE
TZID:Europe/Berlin
X-LIC-LOCATION:Europe/Berlin
BEGIN:DAYLIGHT
DTSTART:19700329T020000
RRULE:FREQ=YEARLY;BYDAY=-1SU;BYMONTH=3
TZNAME:CEST
TZOFFSETFROM:+0100
TZOFFSETTO:+0200
END:DAYLIGHT
BEGIN:STANDARD
DTSTART:19701025T030000
RRULE:FREQ=YEARLY;BYDAY=-1SU;BYMONTH=10
TZNAME:CET
TZOFFSETFROM:+0200
TZOFFSETTO:+0100
END:STANDARD
END:VTIMEZONE
END:VCALENDAR
