BEGIN:VCALENDAR
VERSION:2.0
PRODID:-//destination.one//NONSGML destination.meta API//DE
X-WR-CALDESC:A calendar powered by destination.meta
X-WR-CALNAME:teutonavigator Kalender via destination.meta
BEGIN:VEVENT
CATEGORIES:Radtour
CATEGORIES:Sport/Freizeit
DESCRIPTION:Herzlich Willkommen zur GROSSEN WESERRUNDE: mit dem Rad 350 km 
 entlang der Weser an einem Tag.\n\nmehr Informationen unter http://pages.d
 estination.one/de/teutonavigator/streaming/detail/Event/e_100011429/radmar
 athon-grosse-weserrunde
DTEND;TZID=Europe/Berlin:20180902T000000
DTSTAMP:20260421T124132Z
DTSTART;TZID=Europe/Berlin:20180901T060000
GEO:52.178390;9.072384
LOCATION:Gymnasium Ernestinum\, Paul-Erdniß-Straße 1\, Rinteln
ORGANIZER;CN=Stadtwerke Rinteln:mailto:info@stadtwerke-rinteln.de
SEQUENCE:0
SUMMARY:Radmarathon GROSSE WESERRUNDE
UID:e_100011429_iv0
URL:http://pages.destination.one/de/teutonavigator/streaming/detail/Event/e
 _100011429/radmarathon-grosse-weserrunde
END:VEVENT
BEGIN:VEVENT
CATEGORIES:Radtour
CATEGORIES:Sport/Freizeit
DESCRIPTION:Herzlich Willkommen zur GROSSEN WESERRUNDE: mit dem Rad 350 km 
 entlang der Weser an einem Tag.\n\nmehr Informationen unter http://pages.d
 estination.one/de/teutonavigator/streaming/detail/Event/e_100011429/radmar
 athon-grosse-weserrunde
DTEND;TZID=Europe/Berlin;VALUE=DATE:20190901
DTSTAMP:20260421T124132Z
DTSTART;TZID=Europe/Berlin;VALUE=DATE:20190831
GEO:52.178390;9.072384
LOCATION:Gymnasium Ernestinum\, Paul-Erdniß-Straße 1\, Rinteln
ORGANIZER;CN=Stadtwerke Rinteln:mailto:info@stadtwerke-rinteln.de
SEQUENCE:0
SUMMARY:Radmarathon GROSSE WESERRUNDE
UID:e_100011429_iv1
URL:http://pages.destination.one/de/teutonavigator/streaming/detail/Event/e
 _100011429/radmarathon-grosse-weserrunde
END:VEVENT
BEGIN:VEVENT
CATEGORIES:Radtour
CATEGORIES:Sport/Freizeit
DESCRIPTION:Herzlich Willkommen zur GROSSEN WESERRUNDE: mit dem Rad 350 km 
 entlang der Weser an einem Tag.\n\nmehr Informationen unter http://pages.d
 estination.one/de/teutonavigator/streaming/detail/Event/e_100011429/radmar
 athon-grosse-weserrunde
DTEND;TZID=Europe/Berlin;VALUE=DATE:20210829
DTSTAMP:20260421T124132Z
DTSTART;TZID=Europe/Berlin;VALUE=DATE:20210828
GEO:52.178390;9.072384
LOCATION:Gymnasium Ernestinum\, Paul-Erdniß-Straße 1\, Rinteln
ORGANIZER;CN=Stadtwerke Rinteln:mailto:info@stadtwerke-rinteln.de
SEQUENCE:0
SUMMARY:Radmarathon GROSSE WESERRUNDE
UID:e_100011429_iv2
URL:http://pages.destination.one/de/teutonavigator/streaming/detail/Event/e
 _100011429/radmarathon-grosse-weserrunde
END:VEVENT
BEGIN:VEVENT
CATEGORIES:Radtour
CATEGORIES:Sport/Freizeit
DESCRIPTION:Herzlich Willkommen zur GROSSEN WESERRUNDE: mit dem Rad 350 km 
 entlang der Weser an einem Tag.\n\nmehr Informationen unter http://pages.d
 estination.one/de/teutonavigator/streaming/detail/Event/e_100011429/radmar
 athon-grosse-weserrunde
DTEND;TZID=Europe/Berlin;VALUE=DATE:20220828
DTSTAMP:20260421T124132Z
DTSTART;TZID=Europe/Berlin;VALUE=DATE:20220827
GEO:52.178390;9.072384
LOCATION:Gymnasium Ernestinum\, Paul-Erdniß-Straße 1\, Rinteln
ORGANIZER;CN=Stadtwerke Rinteln:mailto:info@stadtwerke-rinteln.de
SEQUENCE:0
SUMMARY:Radmarathon GROSSE WESERRUNDE
UID:e_100011429_iv3
URL:http://pages.destination.one/de/teutonavigator/streaming/detail/Event/e
 _100011429/radmarathon-grosse-weserrunde
END:VEVENT
BEGIN:VEVENT
CATEGORIES:Radtour
CATEGORIES:Sport/Freizeit
DESCRIPTION:Herzlich Willkommen zur GROSSEN WESERRUNDE: mit dem Rad 350 km 
 entlang der Weser an einem Tag.\n\nmehr Informationen unter http://pages.d
 estination.one/de/teutonavigator/streaming/detail/Event/e_100011429/radmar
 athon-grosse-weserrunde
DTEND;TZID=Europe/Berlin;VALUE=DATE:20230827
DTSTAMP:20260421T124132Z
DTSTART;TZID=Europe/Berlin;VALUE=DATE:20230826
GEO:52.178390;9.072384
LOCATION:Gymnasium Ernestinum\, Paul-Erdniß-Straße 1\, Rinteln
ORGANIZER;CN=Stadtwerke Rinteln:mailto:info@stadtwerke-rinteln.de
SEQUENCE:0
SUMMARY:Radmarathon GROSSE WESERRUNDE
UID:e_100011429_iv4
URL:http://pages.destination.one/de/teutonavigator/streaming/detail/Event/e
 _100011429/radmarathon-grosse-weserrunde
END:VEVENT
BEGIN:VEVENT
CATEGORIES:Radtour
CATEGORIES:Sport/Freizeit
DESCRIPTION:Herzlich Willkommen zur GROSSEN WESERRUNDE: mit dem Rad 350 km 
 entlang der Weser an einem Tag.\n\nmehr Informationen unter http://pages.d
 estination.one/de/teutonavigator/streaming/detail/Event/e_100011429/radmar
 athon-grosse-weserrunde
DTEND;TZID=Europe/Berlin;VALUE=DATE:20240825
DTSTAMP:20260421T124132Z
DTSTART;TZID=Europe/Berlin;VALUE=DATE:20240824
GEO:52.178390;9.072384
LOCATION:Gymnasium Ernestinum\, Paul-Erdniß-Straße 1\, Rinteln
ORGANIZER;CN=Stadtwerke Rinteln:mailto:info@stadtwerke-rinteln.de
SEQUENCE:0
SUMMARY:Radmarathon GROSSE WESERRUNDE
UID:e_100011429_iv5
URL:http://pages.destination.one/de/teutonavigator/streaming/detail/Event/e
 _100011429/radmarathon-grosse-weserrunde
END:VEVENT
BEGIN:VEVENT
CATEGORIES:Radtour
CATEGORIES:Sport/Freizeit
DESCRIPTION:Herzlich Willkommen zur GROSSEN WESERRUNDE: mit dem Rad 350 km 
 entlang der Weser an einem Tag.\n\nmehr Informationen unter http://pages.d
 estination.one/de/teutonavigator/streaming/detail/Event/e_100011429/radmar
 athon-grosse-weserrunde
DTEND;TZID=Europe/Berlin:20250823T234500
DTSTAMP:20260421T124132Z
DTSTART;TZID=Europe/Berlin:20250823T050000
GEO:52.178390;9.072384
LOCATION:Gymnasium Ernestinum\, Paul-Erdniß-Straße 1\, Rinteln
ORGANIZER;CN=Stadtwerke Rinteln:mailto:info@stadtwerke-rinteln.de
SEQUENCE:0
SUMMARY:Radmarathon GROSSE WESERRUNDE
UID:e_100011429_iv6
URL:http://pages.destination.one/de/teutonavigator/streaming/detail/Event/e
 _100011429/radmarathon-grosse-weserrunde
END:VEVENT
BEGIN:VEVENT
CATEGORIES:Radtour
CATEGORIES:Sport/Freizeit
DESCRIPTION:Herzlich Willkommen zur GROSSEN WESERRUNDE: mit dem Rad 350 km 
 entlang der Weser an einem Tag.\n\nmehr Informationen unter http://pages.d
 estination.one/de/teutonavigator/streaming/detail/Event/e_100011429/radmar
 athon-grosse-weserrunde
DTEND;TZID=Europe/Berlin:20260822T234500
DTSTAMP:20260421T124132Z
DTSTART;TZID=Europe/Berlin:20260822T050000
GEO:52.178390;9.072384
LOCATION:Gymnasium Ernestinum\, Paul-Erdniß-Straße 1\, Rinteln
ORGANIZER;CN=Stadtwerke Rinteln:mailto:info@stadtwerke-rinteln.de
SEQUENCE:0
SUMMARY:Radmarathon GROSSE WESERRUNDE
UID:e_100011429_iv7
URL:http://pages.destination.one/de/teutonavigator/streaming/detail/Event/e
 _100011429/radmarathon-grosse-weserrunde
END:VEVENT
BEGIN:VTIMEZONE
TZID:Europe/Berlin
X-LIC-LOCATION:Europe/Berlin
BEGIN:DAYLIGHT
DTSTART:19700329T020000
RRULE:FREQ=YEARLY;BYDAY=-1SU;BYMONTH=3
TZNAME:CEST
TZOFFSETFROM:+0100
TZOFFSETTO:+0200
END:DAYLIGHT
BEGIN:STANDARD
DTSTART:19701025T030000
RRULE:FREQ=YEARLY;BYDAY=-1SU;BYMONTH=10
TZNAME:CET
TZOFFSETFROM:+0200
TZOFFSETTO:+0100
END:STANDARD
END:VTIMEZONE
END:VCALENDAR
