BEGIN:VCALENDAR
VERSION:2.0
PRODID:-//destination.one//NONSGML destination.meta API//DE
X-WR-CALDESC:A calendar powered by destination.meta
X-WR-CALNAME:paderborner-land Kalender via destination.meta
BEGIN:VEVENT
CATEGORIES:Flohmarkt
DESCRIPTION:\n\nmehr Informationen unter http://pages.destination.one/de/pa
 derborner-land/streaming/detail/Event/e_101040325/flohmarkt-mit-flair
DTEND;TZID=Europe/Berlin;VALUE=DATE:20250512
DTSTAMP:20260422T163236Z
DTSTART;TZID=Europe/Berlin;VALUE=DATE:20250511
GEO:51.733601;8.489682
LOCATION:Das gastliche Dorf\, Lippstädter Straße 88\, Delbrück
ORGANIZER;CN=Flohmarkt mit Flair:http://www.flohmarktmitflair.de/
SEQUENCE:0
SUMMARY:Flohmarkt mit Flair
UID:e_101040325_iv0
URL:http://pages.destination.one/de/paderborner-land/streaming/detail/Event
 /e_101040325/flohmarkt-mit-flair
END:VEVENT
BEGIN:VEVENT
CATEGORIES:Flohmarkt
DESCRIPTION:\n\nmehr Informationen unter http://pages.destination.one/de/pa
 derborner-land/streaming/detail/Event/e_101040325/flohmarkt-mit-flair
DTEND;TZID=Europe/Berlin;VALUE=DATE:20250623
DTSTAMP:20260422T163236Z
DTSTART;TZID=Europe/Berlin;VALUE=DATE:20250622
GEO:51.733601;8.489682
LOCATION:Das gastliche Dorf\, Lippstädter Straße 88\, Delbrück
ORGANIZER;CN=Flohmarkt mit Flair:http://www.flohmarktmitflair.de/
SEQUENCE:0
SUMMARY:Flohmarkt mit Flair
UID:e_101040325_iv1
URL:http://pages.destination.one/de/paderborner-land/streaming/detail/Event
 /e_101040325/flohmarkt-mit-flair
END:VEVENT
BEGIN:VEVENT
CATEGORIES:Flohmarkt
DESCRIPTION:\n\nmehr Informationen unter http://pages.destination.one/de/pa
 derborner-land/streaming/detail/Event/e_101040325/flohmarkt-mit-flair
DTEND;TZID=Europe/Berlin;VALUE=DATE:20250818
DTSTAMP:20260422T163236Z
DTSTART;TZID=Europe/Berlin;VALUE=DATE:20250817
GEO:51.733601;8.489682
LOCATION:Das gastliche Dorf\, Lippstädter Straße 88\, Delbrück
ORGANIZER;CN=Flohmarkt mit Flair:http://www.flohmarktmitflair.de/
SEQUENCE:0
SUMMARY:Flohmarkt mit Flair
UID:e_101040325_iv2
URL:http://pages.destination.one/de/paderborner-land/streaming/detail/Event
 /e_101040325/flohmarkt-mit-flair
END:VEVENT
BEGIN:VEVENT
CATEGORIES:Flohmarkt
DESCRIPTION:\n\nmehr Informationen unter http://pages.destination.one/de/pa
 derborner-land/streaming/detail/Event/e_101040325/flohmarkt-mit-flair
DTEND;TZID=Europe/Berlin;VALUE=DATE:20251020
DTSTAMP:20260422T163236Z
DTSTART;TZID=Europe/Berlin;VALUE=DATE:20251019
GEO:51.733601;8.489682
LOCATION:Das gastliche Dorf\, Lippstädter Straße 88\, Delbrück
ORGANIZER;CN=Flohmarkt mit Flair:http://www.flohmarktmitflair.de/
SEQUENCE:0
SUMMARY:Flohmarkt mit Flair
UID:e_101040325_iv3
URL:http://pages.destination.one/de/paderborner-land/streaming/detail/Event
 /e_101040325/flohmarkt-mit-flair
END:VEVENT
BEGIN:VEVENT
CATEGORIES:Flohmarkt
DESCRIPTION:\n\nmehr Informationen unter http://pages.destination.one/de/pa
 derborner-land/streaming/detail/Event/e_101040325/flohmarkt-mit-flair
DTEND;TZID=Europe/Berlin:20260426T160000
DTSTAMP:20260422T163236Z
DTSTART;TZID=Europe/Berlin:20260426T100000
GEO:51.733601;8.489682
LOCATION:Das gastliche Dorf\, Lippstädter Straße 88\, Delbrück
ORGANIZER;CN=Flohmarkt mit Flair:http://www.flohmarktmitflair.de/
SEQUENCE:0
SUMMARY:Flohmarkt mit Flair
UID:e_101040325_iv4
URL:http://pages.destination.one/de/paderborner-land/streaming/detail/Event
 /e_101040325/flohmarkt-mit-flair
END:VEVENT
BEGIN:VEVENT
CATEGORIES:Flohmarkt
DESCRIPTION:\n\nmehr Informationen unter http://pages.destination.one/de/pa
 derborner-land/streaming/detail/Event/e_101040325/flohmarkt-mit-flair
DTEND;TZID=Europe/Berlin:20260621T160000
DTSTAMP:20260422T163236Z
DTSTART;TZID=Europe/Berlin:20260621T100000
GEO:51.733601;8.489682
LOCATION:Das gastliche Dorf\, Lippstädter Straße 88\, Delbrück
ORGANIZER;CN=Flohmarkt mit Flair:http://www.flohmarktmitflair.de/
SEQUENCE:0
SUMMARY:Flohmarkt mit Flair
UID:e_101040325_iv5
URL:http://pages.destination.one/de/paderborner-land/streaming/detail/Event
 /e_101040325/flohmarkt-mit-flair
END:VEVENT
BEGIN:VEVENT
CATEGORIES:Flohmarkt
DESCRIPTION:\n\nmehr Informationen unter http://pages.destination.one/de/pa
 derborner-land/streaming/detail/Event/e_101040325/flohmarkt-mit-flair
DTEND;TZID=Europe/Berlin:20260802T160000
DTSTAMP:20260422T163236Z
DTSTART;TZID=Europe/Berlin:20260802T100000
GEO:51.733601;8.489682
LOCATION:Das gastliche Dorf\, Lippstädter Straße 88\, Delbrück
ORGANIZER;CN=Flohmarkt mit Flair:http://www.flohmarktmitflair.de/
SEQUENCE:0
SUMMARY:Flohmarkt mit Flair
UID:e_101040325_iv6
URL:http://pages.destination.one/de/paderborner-land/streaming/detail/Event
 /e_101040325/flohmarkt-mit-flair
END:VEVENT
BEGIN:VEVENT
CATEGORIES:Flohmarkt
DESCRIPTION:\n\nmehr Informationen unter http://pages.destination.one/de/pa
 derborner-land/streaming/detail/Event/e_101040325/flohmarkt-mit-flair
DTEND;TZID=Europe/Berlin:20260927T160000
DTSTAMP:20260422T163236Z
DTSTART;TZID=Europe/Berlin:20260927T100000
GEO:51.733601;8.489682
LOCATION:Das gastliche Dorf\, Lippstädter Straße 88\, Delbrück
ORGANIZER;CN=Flohmarkt mit Flair:http://www.flohmarktmitflair.de/
SEQUENCE:0
SUMMARY:Flohmarkt mit Flair
UID:e_101040325_iv7
URL:http://pages.destination.one/de/paderborner-land/streaming/detail/Event
 /e_101040325/flohmarkt-mit-flair
END:VEVENT
BEGIN:VTIMEZONE
TZID:Europe/Berlin
X-LIC-LOCATION:Europe/Berlin
BEGIN:DAYLIGHT
DTSTART:19700329T020000
RRULE:FREQ=YEARLY;BYDAY=-1SU;BYMONTH=3
TZNAME:CEST
TZOFFSETFROM:+0100
TZOFFSETTO:+0200
END:DAYLIGHT
BEGIN:STANDARD
DTSTART:19701025T030000
RRULE:FREQ=YEARLY;BYDAY=-1SU;BYMONTH=10
TZNAME:CET
TZOFFSETFROM:+0200
TZOFFSETTO:+0100
END:STANDARD
END:VTIMEZONE
END:VCALENDAR
